Workbook
Name fn_1: 'Oracle implicit'!$H$14

Sheet Лист1
I2: varbinary | J2: char | K2: decimal | L2: number | M2: string | N2: uuid | P2: varbinary | Q2: char | R2: decimal | S2: number | T2: string | U2: uuid
B3: =RANDBETWEEN(0,3) -> 2 | C3: =RANDBETWEEN(0,3) -> 3 | D3: =RANDBETWEEN(0,3) -> 3 | E3: =RANDBETWEEN(0,3) -> 1 | F3: =RANDBETWEEN(0,3) -> 1 | G3: =RANDBETWEEN(0,3) -> 3 | I3: =RANDBETWEEN(0,3) -> 0 | J3: =RANDBETWEEN(0,3) -> 0 | K3: =RANDBETWEEN(0,3) -> 3 | L3: =RANDBETWEEN(0,3) -> 2 | M3: =RANDBETWEEN(0,3) -> 0 | N3: =RANDBETWEEN(0,3) -> 2 | P3: =RANDBETWEEN(0,3) -> 1 | Q3: =RANDBETWEEN(0,3) -> 0 | R3: =RANDBETWEEN(0,3) -> 0 | S3: =RANDBETWEEN(0,3) -> 3 | T3: =RANDBETWEEN(0,3) -> 0 | U3: =RANDBETWEEN(0,3) -> 3
B4: =RANDBETWEEN(0,3) -> 1 | C4: =RANDBETWEEN(0,3) -> 1 | D4: =RANDBETWEEN(0,3) -> 1 | E4: =RANDBETWEEN(0,3) -> 3 | F4: =RANDBETWEEN(0,3) -> 2 | G4: =RANDBETWEEN(0,3) -> 3 | I4: =RANDBETWEEN(0,3) -> 0 | J4: =RANDBETWEEN(0,3) -> 1 | K4: =RANDBETWEEN(0,3) -> 0 | L4: =RANDBETWEEN(0,3) -> 2 | M4: =RANDBETWEEN(0,3) -> 2 | N4: =RANDBETWEEN(0,3) -> 1 | P4: =RANDBETWEEN(0,3) -> 0 | Q4: =RANDBETWEEN(0,3) -> 2 | R4: =RANDBETWEEN(0,3) -> 3 | S4: =RANDBETWEEN(0,3) -> 3 | T4: =RANDBETWEEN(0,3) -> 0 | U4: =RANDBETWEEN(0,3) -> 2
B5: =RANDBETWEEN(0,3) -> 0 | C5: =RANDBETWEEN(0,3) -> 1 | D5: =RANDBETWEEN(0,3) -> 1 | E5: =RANDBETWEEN(0,3) -> 2 | F5: =RANDBETWEEN(0,3) -> 1 | G5: =RANDBETWEEN(0,3) -> 3 | I5: =RANDBETWEEN(0,3) -> 0 | J5: =RANDBETWEEN(0,3) -> 0 | K5: =RANDBETWEEN(0,3) -> 3 | L5: =RANDBETWEEN(0,3) -> 0 | M5: =RANDBETWEEN(0,3) -> 0 | N5: =RANDBETWEEN(0,3) -> 0 | P5: =RANDBETWEEN(0,3) -> 3 | Q5: =RANDBETWEEN(0,3) -> 2 | R5: =RANDBETWEEN(0,3) -> 3 | S5: =RANDBETWEEN(0,3) -> 2 | T5: =RANDBETWEEN(0,3) -> 2 | U5: =RANDBETWEEN(0,3) -> 1
B6: =RANDBETWEEN(0,3) -> 0 | C6: =RANDBETWEEN(0,3) -> 3 | D6: =RANDBETWEEN(0,3) -> 2 | E6: =RANDBETWEEN(0,3) -> 0 | F6: =RANDBETWEEN(0,3) -> 1 | G6: =RANDBETWEEN(0,3) -> 3 | I6: =RANDBETWEEN(0,3) -> 0 | J6: =RANDBETWEEN(0,3) -> 2 | K6: =RANDBETWEEN(0,3) -> 3 | L6: =RANDBETWEEN(0,3) -> 2 | M6: =RANDBETWEEN(0,3) -> 1 | N6: =RANDBETWEEN(0,3) -> 2 | P6: =RANDBETWEEN(0,3) -> 2 | Q6: =RANDBETWEEN(0,3) -> 2 | R6: =RANDBETWEEN(0,3) -> 2 | S6: =RANDBETWEEN(0,3) -> 1 | T6: =RANDBETWEEN(0,3) -> 2 | U6: =RANDBETWEEN(0,3) -> 3
B7: =RANDBETWEEN(0,3) -> 0 | C7: =RANDBETWEEN(0,3) -> 0 | D7: =RANDBETWEEN(0,3) -> 2 | E7: =RANDBETWEEN(0,3) -> 2 | F7: =RANDBETWEEN(0,3) -> 0 | G7: =RANDBETWEEN(0,3) -> 2 | I7: =RANDBETWEEN(0,3) -> 3 | J7: =RANDBETWEEN(0,3) -> 3 | K7: =RANDBETWEEN(0,3) -> 3 | L7: =RANDBETWEEN(0,3) -> 2 | M7: =RANDBETWEEN(0,3) -> 3 | N7: =RANDBETWEEN(0,3) -> 2 | P7: =RANDBETWEEN(0,3) -> 0 | Q7: =RANDBETWEEN(0,3) -> 0 | R7: =RANDBETWEEN(0,3) -> 0 | S7: =RANDBETWEEN(0,3) -> 2 | T7: =RANDBETWEEN(0,3) -> 2 | U7: =RANDBETWEEN(0,3) -> 0
B8: =RANDBETWEEN(0,3) -> 2 | C8: =RANDBETWEEN(0,3) -> 2 | D8: =RANDBETWEEN(0,3) -> 1 | E8: =RANDBETWEEN(0,3) -> 2 | F8: =RANDBETWEEN(0,3) -> 1 | G8: =RANDBETWEEN(0,3) -> 0 | I8: =RANDBETWEEN(0,3) -> 1 | J8: =RANDBETWEEN(0,3) -> 2 | K8: =RANDBETWEEN(0,3) -> 0 | L8: =RANDBETWEEN(0,3) -> 1 | M8: =RANDBETWEEN(0,3) -> 3 | N8: =RANDBETWEEN(0,3) -> 0 | P8: =RANDBETWEEN(0,3) -> 3 | Q8: =RANDBETWEEN(0,3) -> 2 | R8: =RANDBETWEEN(0,3) -> 1 | S8: =RANDBETWEEN(0,3) -> 2 | T8: =RANDBETWEEN(0,3) -> 1 | U8: =RANDBETWEEN(0,3) -> 1
B9: =RANDBETWEEN(0,3) -> 2 | C9: =RANDBETWEEN(0,3) -> 2 | D9: =RANDBETWEEN(0,3) -> 1 | E9: =RANDBETWEEN(0,3) -> 1 | F9: =RANDBETWEEN(0,3) -> 0 | G9: =RANDBETWEEN(0,3) -> 0 | I9: =RANDBETWEEN(0,3) -> 2 | J9: =RANDBETWEEN(0,3) -> 1 | K9: =RANDBETWEEN(0,3) -> 2 | L9: =RANDBETWEEN(0,3) -> 0 | M9: =RANDBETWEEN(0,3) -> 1 | N9: =RANDBETWEEN(0,3) -> 0 | P9: =RANDBETWEEN(0,3) -> 1 | Q9: =RANDBETWEEN(0,3) -> 0 | R9: =RANDBETWEEN(0,3) -> 3 | S9: =RANDBETWEEN(0,3) -> 0 | T9: =RANDBETWEEN(0,3) -> 0 | U9: =RANDBETWEEN(0,3) -> 2
B10: =RANDBETWEEN(0,3) -> 0 | C10: =RANDBETWEEN(0,3) -> 0 | D10: =RANDBETWEEN(0,3) -> 0 | E10: =RANDBETWEEN(0,3) -> 1 | F10: =RANDBETWEEN(0,3) -> 3 | G10: =RANDBETWEEN(0,3) -> 3 | I10: =RANDBETWEEN(0,3) -> 1 | J10: =RANDBETWEEN(0,3) -> 2 | K10: =RANDBETWEEN(0,3) -> 2 | L10: =RANDBETWEEN(0,3) -> 0 | M10: =RANDBETWEEN(0,3) -> 1 | N10: =RANDBETWEEN(0,3) -> 2 | P10: =RANDBETWEEN(0,3) -> 1 | Q10: =RANDBETWEEN(0,3) -> 0 | R10: =RANDBETWEEN(0,3) -> 3 | S10: =RANDBETWEEN(0,3) -> 0 | T10: =RANDBETWEEN(0,3) -> 2 | U10: =RANDBETWEEN(0,3) -> 1
B11: =RANDBETWEEN(0,3) -> 3 | C11: =RANDBETWEEN(0,3) -> 3 | D11: =RANDBETWEEN(0,3) -> 3 | E11: =RANDBETWEEN(0,3) -> 2 | F11: =RANDBETWEEN(0,3) -> 1 | G11: =RANDBETWEEN(0,3) -> 1 | I11: =RANDBETWEEN(0,3) -> 0 | J11: =RANDBETWEEN(0,3) -> 3 | K11: =RANDBETWEEN(0,3) -> 1 | L11: =RANDBETWEEN(0,3) -> 3 | M11: =RANDBETWEEN(0,3) -> 3 | N11: =RANDBETWEEN(0,3) -> 0 | P11: =RANDBETWEEN(0,3) -> 1 | Q11: =RANDBETWEEN(0,3) -> 2 | R11: =RANDBETWEEN(0,3) -> 1 | S11: =RANDBETWEEN(0,3) -> 3 | T11: =RANDBETWEEN(0,3) -> 1 | U11: =RANDBETWEEN(0,3) -> 2
B12: =RANDBETWEEN(0,3) -> 2 | C12: =RANDBETWEEN(0,3) -> 2 | D12: =RANDBETWEEN(0,3) -> 1 | E12: =RANDBETWEEN(0,3) -> 1 | F12: =RANDBETWEEN(0,3) -> 0 | G12: =RANDBETWEEN(0,3) -> 1 | I12: =RANDBETWEEN(0,3) -> 2 | J12: =RANDBETWEEN(0,3) -> 2 | K12: =RANDBETWEEN(0,3) -> 2 | L12: =RANDBETWEEN(0,3) -> 3 | M12: =RANDBETWEEN(0,3) -> 1 | N12: =RANDBETWEEN(0,3) -> 2 | P12: =RANDBETWEEN(0,3) -> 1 | Q12: =RANDBETWEEN(0,3) -> 3 | R12: =RANDBETWEEN(0,3) -> 1 | S12: =RANDBETWEEN(0,3) -> 3 | T12: =RANDBETWEEN(0,3) -> 0 | U12: =RANDBETWEEN(0,3) -> 2
B13: =RANDBETWEEN(0,3) -> 1 | C13: =RANDBETWEEN(0,3) -> 0 | D13: =RANDBETWEEN(0,3) -> 0 | E13: =RANDBETWEEN(0,3) -> 1 | F13: =RANDBETWEEN(0,3) -> 0 | G13: =RANDBETWEEN(0,3) -> 0 | I13: =RANDBETWEEN(0,3) -> 3 | J13: =RANDBETWEEN(0,3) -> 2 | K13: =RANDBETWEEN(0,3) -> 0 | L13: =RANDBETWEEN(0,3) -> 2 | M13: =RANDBETWEEN(0,3) -> 0 | N13: =RANDBETWEEN(0,3) -> 3 | P13: =RANDBETWEEN(0,3) -> 3 | Q13: =RANDBETWEEN(0,3) -> 2 | R13: =RANDBETWEEN(0,3) -> 2 | S13: =RANDBETWEEN(0,3) -> 0 | T13: =RANDBETWEEN(0,3) -> 3 | U13: =RANDBETWEEN(0,3) -> 1
B14: =RANDBETWEEN(0,3) -> 3 | C14: =RANDBETWEEN(0,3) -> 1 | D14: =RANDBETWEEN(0,3) -> 2 | E14: =RANDBETWEEN(0,3) -> 1 | F14: =RANDBETWEEN(0,3) -> 3 | G14: =RANDBETWEEN(0,3) -> 1 | I14: =RANDBETWEEN(0,3) -> 2 | J14: =RANDBETWEEN(0,3) -> 0 | K14: =RANDBETWEEN(0,3) -> 3 | L14: =RANDBETWEEN(0,3) -> 3 | M14: =RANDBETWEEN(0,3) -> 0 | N14: =RANDBETWEEN(0,3) -> 3 | P14: =RANDBETWEEN(0,3) -> 1 | Q14: =RANDBETWEEN(0,3) -> 2 | R14: =RANDBETWEEN(0,3) -> 0 | S14: =RANDBETWEEN(0,3) -> 1 | T14: =RANDBETWEEN(0,3) -> 3 | U14: =RANDBETWEEN(0,3) -> 2
... B22: =RANDBETWEEN(0,3) -> 3 | C22: =RANDBETWEEN(0,3) -> 3 | D22: =RANDBETWEEN(0,3) -> 0 | E22: =RANDBETWEEN(0,3) -> 1 | F22: =RANDBETWEEN(0,3) -> 3 | G22: =RANDBETWEEN(0,3) -> 1 | I22: =RANDBETWEEN(0,3) -> 3 | J22: =RANDBETWEEN(0,3) -> 0 | K22: =RANDBETWEEN(0,3) -> 0 | L22: =RANDBETWEEN(0,3) -> 2 | M22: =RANDBETWEEN(0,3) -> 2 | N22: =RANDBETWEEN(0,3) -> 1 | P22: =RANDBETWEEN(0,3) -> 2 | Q22: =RANDBETWEEN(0,3) -> 2 | R22: =RANDBETWEEN(0,3) -> 1 | S22: =RANDBETWEEN(0,3) -> 0 | T22: =RANDBETWEEN(0,3) -> 2 | U22: =RANDBETWEEN(0,3) -> 2
B24: 1
B25: 2
B26: 3 | E26: =B14 -> 3 | F26: =C14 -> 1 | G26: =D14 -> 2 | H26: =E14 -> 1 | I26: =F14 -> 3 | J26: =G14 -> 1
B27: 4 | E27: =B15 -> 1 | F27: =C15 -> 3 | G27: =D15 -> 0 | H27: =E15 -> 3 | I27: =F15 -> 3 | J27: =G15 -> 3
B28: 5 | E28: =B16 -> 1 | F28: =C16 -> 0 | G28: =D16 -> 0 | H28: =E16 -> 0 | I28: =F16 -> 0 | J28: =G16 -> 1
B29: 6 | E29: =B17 -> 0 | F29: =C17 -> 2 | G29: =D17 -> 3 | H29: =E17 -> 0 | I29: =F17 -> 2 | J29: =G17 -> 0
B30: 7 | E30: =B18 -> 0 | F30: =C18 -> 0 | G30: =D18 -> 2 | H30: =E18 -> 3 | I30: =F18 -> 3 | J30: =G18 -> 3
B31: 8 | E31: =B19 -> 0 | F31: =C19 -> 2 | G31: =D19 -> 2 | H31: =E19 -> 3 | I31: =F19 -> 3 | J31: =G19 -> 1
B32: 9 | E32: =B20 -> 1 | F32: =C20 -> 1 | G32: =D20 -> 0 | H32: =E20 -> 0 | I32: =F20 -> 1 | J32: =G20 -> 1
B33: a | E33: =B21 -> 0 | F33: =C21 -> 2 | G33: =D21 -> 1 | H33: =E21 -> 3 | I33: =F21 -> 0 | J33: =G21 -> 1
B34: b | E34: =B22 -> 3 | F34: =C22 -> 3 | G34: =D22 -> 0 | H34: =E22 -> 1 | I34: =F22 -> 3 | J34: =G22 -> 1
B35: c
B36: d
B37: e
B38: f
B39: g
B40: h
B41: i
B42: j
B43: k
B44: x
B45: y
B46: z
B47: l

Sheet lua types - luajit types
B2: LJ_TFALSE | C2: (~1u) | D2: Boolean | E2: False | K2: 0 | L2: LUA_TNIL | N2: nil | P2: LJ_TNIL | Q2: (~0u) | R2: nil
B3: LJ_TTRUE | C3: (~2u) | D3: Boolean | E3: True | K3: 1 | L3: LUA_TBOOLEAN | N3: False | P3: LJ_TFALSE | Q3: (~1u) | R3: boolean
B4: LJ_TLIGHTUD | C4: (~3u) | N4: True | P4: LJ_TTRUE | Q4: (~2u) | R4: boolean
B5: LJ_TSTR | C5: (~4u) | D5: string | E5: “string” | K5: 2 | L5: LUA_TLIGHTUSERDATA | P5: LJ_TLIGHTUD | Q5: (~3u) | R5: light userdata
B6: LJ_TUPVAL | C6: (~5u) | D6: userdata | E6: debug.upvalueid(pairs, 1) | K6: 4 | L6: LUA_TSTRING | N6: “string” | P6: LJ_TSTR | Q6: (~4u) | R6: string
B7: LJ_TTHREAD | C7: (~6u) | D7: thread | E7: coroutine.create(function() end)) | N7: debug.upvalueid(pairs, 1) | P7: LJ_TUPVAL | Q7: (~5u) | R7: userdata
B8: LJ_TPROTO | C8: (~7u) | K8: 8 | L8: LUA_TTHREAD | N8: coroutine.create(function() end)) | P8: LJ_TTHREAD | Q8: (~6u) | R8: thread
B9: LJ_TFUNC | C9: (~8u) | D9: function | E9: function() end | K9: 9 | L9: LUA_TPROTO | P9: LJ_TPROTO | Q9: (~7u)
B10: LJ_TTRACE | C10: (~9u) | K10: 6 | L10: LUA_TFUNCTION | N10: function() end | P10: LJ_TFUNC | Q10: (~8u) | R10: function
B11: LJ_TTAB | C11: (~11u) | D11: table | E11: {} | K11: 10 | L11: LUA_TCDATA | N11: 1ULL | P11: LJ_TCDATA | Q11: (~10u) | R11: cdata
B12: LJ_TUDATA | C12: (~12u) | D12: userdata | E12: io.stdout | K12: 5 | L12: LUA_TTABLE | N12: {} | P12: LJ_TTAB | Q12: (~11u) | R12: table
B13: LJ_TNUMX | C13: (~13u) | D13: number | E13: 3.14 | K13: 7 | L13: LUA_TUSERDATA | N13: io.stdout | P13: LJ_TUDATA | Q13: (~12u) | R13: userdata
K14: 3 | L14: LUA_TNUMBER | N14: 3.14 | P14: LJ_TNUMX | Q14: (~13u) | R14: number
B15: LUA_TNIL | C15: 0 | D15: Nil | E15: Nil
B16: LUA_TBOOLEAN | C16: 1 | D16: boolean | E16: true, false
B17: LUA_TLIGHTUSERDATA | C17: 2
B18: LUA_TNUMBER | C18: 3 | D18: number | E18: 3.14
B19: LUA_TSTRING | C19: 4 | D19: string | E19: “string”
B20: LUA_TTABLE | C20: 5 | D20: table | E20: {}
B21: LUA_TFUNCTION | C21: 6 | D21: function | E21: function() end
B22: LUA_TUSERDATA | C22: 7 | D22: userdata | E22: io.stdout
B23: LUA_TTHREAD | C23: 8 | E23: coroutine.create(function() end))
B24: LUA_TPROTO | C24: 9
B25: LUA_TCDATA | C25: 10

Sheet filed type - messagepack type
C2: MP_NIL | D2: MP_UINT | E2: MP_INT | F2: MP_STR | G2: MP_BIN | H2: MP_ARRAY | I2: MP_MAP | J2: MP_BOOL | K2: MP_FLOAT | L2: MP_DOUBLE | M2: MP_EXT | N2: MP_DECIMAL | O2: MP_UUID
A3: FIELD_TYPE_ANY | B3: any | C3: -2 | D3: 1 | E3: 1 | F3: 1 | G3: 1 | H3: 1 | I3: 1 | J3: 1 | K3: 1 | L3: 1 | N3: 1 | O3: 1
A4: FIELD_TYPE_UNSIGNED | B4: unsigned | C4: -1 | D4: 1
A5: FIELD_TYPE_STRING | B5: string | C5: -1 | F5: 1
A6: FIELD_TYPE_NUMBER | B6: number | C6: -1 | D6: 1 | E6: 1 | K6: 1 | L6: 1 | N6: 1
A7: FIELD_TYPE_DOUBLE | B7: double | C7: -1 | L7: 1
A8: FIELD_TYPE_INTEGER | B8: integer | C8: -1 | D8: 1 | E8: 1
A9: FIELD_TYPE_BOOLEAN | B9: boolean | C9: -1 | J9: 1
A10: FIELD_TYPE_VARBINARY | B10: varbinary | C10: -1 | G10: 1
A11: FIELD_TYPE_SCALAR | B11: scalar | C11: -1 | D11: 1 | E11: 1 | F11: 1 | G11: 1 | J11: 1 | K11: 1 | L11: 1 | N11: 1 | O11: 1
A12: FIELD_TYPE_DECIMAL | B12: decimal | C12: -1 | N12: 1
A13: FIELD_TYPE_UUID | B13: uuid | C13: -1 | O13: 1
A14: FIELD_TYPE_ARRAY | B14: array | C14: -1 | H14: 1
A15: FIELD_TYPE_MAP | B15: map | C15: -1 | I15: 1
D17: 1 | E17: possible variant of encoding (future)
D18: 1 | E18: possible variant of encoding
D19: -1 | E19: if field is nullable
A21: Basic mp-types | C21: MP_NIL | D21: MP_UINT | E21: MP_INT | F21: MP_STR | G21: MP_BIN | H21: MP_ARRAY | I21: MP_MAP | J21: MP_BOOL | K21: MP_FLOAT | L21: MP_DOUBLE | M21: MP_EXT | N21: MP_DECIMAL | O21: MP_UUID
A22: MP_NIL
A23: MP_UINT
A24: MP_INT
A25: MP_STR
A26: MP_BIN
A27: MP_ARRAY
A28: MP_MAP
A29: MP_BOOL
A30: MP_FLOAT
A31: MP_DOUBLE
A32: MP_EXT
A33: Extended mp-types
... A37: MP_ERROR

Sheet BOX vs SQL (2)
F3: bit
F4: bit varying
B5: FIELD_TYPE_ANY | C5: any | F5: boolean
B6: FIELD_TYPE_UNSIGNED | C6: unsigned | F6: char
B7: FIELD_TYPE_STRING | C7: string | F7: character varying
B8: FIELD_TYPE_NUMBER | C8: number | F8: character
B9: FIELD_TYPE_DOUBLE | C9: double | F9: varchar
B10: FIELD_TYPE_INTEGER | C10: integer | F10: smallint
B11: FIELD_TYPE_BOOLEAN | C11: boolean | F11: integer
B12: FIELD_TYPE_VARBINARY | C12: varbinary | F12: bigint
B13: FIELD_TYPE_SCALAR | C13: scalar | F13: numeric
B14: FIELD_TYPE_DECIMAL | C14: decimal | F14: decimal
B15: FIELD_TYPE_UUID | C15: uuid | F15: real
B16: FIELD_TYPE_ARRAY | C16: array | F16: double precision
B17: FIELD_TYPE_MAP | C17: map | F17: date
F18: time
F19: timestamp
F20: interval
F21: xml

Sheet BOX vs SQL
G3: bit
G4: bit varying
B5: FIELD_TYPE_ANY | C5: 0 | D5: any | G5: boolean
B6: FIELD_TYPE_UNSIGNED | C6: 1 | D6: unsigned | G6: char
B7: FIELD_TYPE_STRING | C7: 2 | D7: string | G7: character varying
B8: FIELD_TYPE_NUMBER | C8: 3 | D8: number | G8: character | I8: MEM_Null | J8: 0x0001 | K8: NULL
B9: FIELD_TYPE_DOUBLE | C9: 4 | D9: double | G9: varchar | I9: MEM_Str | J9: 0x0002 | K9: string
B10: FIELD_TYPE_INTEGER | C10: 5 | D10: integer | G10: smallint | I10: MEM_Int | J10: 0x0004 | K10: integer
B11: FIELD_TYPE_BOOLEAN | C11: 6 | D11: boolean | G11: integer | I11: MEM_Real | J11: 0x0008 | K11: real number
B12: FIELD_TYPE_VARBINARY | C12: 7 | D12: varbinary | G12: bigint | I12: MEM_Blob | J12: 0x0010 | K12: BLOB
B13: FIELD_TYPE_SCALAR | C13: 8 | D13: scalar | G13: numeric | I13: MEM_Bool | J13: 0x0020 | K13: bool
B14: FIELD_TYPE_DECIMAL | C14: 9 | D14: decimal | G14: decimal | I14: MEM_UInt | J14: 0x0040 | K14: unsigned integer
B15: FIELD_TYPE_UUID | C15: 10 | D15: uuid | G15: real | I15: MEM_Frame | J15: 0x0080 | K15: VdbeFrame object
B16: FIELD_TYPE_ARRAY | C16: 11 | D16: array | G16: double precision | I16: MEM_Undefined | J16: 0x0100 | K16: undefined
B17: FIELD_TYPE_MAP | C17: 12 | D17: map | G17: date | I17: MEM_Cleared | J17: 0x0200 | K17: OP_Null, not from data
G18: time
G19: timestamp
G20: interval
G21: xml

Sheet TNT Explicit
C2: any | D2: unsigned | E2: string | F2: double | G2: integer | H2: boolean | I2: varbinary | J2: number | K2: decimal | L2: uuid | M2: date | N2: time | O2: timestamp | P2: interval | Q2: array | R2: map | S2: scalar | Y2: =C2 -> any | Z2: =D2 -> unsigned | AA2: =E2 -> string | AB2: =F2 -> double | AC2: =G2 -> integer | AD2: =H2 -> boolean | AE2: =I2 -> varbinary | AF2: =J2 -> number | ... AO2: =S2 -> scalar
B3: any | C3: Y | D3: S | E3: Y | F3: S | G3: S | H3: S | I3: S | J3: S | K3: S | L3: S | M3: S | N3: S | O3: S | P3: S | Q3: S | R3: S | S3: S | X3: =B3 -> any | Y3: =IF(C3="Y",1,IF(C3="S",0,-1)) -> 1 | Z3: =IF(D3="Y",1,IF(D3="S",0,-1)) -> 0 | AA3: =IF(E3="Y",1,IF(E3="S",0,-1)) -> 1 | AB3: =IF(F3="Y",1,IF(F3="S",0,-1)) -> 0 | AC3: =IF(G3="Y",1,IF(G3="S",0,-1)) -> 0 | AD3: =IF(H3="Y",1,IF(H3="S",0,-1)) -> 0 | AE3: =IF(I3="Y",1,IF(I3="S",0,-1)) -> 0 | AF3: =IF(J3="Y",1,IF(J3="S",0,-1)) -> 0 | ... AO3: =IF(S3="Y",1,IF(S3="S",0,-1)) -> 0
B4: unsigned | C4: Y | D4: Y | E4: Y | F4: Y | G4: Y | J4: Y | K4: Y | M4: Y | N4: Y | O4: Y | P4: Y | S4: Y | X4: =B4 -> unsigned | Y4: =IF(C4="Y",1,IF(C4="S",0,-1)) -> 1 | Z4: =IF(D4="Y",1,IF(D4="S",0,-1)) -> 1 | AA4: =IF(E4="Y",1,IF(E4="S",0,-1)) -> 1 | AB4: =IF(F4="Y",1,IF(F4="S",0,-1)) -> 1 | AC4: =IF(G4="Y",1,IF(G4="S",0,-1)) -> 1 | AD4: =IF(H4="Y",1,IF(H4="S",0,-1)) -> -1 | AE4: =IF(I4="Y",1,IF(I4="S",0,-1)) -> -1 | AF4: =IF(J4="Y",1,IF(J4="S",0,-1)) -> 1 | ... AO4: =IF(S4="Y",1,IF(S4="S",0,-1)) -> 1
B5: string | C5: Y | D5: S | E5: Y | F5: S | G5: S | H5: S | I5: Y | J5: S | K5: S | L5: S | M5: S | N5: S | O5: S | P5: S | Q5: S | R5: S | S5: Y | X5: =B5 -> string | Y5: =IF(C5="Y",1,IF(C5="S",0,-1)) -> 1 | Z5: =IF(D5="Y",1,IF(D5="S",0,-1)) -> 0 | AA5: =IF(E5="Y",1,IF(E5="S",0,-1)) -> 1 | AB5: =IF(F5="Y",1,IF(F5="S",0,-1)) -> 0 | AC5: =IF(G5="Y",1,IF(G5="S",0,-1)) -> 0 | AD5: =IF(H5="Y",1,IF(H5="S",0,-1)) -> 0 | AE5: =IF(I5="Y",1,IF(I5="S",0,-1)) -> 1 | AF5: =IF(J5="Y",1,IF(J5="S",0,-1)) -> 0 | ... AO5: =IF(S5="Y",1,IF(S5="S",0,-1)) -> 1
B6: double | C6: Y | D6: S | E6: Y | F6: Y | G6: S | J6: Y | K6: Y | M6: Y | N6: Y | O6: Y | P6: Y | S6: Y | X6: =B6 -> double | Y6: =IF(C6="Y",1,IF(C6="S",0,-1)) -> 1 | Z6: =IF(D6="Y",1,IF(D6="S",0,-1)) -> 0 | AA6: =IF(E6="Y",1,IF(E6="S",0,-1)) -> 1 | AB6: =IF(F6="Y",1,IF(F6="S",0,-1)) -> 1 | AC6: =IF(G6="Y",1,IF(G6="S",0,-1)) -> 0 | AD6: =IF(H6="Y",1,IF(H6="S",0,-1)) -> -1 | AE6: =IF(I6="Y",1,IF(I6="S",0,-1)) -> -1 | AF6: =IF(J6="Y",1,IF(J6="S",0,-1)) -> 1 | ... AO6: =IF(S6="Y",1,IF(S6="S",0,-1)) -> 1
B7: integer | C7: Y | D7: S | E7: Y | F7: Y | G7: Y | J7: Y | K7: Y | M7: Y | N7: Y | O7: Y | P7: Y | S7: Y | X7: =B7 -> integer | Y7: =IF(C7="Y",1,IF(C7="S",0,-1)) -> 1 | Z7: =IF(D7="Y",1,IF(D7="S",0,-1)) -> 0 | AA7: =IF(E7="Y",1,IF(E7="S",0,-1)) -> 1 | AB7: =IF(F7="Y",1,IF(F7="S",0,-1)) -> 1 | AC7: =IF(G7="Y",1,IF(G7="S",0,-1)) -> 1 | AD7: =IF(H7="Y",1,IF(H7="S",0,-1)) -> -1 | AE7: =IF(I7="Y",1,IF(I7="S",0,-1)) -> -1 | AF7: =IF(J7="Y",1,IF(J7="S",0,-1)) -> 1 | ... AO7: =IF(S7="Y",1,IF(S7="S",0,-1)) -> 1
B8: boolean | C8: Y | E8: Y | H8: Y | S8: Y | X8: =B8 -> boolean | Y8: =IF(C8="Y",1,IF(C8="S",0,-1)) -> 1 | Z8: =IF(D8="Y",1,IF(D8="S",0,-1)) -> -1 | AA8: =IF(E8="Y",1,IF(E8="S",0,-1)) -> 1 | AB8: =IF(F8="Y",1,IF(F8="S",0,-1)) -> -1 | AC8: =IF(G8="Y",1,IF(G8="S",0,-1)) -> -1 | AD8: =IF(H8="Y",1,IF(H8="S",0,-1)) -> 1 | AE8: =IF(I8="Y",1,IF(I8="S",0,-1)) -> -1 | AF8: =IF(J8="Y",1,IF(J8="S",0,-1)) -> -1 | ... AO8: =IF(S8="Y",1,IF(S8="S",0,-1)) -> 1
B9: varbinary | C9: Y | E9: Y | F9: N | I9: Y | L9: S | S9: Y | X9: =B9 -> varbinary | Y9: =IF(C9="Y",1,IF(C9="S",0,-1)) -> 1 | Z9: =IF(D9="Y",1,IF(D9="S",0,-1)) -> -1 | AA9: =IF(E9="Y",1,IF(E9="S",0,-1)) -> 1 | AB9: =IF(F9="Y",1,IF(F9="S",0,-1)) -> -1 | AC9: =IF(G9="Y",1,IF(G9="S",0,-1)) -> -1 | AD9: =IF(H9="Y",1,IF(H9="S",0,-1)) -> -1 | AE9: =IF(I9="Y",1,IF(I9="S",0,-1)) -> 1 | AF9: =IF(J9="Y",1,IF(J9="S",0,-1)) -> -1 | ... AO9: =IF(S9="Y",1,IF(S9="S",0,-1)) -> 1
B10: number | C10: Y | D10: S | E10: Y | F10: Y | G10: S | J10: Y | K10: Y | M10: Y | N10: Y | O10: Y | P10: Y | S10: Y | X10: =B10 -> number | Y10: =IF(C10="Y",1,IF(C10="S",0,-1)) -> 1 | Z10: =IF(D10="Y",1,IF(D10="S",0,-1)) -> 0 | AA10: =IF(E10="Y",1,IF(E10="S",0,-1)) -> 1 | AB10: =IF(F10="Y",1,IF(F10="S",0,-1)) -> 1 | AC10: =IF(G10="Y",1,IF(G10="S",0,-1)) -> 0 | AD10: =IF(H10="Y",1,IF(H10="S",0,-1)) -> -1 | AE10: =IF(I10="Y",1,IF(I10="S",0,-1)) -> -1 | AF10: =IF(J10="Y",1,IF(J10="S",0,-1)) -> 1 | ... AO10: =IF(S10="Y",1,IF(S10="S",0,-1)) -> 1
B11: decimal | C11: Y | D11: S | E11: Y | F11: S | G11: S | J11: Y | K11: Y | M11: Y | N11: Y | O11: Y | P11: Y | S11: Y | X11: =B11 -> decimal | Y11: =IF(C11="Y",1,IF(C11="S",0,-1)) -> 1 | Z11: =IF(D11="Y",1,IF(D11="S",0,-1)) -> 0 | AA11: =IF(E11="Y",1,IF(E11="S",0,-1)) -> 1 | AB11: =IF(F11="Y",1,IF(F11="S",0,-1)) -> 0 | AC11: =IF(G11="Y",1,IF(G11="S",0,-1)) -> 0 | AD11: =IF(H11="Y",1,IF(H11="S",0,-1)) -> -1 | AE11: =IF(I11="Y",1,IF(I11="S",0,-1)) -> -1 | AF11: =IF(J11="Y",1,IF(J11="S",0,-1)) -> 1 | ... AO11: =IF(S11="Y",1,IF(S11="S",0,-1)) -> 1
B12: uuid | C12: Y | E12: Y | I12: Y | L12: Y | S12: Y | X12: =B12 -> uuid | Y12: =IF(C12="Y",1,IF(C12="S",0,-1)) -> 1 | Z12: =IF(D12="Y",1,IF(D12="S",0,-1)) -> -1 | AA12: =IF(E12="Y",1,IF(E12="S",0,-1)) -> 1 | AB12: =IF(F12="Y",1,IF(F12="S",0,-1)) -> -1 | AC12: =IF(G12="Y",1,IF(G12="S",0,-1)) -> -1 | AD12: =IF(H12="Y",1,IF(H12="S",0,-1)) -> -1 | AE12: =IF(I12="Y",1,IF(I12="S",0,-1)) -> 1 | AF12: =IF(J12="Y",1,IF(J12="S",0,-1)) -> -1 | ... AO12: =IF(S12="Y",1,IF(S12="S",0,-1)) -> 1
B13: date | C13: Y | D13: Y | E13: Y | F13: Y | G13: Y | J13: Y | K13: Y | M13: Y | O13: Y | S13: Y | X13: =B13 -> date | Y13: =IF(C13="Y",1,IF(C13="S",0,-1)) -> 1 | Z13: =IF(D13="Y",1,IF(D13="S",0,-1)) -> 1 | AA13: =IF(E13="Y",1,IF(E13="S",0,-1)) -> 1 | AB13: =IF(F13="Y",1,IF(F13="S",0,-1)) -> 1 | AC13: =IF(G13="Y",1,IF(G13="S",0,-1)) -> 1 | AD13: =IF(H13="Y",1,IF(H13="S",0,-1)) -> -1 | AE13: =IF(I13="Y",1,IF(I13="S",0,-1)) -> -1 | AF13: =IF(J13="Y",1,IF(J13="S",0,-1)) -> 1 | ... AO13: =IF(S13="Y",1,IF(S13="S",0,-1)) -> 1
B14: time | C14: Y | D14: Y | E14: Y | F14: Y | G14: Y | J14: Y | K14: Y | N14: Y | O14: Y | S14: Y | X14: =B14 -> time | Y14: =IF(C14="Y",1,IF(C14="S",0,-1)) -> 1 | Z14: =IF(D14="Y",1,IF(D14="S",0,-1)) -> 1 | AA14: =IF(E14="Y",1,IF(E14="S",0,-1)) -> 1 | AB14: =IF(F14="Y",1,IF(F14="S",0,-1)) -> 1 | AC14: =IF(G14="Y",1,IF(G14="S",0,-1)) -> 1 | AD14: =IF(H14="Y",1,IF(H14="S",0,-1)) -> -1 | AE14: =IF(I14="Y",1,IF(I14="S",0,-1)) -> -1 | AF14: =IF(J14="Y",1,IF(J14="S",0,-1)) -> 1 | ... AO14: =IF(S14="Y",1,IF(S14="S",0,-1)) -> 1
B15: timestamp | C15: Y | D15: Y | E15: Y | F15: Y | G15: Y | J15: Y | K15: Y | M15: Y | N15: Y | O15: Y | S15: Y | X15: =B15 -> timestamp | Y15: =IF(C15="Y",1,IF(C15="S",0,-1)) -> 1 | Z15: =IF(D15="Y",1,IF(D15="S",0,-1)) -> 1 | AA15: =IF(E15="Y",1,IF(E15="S",0,-1)) -> 1 | AB15: =IF(F15="Y",1,IF(F15="S",0,-1)) -> 1 | AC15: =IF(G15="Y",1,IF(G15="S",0,-1)) -> 1 | AD15: =IF(H15="Y",1,IF(H15="S",0,-1)) -> -1 | AE15: =IF(I15="Y",1,IF(I15="S",0,-1)) -> -1 | AF15: =IF(J15="Y",1,IF(J15="S",0,-1)) -> 1 | ... AO15: =IF(S15="Y",1,IF(S15="S",0,-1)) -> 1
B16: interval | C16: Y | D16: Y | E16: Y | F16: Y | G16: Y | J16: Y | K16: Y | O16: Y | P16: Y | S16: Y | X16: =B16 -> interval | Y16: =IF(C16="Y",1,IF(C16="S",0,-1)) -> 1 | Z16: =IF(D16="Y",1,IF(D16="S",0,-1)) -> 1 | AA16: =IF(E16="Y",1,IF(E16="S",0,-1)) -> 1 | AB16: =IF(F16="Y",1,IF(F16="S",0,-1)) -> 1 | AC16: =IF(G16="Y",1,IF(G16="S",0,-1)) -> 1 | AD16: =IF(H16="Y",1,IF(H16="S",0,-1)) -> -1 | AE16: =IF(I16="Y",1,IF(I16="S",0,-1)) -> -1 | AF16: =IF(J16="Y",1,IF(J16="S",0,-1)) -> 1 | ... AO16: =IF(S16="Y",1,IF(S16="S",0,-1)) -> 1
B17: array | C17: Y | D17: N | E17: Y | F17: N | G17: N | H17: N | Q17: Y | S17: N | X17: =B17 -> array | Y17: =IF(C17="Y",1,IF(C17="S",0,-1)) -> 1 | Z17: =IF(D17="Y",1,IF(D17="S",0,-1)) -> -1 | AA17: =IF(E17="Y",1,IF(E17="S",0,-1)) -> 1 | AB17: =IF(F17="Y",1,IF(F17="S",0,-1)) -> -1 | AC17: =IF(G17="Y",1,IF(G17="S",0,-1)) -> -1 | AD17: =IF(H17="Y",1,IF(H17="S",0,-1)) -> -1 | AE17: =IF(I17="Y",1,IF(I17="S",0,-1)) -> -1 | AF17: =IF(J17="Y",1,IF(J17="S",0,-1)) -> -1 | ... AO17: =IF(S17="Y",1,IF(S17="S",0,-1)) -> -1
B18: map | C18: Y | D18: N | E18: Y | F18: N | G18: N | H18: N | R18: Y | S18: N | X18: =B18 -> map | Y18: =IF(C18="Y",1,IF(C18="S",0,-1)) -> 1 | Z18: =IF(D18="Y",1,IF(D18="S",0,-1)) -> -1 | AA18: =IF(E18="Y",1,IF(E18="S",0,-1)) -> 1 | AB18: =IF(F18="Y",1,IF(F18="S",0,-1)) -> -1 | AC18: =IF(G18="Y",1,IF(G18="S",0,-1)) -> -1 | AD18: =IF(H18="Y",1,IF(H18="S",0,-1)) -> -1 | AE18: =IF(I18="Y",1,IF(I18="S",0,-1)) -> -1 | AF18: =IF(J18="Y",1,IF(J18="S",0,-1)) -> -1 | ... AO18: =IF(S18="Y",1,IF(S18="S",0,-1)) -> -1
B19: scalar | C19: Y | D19: S | E19: Y | F19: S | G19: S | H19: S | I19: S | J19: S | K19: S | L19: S | M19: S | N19: S | O19: S | P19: S | S19: Y | X19: =B19 -> scalar | Y19: =IF(C19="Y",1,IF(C19="S",0,-1)) -> 1 | Z19: =IF(D19="Y",1,IF(D19="S",0,-1)) -> 0 | AA19: =IF(E19="Y",1,IF(E19="S",0,-1)) -> 1 | AB19: =IF(F19="Y",1,IF(F19="S",0,-1)) -> 0 | AC19: =IF(G19="Y",1,IF(G19="S",0,-1)) -> 0 | AD19: =IF(H19="Y",1,IF(H19="S",0,-1)) -> 0 | AE19: =IF(I19="Y",1,IF(I19="S",0,-1)) -> 0 | AF19: =IF(J19="Y",1,IF(J19="S",0,-1)) -> 0 | ... AO19: =IF(S19="Y",1,IF(S19="S",0,-1)) -> 1
C21: 0 - allowed | Y21: 1 | Z21: allowed converstion
C22: =-1 - _xludf.error -> #NAME? | Y22: 0 | Z22: conditional conversion
C23: 1 - sometimes | Z23: prohibited conversion
Y42: =C2 -> any | Z42: =D2 -> unsigned | AA42: =E2 -> string | AB42: =F2 -> double | AC42: =G2 -> integer | AD42: =H2 -> boolean | AE42: =I2 -> varbinary | AF42: =J2 -> number | AG42: =Q2 -> array | AH42: =R2 -> map | AI42: =S2 -> scalar
X43: =B3 -> any | Y43: =IF(C3="Y",1,IF(C3="S",0,-1)) -> 1 | Z43: =IF(D3="Y",1,IF(D3="S",0,-1)) -> 0 | AA43: =IF(E3="Y",1,IF(E3="S",0,-1)) -> 1 | AB43: =IF(F3="Y",1,IF(F3="S",0,-1)) -> 0 | AC43: =IF(G3="Y",1,IF(G3="S",0,-1)) -> 0 | AD43: =IF(H3="Y",1,IF(H3="S",0,-1)) -> 0 | AE43: =IF(I3="Y",1,IF(I3="S",0,-1)) -> 0 | AF43: =IF(J3="Y",1,IF(J3="S",0,-1)) -> 0 | AG43: =IF(Q3="Y",1,IF(Q3="S",0,-1)) -> 0 | AH43: =IF(R3="Y",1,IF(R3="S",0,-1)) -> 0 | AI43: =IF(S3="Y",1,IF(S3="S",0,-1)) -> 0
X44: =B4 -> unsigned | Y44: =IF(C4="Y",1,IF(C4="S",0,-1)) -> 1 | Z44: =IF(D4="Y",1,IF(D4="S",0,-1)) -> 1 | AA44: =IF(E4="Y",1,IF(E4="S",0,-1)) -> 1 | AB44: =IF(F4="Y",1,IF(F4="S",0,-1)) -> 1 | AC44: =IF(G4="Y",1,IF(G4="S",0,-1)) -> 1 | AD44: =IF(H4="Y",1,IF(H4="S",0,-1)) -> -1 | AE44: =IF(I4="Y",1,IF(I4="S",0,-1)) -> -1 | AF44: =IF(J4="Y",1,IF(J4="S",0,-1)) -> 1 | AG44: =IF(Q4="Y",1,IF(Q4="S",0,-1)) -> -1 | AH44: =IF(R4="Y",1,IF(R4="S",0,-1)) -> -1 | AI44: =IF(S4="Y",1,IF(S4="S",0,-1)) -> 1
X45: =B5 -> string | Y45: =IF(C5="Y",1,IF(C5="S",0,-1)) -> 1 | Z45: =IF(D5="Y",1,IF(D5="S",0,-1)) -> 0 | AA45: =IF(E5="Y",1,IF(E5="S",0,-1)) -> 1 | AB45: =IF(F5="Y",1,IF(F5="S",0,-1)) -> 0 | AC45: =IF(G5="Y",1,IF(G5="S",0,-1)) -> 0 | AD45: =IF(H5="Y",1,IF(H5="S",0,-1)) -> 0 | AE45: =IF(I5="Y",1,IF(I5="S",0,-1)) -> 1 | AF45: =IF(J5="Y",1,IF(J5="S",0,-1)) -> 0 | AG45: =IF(Q5="Y",1,IF(Q5="S",0,-1)) -> 0 | AH45: =IF(R5="Y",1,IF(R5="S",0,-1)) -> 0 | AI45: =IF(S5="Y",1,IF(S5="S",0,-1)) -> 1
X46: =B6 -> double | Y46: =IF(C6="Y",1,IF(C6="S",0,-1)) -> 1 | Z46: =IF(D6="Y",1,IF(D6="S",0,-1)) -> 0 | AA46: =IF(E6="Y",1,IF(E6="S",0,-1)) -> 1 | AB46: =IF(F6="Y",1,IF(F6="S",0,-1)) -> 1 | AC46: =IF(G6="Y",1,IF(G6="S",0,-1)) -> 0 | AD46: =IF(H6="Y",1,IF(H6="S",0,-1)) -> -1 | AE46: =IF(I6="Y",1,IF(I6="S",0,-1)) -> -1 | AF46: =IF(J6="Y",1,IF(J6="S",0,-1)) -> 1 | AG46: =IF(Q6="Y",1,IF(Q6="S",0,-1)) -> -1 | AH46: =IF(R6="Y",1,IF(R6="S",0,-1)) -> -1 | AI46: =IF(S6="Y",1,IF(S6="S",0,-1)) -> 1
X47: =B7 -> integer | Y47: =IF(C7="Y",1,IF(C7="S",0,-1)) -> 1 | Z47: =IF(D7="Y",1,IF(D7="S",0,-1)) -> 0 | AA47: =IF(E7="Y",1,IF(E7="S",0,-1)) -> 1 | AB47: =IF(F7="Y",1,IF(F7="S",0,-1)) -> 1 | AC47: =IF(G7="Y",1,IF(G7="S",0,-1)) -> 1 | AD47: =IF(H7="Y",1,IF(H7="S",0,-1)) -> -1 | AE47: =IF(I7="Y",1,IF(I7="S",0,-1)) -> -1 | AF47: =IF(J7="Y",1,IF(J7="S",0,-1)) -> 1 | AG47: =IF(Q7="Y",1,IF(Q7="S",0,-1)) -> -1 | AH47: =IF(R7="Y",1,IF(R7="S",0,-1)) -> -1 | AI47: =IF(S7="Y",1,IF(S7="S",0,-1)) -> 1
X48: =B8 -> boolean | Y48: =IF(C8="Y",1,IF(C8="S",0,-1)) -> 1 | Z48: =IF(D8="Y",1,IF(D8="S",0,-1)) -> -1 | AA48: =IF(E8="Y",1,IF(E8="S",0,-1)) -> 1 | AB48: =IF(F8="Y",1,IF(F8="S",0,-1)) -> -1 | AC48: =IF(G8="Y",1,IF(G8="S",0,-1)) -> -1 | AD48: =IF(H8="Y",1,IF(H8="S",0,-1)) -> 1 | AE48: =IF(I8="Y",1,IF(I8="S",0,-1)) -> -1 | AF48: =IF(J8="Y",1,IF(J8="S",0,-1)) -> -1 | AG48: =IF(Q8="Y",1,IF(Q8="S",0,-1)) -> -1 | AH48: =IF(R8="Y",1,IF(R8="S",0,-1)) -> -1 | AI48: =IF(S8="Y",1,IF(S8="S",0,-1)) -> 1
X49: =B9 -> varbinary | Y49: =IF(C9="Y",1,IF(C9="S",0,-1)) -> 1 | Z49: =IF(D9="Y",1,IF(D9="S",0,-1)) -> -1 | AA49: =IF(E9="Y",1,IF(E9="S",0,-1)) -> 1 | AB49: =IF(F9="Y",1,IF(F9="S",0,-1)) -> -1 | AC49: =IF(G9="Y",1,IF(G9="S",0,-1)) -> -1 | AD49: =IF(H9="Y",1,IF(H9="S",0,-1)) -> -1 | AE49: =IF(I9="Y",1,IF(I9="S",0,-1)) -> 1 | AF49: =IF(J9="Y",1,IF(J9="S",0,-1)) -> -1 | AG49: =IF(Q9="Y",1,IF(Q9="S",0,-1)) -> -1 | AH49: =IF(R9="Y",1,IF(R9="S",0,-1)) -> -1 | AI49: =IF(S9="Y",1,IF(S9="S",0,-1)) -> 1
X50: =B10 -> number | Y50: =IF(C10="Y",1,IF(C10="S",0,-1)) -> 1 | Z50: =IF(D10="Y",1,IF(D10="S",0,-1)) -> 0 | AA50: =IF(E10="Y",1,IF(E10="S",0,-1)) -> 1 | AB50: =IF(F10="Y",1,IF(F10="S",0,-1)) -> 1 | AC50: =IF(G10="Y",1,IF(G10="S",0,-1)) -> 0 | AD50: =IF(H10="Y",1,IF(H10="S",0,-1)) -> -1 | AE50: =IF(I10="Y",1,IF(I10="S",0,-1)) -> -1 | AF50: =IF(J10="Y",1,IF(J10="S",0,-1)) -> 1 | AG50: =IF(Q10="Y",1,IF(Q10="S",0,-1)) -> -1 | AH50: =IF(R10="Y",1,IF(R10="S",0,-1)) -> -1 | AI50: =IF(S10="Y",1,IF(S10="S",0,-1)) -> 1
X51: =B17 -> array | Y51: =IF(C17="Y",1,IF(C17="S",0,-1)) -> 1 | Z51: =IF(D17="Y",1,IF(D17="S",0,-1)) -> -1 | AA51: =IF(E17="Y",1,IF(E17="S",0,-1)) -> 1 | AB51: =IF(F17="Y",1,IF(F17="S",0,-1)) -> -1 | AC51: =IF(G17="Y",1,IF(G17="S",0,-1)) -> -1 | AD51: =IF(H17="Y",1,IF(H17="S",0,-1)) -> -1 | AE51: =IF(I17="Y",1,IF(I17="S",0,-1)) -> -1 | AF51: =IF(J17="Y",1,IF(J17="S",0,-1)) -> -1 | AG51: =IF(Q17="Y",1,IF(Q17="S",0,-1)) -> 1 | AH51: =IF(R17="Y",1,IF(R17="S",0,-1)) -> -1 | AI51: =IF(S17="Y",1,IF(S17="S",0,-1)) -> -1
X52: =B18 -> map | Y52: =IF(C18="Y",1,IF(C18="S",0,-1)) -> 1 | Z52: =IF(D18="Y",1,IF(D18="S",0,-1)) -> -1 | AA52: =IF(E18="Y",1,IF(E18="S",0,-1)) -> 1 | AB52: =IF(F18="Y",1,IF(F18="S",0,-1)) -> -1 | AC52: =IF(G18="Y",1,IF(G18="S",0,-1)) -> -1 | AD52: =IF(H18="Y",1,IF(H18="S",0,-1)) -> -1 | AE52: =IF(I18="Y",1,IF(I18="S",0,-1)) -> -1 | AF52: =IF(J18="Y",1,IF(J18="S",0,-1)) -> -1 | AG52: =IF(Q18="Y",1,IF(Q18="S",0,-1)) -> -1 | AH52: =IF(R18="Y",1,IF(R18="S",0,-1)) -> 1 | AI52: =IF(S18="Y",1,IF(S18="S",0,-1)) -> -1
X53: =B19 -> scalar | Y53: =IF(C19="Y",1,IF(C19="S",0,-1)) -> 1 | Z53: =IF(D19="Y",1,IF(D19="S",0,-1)) -> 0 | AA53: =IF(E19="Y",1,IF(E19="S",0,-1)) -> 1 | AB53: =IF(F19="Y",1,IF(F19="S",0,-1)) -> 0 | AC53: =IF(G19="Y",1,IF(G19="S",0,-1)) -> 0 | AD53: =IF(H19="Y",1,IF(H19="S",0,-1)) -> 0 | AE53: =IF(I19="Y",1,IF(I19="S",0,-1)) -> 0 | AF53: =IF(J19="Y",1,IF(J19="S",0,-1)) -> 0 | AG53: =IF(Q19="Y",1,IF(Q19="S",0,-1)) -> -1 | AH53: =IF(R19="Y",1,IF(R19="S",0,-1)) -> -1 | AI53: =IF(S19="Y",1,IF(S19="S",0,-1)) -> 1
Y55: 1 | Z55: allowed converstion
Y56: 0 | Z56: conditional conversion
Z57: prohibited conversion

Sheet TNT Implicit today (old)
D3: any | E3: unsigned | F3: string | G3: double | H3: integer | I3: boolean | J3: varbinary | K3: number | L3: array | M3: map | N3: scalar | S3: =D3 -> any | T3: =E3 -> unsigned | U3: =F3 -> string | V3: =G3 -> double | W3: =H3 -> integer | X3: =I3 -> boolean | Y3: =J3 -> varbinary | Z3: =K3 -> number | ... AC3: =N3 -> scalar
C4: any | D4: Y | E4: S | F4: S | G4: S | H4: S | I4: S | J4: S | K4: S | L4: S | M4: S | N4: S | R4: =C4 -> any | S4: =IF(D4="Y",1,IF(D4="S",0,-1)) -> 1 | T4: =IF(E4="Y",1,IF(E4="S",0,-1)) -> 0 | U4: =IF(F4="Y",1,IF(F4="S",0,-1)) -> 0 | V4: =IF(G4="Y",1,IF(G4="S",0,-1)) -> 0 | W4: =IF(H4="Y",1,IF(H4="S",0,-1)) -> 0 | X4: =IF(I4="Y",1,IF(I4="S",0,-1)) -> 0 | Y4: =IF(J4="Y",1,IF(J4="S",0,-1)) -> 0 | Z4: =IF(K4="Y",1,IF(K4="S",0,-1)) -> 0 | ... AC4: =IF(N4="Y",1,IF(N4="S",0,-1)) -> 0
C5: unsigned | D5: Y | E5: Y | F5: Y | G5: Y | H5: Y | K5: Y | N5: Y | R5: =C5 -> unsigned | S5: =IF(D5="Y",1,IF(D5="S",0,-1)) -> 1 | T5: =IF(E5="Y",1,IF(E5="S",0,-1)) -> 1 | U5: =IF(F5="Y",1,IF(F5="S",0,-1)) -> 1 | V5: =IF(G5="Y",1,IF(G5="S",0,-1)) -> 1 | W5: =IF(H5="Y",1,IF(H5="S",0,-1)) -> 1 | X5: =IF(I5="Y",1,IF(I5="S",0,-1)) -> -1 | Y5: =IF(J5="Y",1,IF(J5="S",0,-1)) -> -1 | Z5: =IF(K5="Y",1,IF(K5="S",0,-1)) -> 1 | ... AC5: =IF(N5="Y",1,IF(N5="S",0,-1)) -> 1
C6: string | D6: Y | E6: S | F6: Y | G6: S | H6: S | J6: Y | K6: S | N6: Y | R6: =C6 -> string | S6: =IF(D6="Y",1,IF(D6="S",0,-1)) -> 1 | T6: =IF(E6="Y",1,IF(E6="S",0,-1)) -> 0 | U6: =IF(F6="Y",1,IF(F6="S",0,-1)) -> 1 | V6: =IF(G6="Y",1,IF(G6="S",0,-1)) -> 0 | W6: =IF(H6="Y",1,IF(H6="S",0,-1)) -> 0 | X6: =IF(I6="Y",1,IF(I6="S",0,-1)) -> -1 | Y6: =IF(J6="Y",1,IF(J6="S",0,-1)) -> 1 | Z6: =IF(K6="Y",1,IF(K6="S",0,-1)) -> 0 | ... AC6: =IF(N6="Y",1,IF(N6="S",0,-1)) -> 1
C7: double | D7: Y | E7: S | F7: Y | G7: Y | H7: S | K7: Y | N7: Y | R7: =C7 -> double | S7: =IF(D7="Y",1,IF(D7="S",0,-1)) -> 1 | T7: =IF(E7="Y",1,IF(E7="S",0,-1)) -> 0 | U7: =IF(F7="Y",1,IF(F7="S",0,-1)) -> 1 | V7: =IF(G7="Y",1,IF(G7="S",0,-1)) -> 1 | W7: =IF(H7="Y",1,IF(H7="S",0,-1)) -> 0 | X7: =IF(I7="Y",1,IF(I7="S",0,-1)) -> -1 | Y7: =IF(J7="Y",1,IF(J7="S",0,-1)) -> -1 | Z7: =IF(K7="Y",1,IF(K7="S",0,-1)) -> 1 | ... AC7: =IF(N7="Y",1,IF(N7="S",0,-1)) -> 1
C8: integer | D8: Y | E8: S | F8: Y | G8: Y | H8: Y | K8: Y | N8: Y | R8: =C8 -> integer | S8: =IF(D8="Y",1,IF(D8="S",0,-1)) -> 1 | T8: =IF(E8="Y",1,IF(E8="S",0,-1)) -> 0 | U8: =IF(F8="Y",1,IF(F8="S",0,-1)) -> 1 | V8: =IF(G8="Y",1,IF(G8="S",0,-1)) -> 1 | W8: =IF(H8="Y",1,IF(H8="S",0,-1)) -> 1 | X8: =IF(I8="Y",1,IF(I8="S",0,-1)) -> -1 | Y8: =IF(J8="Y",1,IF(J8="S",0,-1)) -> -1 | Z8: =IF(K8="Y",1,IF(K8="S",0,-1)) -> 1 | ... AC8: =IF(N8="Y",1,IF(N8="S",0,-1)) -> 1
C9: boolean | D9: Y | I9: Y | N9: Y | R9: =C9 -> boolean | S9: =IF(D9="Y",1,IF(D9="S",0,-1)) -> 1 | T9: =IF(E9="Y",1,IF(E9="S",0,-1)) -> -1 | U9: =IF(F9="Y",1,IF(F9="S",0,-1)) -> -1 | V9: =IF(G9="Y",1,IF(G9="S",0,-1)) -> -1 | W9: =IF(H9="Y",1,IF(H9="S",0,-1)) -> -1 | X9: =IF(I9="Y",1,IF(I9="S",0,-1)) -> 1 | Y9: =IF(J9="Y",1,IF(J9="S",0,-1)) -> -1 | Z9: =IF(K9="Y",1,IF(K9="S",0,-1)) -> -1 | ... AC9: =IF(N9="Y",1,IF(N9="S",0,-1)) -> 1
C10: varbinary | D10: Y | F10: Y | J10: Y | N10: Y | R10: =C10 -> varbinary | S10: =IF(D10="Y",1,IF(D10="S",0,-1)) -> 1 | T10: =IF(E10="Y",1,IF(E10="S",0,-1)) -> -1 | U10: =IF(F10="Y",1,IF(F10="S",0,-1)) -> 1 | V10: =IF(G10="Y",1,IF(G10="S",0,-1)) -> -1 | W10: =IF(H10="Y",1,IF(H10="S",0,-1)) -> -1 | X10: =IF(I10="Y",1,IF(I10="S",0,-1)) -> -1 | Y10: =IF(J10="Y",1,IF(J10="S",0,-1)) -> 1 | Z10: =IF(K10="Y",1,IF(K10="S",0,-1)) -> -1 | ... AC10: =IF(N10="Y",1,IF(N10="S",0,-1)) -> 1
C11: number | D11: Y | E11: S | F11: Y | G11: Y | H11: S | K11: Y | N11: Y | R11: =C11 -> number | S11: =IF(D11="Y",1,IF(D11="S",0,-1)) -> 1 | T11: =IF(E11="Y",1,IF(E11="S",0,-1)) -> 0 | U11: =IF(F11="Y",1,IF(F11="S",0,-1)) -> 1 | V11: =IF(G11="Y",1,IF(G11="S",0,-1)) -> 1 | W11: =IF(H11="Y",1,IF(H11="S",0,-1)) -> 0 | X11: =IF(I11="Y",1,IF(I11="S",0,-1)) -> -1 | Y11: =IF(J11="Y",1,IF(J11="S",0,-1)) -> -1 | Z11: =IF(K11="Y",1,IF(K11="S",0,-1)) -> 1 | ... AC11: =IF(N11="Y",1,IF(N11="S",0,-1)) -> 1
C12: array | D12: Y | L12: Y | N12: N | R12: =C12 -> array | S12: =IF(D12="Y",1,IF(D12="S",0,-1)) -> 1 | T12: =IF(E12="Y",1,IF(E12="S",0,-1)) -> -1 | U12: =IF(F12="Y",1,IF(F12="S",0,-1)) -> -1 | V12: =IF(G12="Y",1,IF(G12="S",0,-1)) -> -1 | W12: =IF(H12="Y",1,IF(H12="S",0,-1)) -> -1 | X12: =IF(I12="Y",1,IF(I12="S",0,-1)) -> -1 | Y12: =IF(J12="Y",1,IF(J12="S",0,-1)) -> -1 | Z12: =IF(K12="Y",1,IF(K12="S",0,-1)) -> -1 | ... AC12: =IF(N12="Y",1,IF(N12="S",0,-1)) -> -1
C13: map | D13: Y | M13: Y | N13: N | R13: =C13 -> map | S13: =IF(D13="Y",1,IF(D13="S",0,-1)) -> 1 | T13: =IF(E13="Y",1,IF(E13="S",0,-1)) -> -1 | U13: =IF(F13="Y",1,IF(F13="S",0,-1)) -> -1 | V13: =IF(G13="Y",1,IF(G13="S",0,-1)) -> -1 | W13: =IF(H13="Y",1,IF(H13="S",0,-1)) -> -1 | X13: =IF(I13="Y",1,IF(I13="S",0,-1)) -> -1 | Y13: =IF(J13="Y",1,IF(J13="S",0,-1)) -> -1 | Z13: =IF(K13="Y",1,IF(K13="S",0,-1)) -> -1 | ... AC13: =IF(N13="Y",1,IF(N13="S",0,-1)) -> -1
C14: scalar | D14: Y | E14: S | F14: S | G14: S | H14: S | I14: S | J14: S | K14: S | L14: N | M14: N | N14: Y | R14: =C14 -> scalar | S14: =IF(D14="Y",1,IF(D14="S",0,-1)) -> 1 | T14: =IF(E14="Y",1,IF(E14="S",0,-1)) -> 0 | U14: =IF(F14="Y",1,IF(F14="S",0,-1)) -> 0 | V14: =IF(G14="Y",1,IF(G14="S",0,-1)) -> 0 | W14: =IF(H14="Y",1,IF(H14="S",0,-1)) -> 0 | X14: =IF(I14="Y",1,IF(I14="S",0,-1)) -> 0 | Y14: =IF(J14="Y",1,IF(J14="S",0,-1)) -> 0 | Z14: =IF(K14="Y",1,IF(K14="S",0,-1)) -> 0 | ... AC14: =IF(N14="Y",1,IF(N14="S",0,-1)) -> 1
D16: 0 - allowed | S16: 1 | T16: allowed converstion
D17: =-1 - _xludf.error -> #NAME? | S17: 0 | T17: conditional conversion
D18: 1 - sometimes | T18: prohibited conversion
H20: bitops works with int64

Sheet TNT Implicit today (refactoring
D3: any | E3: unsigned | F3: string | G3: double | H3: integer | I3: boolean | J3: varbinary | K3: number | L3: array | M3: map | N3: scalar | S3: =D3 -> any | T3: =E3 -> unsigned | U3: =F3 -> string | V3: =G3 -> double | W3: =H3 -> integer | X3: =I3 -> boolean | Y3: =J3 -> varbinary | Z3: =K3 -> number | ... AC3: =N3 -> scalar
C4: any | D4: Y | E4: S | F4: S | G4: S | H4: S | I4: S | J4: S | K4: S | R4: =C4 -> any | S4: =IF(D4="Y",1,IF(D4="S",0,-1)) -> 1 | T4: =IF(E4="Y",1,IF(E4="S",0,-1)) -> 0 | U4: =IF(F4="Y",1,IF(F4="S",0,-1)) -> 0 | V4: =IF(G4="Y",1,IF(G4="S",0,-1)) -> 0 | W4: =IF(H4="Y",1,IF(H4="S",0,-1)) -> 0 | X4: =IF(I4="Y",1,IF(I4="S",0,-1)) -> 0 | Y4: =IF(J4="Y",1,IF(J4="S",0,-1)) -> 0 | Z4: =IF(K4="Y",1,IF(K4="S",0,-1)) -> 0 | ... AC4: =IF(N4="Y",1,IF(N4="S",0,-1)) -> -1
C5: unsigned | D5: Y | E5: Y | G5: Y | H5: Y | K5: Y | N5: Y | R5: =C5 -> unsigned | S5: =IF(D5="Y",1,IF(D5="S",0,-1)) -> 1 | T5: =IF(E5="Y",1,IF(E5="S",0,-1)) -> 1 | U5: =IF(F5="Y",1,IF(F5="S",0,-1)) -> -1 | V5: =IF(G5="Y",1,IF(G5="S",0,-1)) -> 1 | W5: =IF(H5="Y",1,IF(H5="S",0,-1)) -> 1 | X5: =IF(I5="Y",1,IF(I5="S",0,-1)) -> -1 | Y5: =IF(J5="Y",1,IF(J5="S",0,-1)) -> -1 | Z5: =IF(K5="Y",1,IF(K5="S",0,-1)) -> 1 | ... AC5: =IF(N5="Y",1,IF(N5="S",0,-1)) -> 1
C6: string | D6: Y | F6: Y | N6: Y | R6: =C6 -> string | S6: =IF(D6="Y",1,IF(D6="S",0,-1)) -> 1 | T6: =IF(E6="Y",1,IF(E6="S",0,-1)) -> -1 | U6: =IF(F6="Y",1,IF(F6="S",0,-1)) -> 1 | V6: =IF(G6="Y",1,IF(G6="S",0,-1)) -> -1 | W6: =IF(H6="Y",1,IF(H6="S",0,-1)) -> -1 | X6: =IF(I6="Y",1,IF(I6="S",0,-1)) -> -1 | Y6: =IF(J6="Y",1,IF(J6="S",0,-1)) -> -1 | Z6: =IF(K6="Y",1,IF(K6="S",0,-1)) -> -1 | ... AC6: =IF(N6="Y",1,IF(N6="S",0,-1)) -> 1
C7: double | D7: Y | E7: S | G7: Y | H7: S | K7: Y | N7: Y | R7: =C7 -> double | S7: =IF(D7="Y",1,IF(D7="S",0,-1)) -> 1 | T7: =IF(E7="Y",1,IF(E7="S",0,-1)) -> 0 | U7: =IF(F7="Y",1,IF(F7="S",0,-1)) -> -1 | V7: =IF(G7="Y",1,IF(G7="S",0,-1)) -> 1 | W7: =IF(H7="Y",1,IF(H7="S",0,-1)) -> 0 | X7: =IF(I7="Y",1,IF(I7="S",0,-1)) -> -1 | Y7: =IF(J7="Y",1,IF(J7="S",0,-1)) -> -1 | Z7: =IF(K7="Y",1,IF(K7="S",0,-1)) -> 1 | ... AC7: =IF(N7="Y",1,IF(N7="S",0,-1)) -> 1
C8: integer | D8: Y | E8: S | G8: Y | H8: Y | K8: Y | N8: Y | R8: =C8 -> integer | S8: =IF(D8="Y",1,IF(D8="S",0,-1)) -> 1 | T8: =IF(E8="Y",1,IF(E8="S",0,-1)) -> 0 | U8: =IF(F8="Y",1,IF(F8="S",0,-1)) -> -1 | V8: =IF(G8="Y",1,IF(G8="S",0,-1)) -> 1 | W8: =IF(H8="Y",1,IF(H8="S",0,-1)) -> 1 | X8: =IF(I8="Y",1,IF(I8="S",0,-1)) -> -1 | Y8: =IF(J8="Y",1,IF(J8="S",0,-1)) -> -1 | Z8: =IF(K8="Y",1,IF(K8="S",0,-1)) -> 1 | ... AC8: =IF(N8="Y",1,IF(N8="S",0,-1)) -> 1
C9: boolean | D9: Y | I9: Y | N9: Y | R9: =C9 -> boolean | S9: =IF(D9="Y",1,IF(D9="S",0,-1)) -> 1 | T9: =IF(E9="Y",1,IF(E9="S",0,-1)) -> -1 | U9: =IF(F9="Y",1,IF(F9="S",0,-1)) -> -1 | V9: =IF(G9="Y",1,IF(G9="S",0,-1)) -> -1 | W9: =IF(H9="Y",1,IF(H9="S",0,-1)) -> -1 | X9: =IF(I9="Y",1,IF(I9="S",0,-1)) -> 1 | Y9: =IF(J9="Y",1,IF(J9="S",0,-1)) -> -1 | Z9: =IF(K9="Y",1,IF(K9="S",0,-1)) -> -1 | ... AC9: =IF(N9="Y",1,IF(N9="S",0,-1)) -> 1
C10: varbinary | D10: Y | J10: Y | N10: Y | R10: =C10 -> varbinary | S10: =IF(D10="Y",1,IF(D10="S",0,-1)) -> 1 | T10: =IF(E10="Y",1,IF(E10="S",0,-1)) -> -1 | U10: =IF(F10="Y",1,IF(F10="S",0,-1)) -> -1 | V10: =IF(G10="Y",1,IF(G10="S",0,-1)) -> -1 | W10: =IF(H10="Y",1,IF(H10="S",0,-1)) -> -1 | X10: =IF(I10="Y",1,IF(I10="S",0,-1)) -> -1 | Y10: =IF(J10="Y",1,IF(J10="S",0,-1)) -> 1 | Z10: =IF(K10="Y",1,IF(K10="S",0,-1)) -> -1 | ... AC10: =IF(N10="Y",1,IF(N10="S",0,-1)) -> 1
C11: number | D11: Y | E11: S | G11: Y | H11: S | K11: Y | N11: Y | R11: =C11 -> number | S11: =IF(D11="Y",1,IF(D11="S",0,-1)) -> 1 | T11: =IF(E11="Y",1,IF(E11="S",0,-1)) -> 0 | U11: =IF(F11="Y",1,IF(F11="S",0,-1)) -> -1 | V11: =IF(G11="Y",1,IF(G11="S",0,-1)) -> 1 | W11: =IF(H11="Y",1,IF(H11="S",0,-1)) -> 0 | X11: =IF(I11="Y",1,IF(I11="S",0,-1)) -> -1 | Y11: =IF(J11="Y",1,IF(J11="S",0,-1)) -> -1 | Z11: =IF(K11="Y",1,IF(K11="S",0,-1)) -> 1 | ... AC11: =IF(N11="Y",1,IF(N11="S",0,-1)) -> 1
C12: array | D12: Y | L12: Y | N12: N | R12: =C12 -> array | S12: =IF(D12="Y",1,IF(D12="S",0,-1)) -> 1 | T12: =IF(E12="Y",1,IF(E12="S",0,-1)) -> -1 | U12: =IF(F12="Y",1,IF(F12="S",0,-1)) -> -1 | V12: =IF(G12="Y",1,IF(G12="S",0,-1)) -> -1 | W12: =IF(H12="Y",1,IF(H12="S",0,-1)) -> -1 | X12: =IF(I12="Y",1,IF(I12="S",0,-1)) -> -1 | Y12: =IF(J12="Y",1,IF(J12="S",0,-1)) -> -1 | Z12: =IF(K12="Y",1,IF(K12="S",0,-1)) -> -1 | ... AC12: =IF(N12="Y",1,IF(N12="S",0,-1)) -> -1
C13: map | D13: Y | M13: Y | N13: N | R13: =C13 -> map | S13: =IF(D13="Y",1,IF(D13="S",0,-1)) -> 1 | T13: =IF(E13="Y",1,IF(E13="S",0,-1)) -> -1 | U13: =IF(F13="Y",1,IF(F13="S",0,-1)) -> -1 | V13: =IF(G13="Y",1,IF(G13="S",0,-1)) -> -1 | W13: =IF(H13="Y",1,IF(H13="S",0,-1)) -> -1 | X13: =IF(I13="Y",1,IF(I13="S",0,-1)) -> -1 | Y13: =IF(J13="Y",1,IF(J13="S",0,-1)) -> -1 | Z13: =IF(K13="Y",1,IF(K13="S",0,-1)) -> -1 | ... AC13: =IF(N13="Y",1,IF(N13="S",0,-1)) -> -1
C14: scalar | D14: Y | E14: S | F14: S | G14: S | H14: S | I14: S | J14: S | K14: S | L14: N | M14: N | N14: Y | R14: =C14 -> scalar | S14: =IF(D14="Y",1,IF(D14="S",0,-1)) -> 1 | T14: =IF(E14="Y",1,IF(E14="S",0,-1)) -> 0 | U14: =IF(F14="Y",1,IF(F14="S",0,-1)) -> 0 | V14: =IF(G14="Y",1,IF(G14="S",0,-1)) -> 0 | W14: =IF(H14="Y",1,IF(H14="S",0,-1)) -> 0 | X14: =IF(I14="Y",1,IF(I14="S",0,-1)) -> 0 | Y14: =IF(J14="Y",1,IF(J14="S",0,-1)) -> 0 | Z14: =IF(K14="Y",1,IF(K14="S",0,-1)) -> 0 | ... AC14: =IF(N14="Y",1,IF(N14="S",0,-1)) -> 1
D16: 0 - allowed | S16: 1 | T16: allowed converstion
D17: =-1 - _xludf.error -> #NAME? | S17: 0 | T17: conditional conversion
D18: 1 - sometimes | T18: prohibited conversion

Sheet TNT Implicit (extended)
D3: any | E3: unsigned | F3: string | G3: double | H3: integer | I3: boolean | J3: varbinary | K3: number | L3: decimal | M3: uuid | N3: date | O3: time | P3: timestamp | Q3: interval | R3: array | S3: map | T3: scalar | Y3: =D3 -> any | Z3: =E3 -> unsigned | AA3: =F3 -> string | AB3: =G3 -> double | AC3: =H3 -> integer | AD3: =I3 -> boolean | AE3: =J3 -> varbinary | AF3: =K3 -> number | ... AO3: =T3 -> scalar
C4: any | D4: Y | E4: S | F4: S | G4: S | H4: S | I4: S | J4: S | K4: S | L4: S | M4: S | N4: S | O4: S | P4: S | Q4: S | R4: S | S4: S | T4: S | X4: =C4 -> any | Y4: =IF(D4="Y",1,IF(D4="S",0,-1)) -> 1 | Z4: =IF(E4="Y",1,IF(E4="S",0,-1)) -> 0 | AA4: =IF(F4="Y",1,IF(F4="S",0,-1)) -> 0 | AB4: =IF(G4="Y",1,IF(G4="S",0,-1)) -> 0 | AC4: =IF(H4="Y",1,IF(H4="S",0,-1)) -> 0 | AD4: =IF(I4="Y",1,IF(I4="S",0,-1)) -> 0 | AE4: =IF(J4="Y",1,IF(J4="S",0,-1)) -> 0 | AF4: =IF(K4="Y",1,IF(K4="S",0,-1)) -> 0 | ... AO4: =IF(T4="Y",1,IF(T4="S",0,-1)) -> 0
C5: unsigned | D5: Y | E5: Y | F5: Y | G5: Y | H5: Y | K5: Y | L5: Y | T5: Y | X5: =C5 -> unsigned | Y5: =IF(D5="Y",1,IF(D5="S",0,-1)) -> 1 | Z5: =IF(E5="Y",1,IF(E5="S",0,-1)) -> 1 | AA5: =IF(F5="Y",1,IF(F5="S",0,-1)) -> 1 | AB5: =IF(G5="Y",1,IF(G5="S",0,-1)) -> 1 | AC5: =IF(H5="Y",1,IF(H5="S",0,-1)) -> 1 | AD5: =IF(I5="Y",1,IF(I5="S",0,-1)) -> -1 | AE5: =IF(J5="Y",1,IF(J5="S",0,-1)) -> -1 | AF5: =IF(K5="Y",1,IF(K5="S",0,-1)) -> 1 | ... AO5: =IF(T5="Y",1,IF(T5="S",0,-1)) -> 1
C6: string | D6: Y | E6: S | F6: Y | G6: S | H6: S | J6: Y | K6: S | L6: S | M6: S | N6: S | O6: S | P6: S | Q6: S | T6: Y | X6: =C6 -> string | Y6: =IF(D6="Y",1,IF(D6="S",0,-1)) -> 1 | Z6: =IF(E6="Y",1,IF(E6="S",0,-1)) -> 0 | AA6: =IF(F6="Y",1,IF(F6="S",0,-1)) -> 1 | AB6: =IF(G6="Y",1,IF(G6="S",0,-1)) -> 0 | AC6: =IF(H6="Y",1,IF(H6="S",0,-1)) -> 0 | AD6: =IF(I6="Y",1,IF(I6="S",0,-1)) -> -1 | AE6: =IF(J6="Y",1,IF(J6="S",0,-1)) -> 1 | AF6: =IF(K6="Y",1,IF(K6="S",0,-1)) -> 0 | ... AO6: =IF(T6="Y",1,IF(T6="S",0,-1)) -> 1
C7: double | D7: Y | E7: S | F7: Y | G7: Y | H7: S | K7: Y | L7: Y | T7: Y | X7: =C7 -> double | Y7: =IF(D7="Y",1,IF(D7="S",0,-1)) -> 1 | Z7: =IF(E7="Y",1,IF(E7="S",0,-1)) -> 0 | AA7: =IF(F7="Y",1,IF(F7="S",0,-1)) -> 1 | AB7: =IF(G7="Y",1,IF(G7="S",0,-1)) -> 1 | AC7: =IF(H7="Y",1,IF(H7="S",0,-1)) -> 0 | AD7: =IF(I7="Y",1,IF(I7="S",0,-1)) -> -1 | AE7: =IF(J7="Y",1,IF(J7="S",0,-1)) -> -1 | AF7: =IF(K7="Y",1,IF(K7="S",0,-1)) -> 1 | ... AO7: =IF(T7="Y",1,IF(T7="S",0,-1)) -> 1
C8: integer | D8: Y | E8: S | F8: Y | G8: Y | H8: Y | K8: Y | L8: Y | T8: Y | X8: =C8 -> integer | Y8: =IF(D8="Y",1,IF(D8="S",0,-1)) -> 1 | Z8: =IF(E8="Y",1,IF(E8="S",0,-1)) -> 0 | AA8: =IF(F8="Y",1,IF(F8="S",0,-1)) -> 1 | AB8: =IF(G8="Y",1,IF(G8="S",0,-1)) -> 1 | AC8: =IF(H8="Y",1,IF(H8="S",0,-1)) -> 1 | AD8: =IF(I8="Y",1,IF(I8="S",0,-1)) -> -1 | AE8: =IF(J8="Y",1,IF(J8="S",0,-1)) -> -1 | AF8: =IF(K8="Y",1,IF(K8="S",0,-1)) -> 1 | ... AO8: =IF(T8="Y",1,IF(T8="S",0,-1)) -> 1
C9: boolean | D9: Y | I9: Y | T9: Y | X9: =C9 -> boolean | Y9: =IF(D9="Y",1,IF(D9="S",0,-1)) -> 1 | Z9: =IF(E9="Y",1,IF(E9="S",0,-1)) -> -1 | AA9: =IF(F9="Y",1,IF(F9="S",0,-1)) -> -1 | AB9: =IF(G9="Y",1,IF(G9="S",0,-1)) -> -1 | AC9: =IF(H9="Y",1,IF(H9="S",0,-1)) -> -1 | AD9: =IF(I9="Y",1,IF(I9="S",0,-1)) -> 1 | AE9: =IF(J9="Y",1,IF(J9="S",0,-1)) -> -1 | AF9: =IF(K9="Y",1,IF(K9="S",0,-1)) -> -1 | ... AO9: =IF(T9="Y",1,IF(T9="S",0,-1)) -> 1
C10: varbinary | D10: Y | F10: Y | J10: Y | M10: S | T10: Y | X10: =C10 -> varbinary | Y10: =IF(D10="Y",1,IF(D10="S",0,-1)) -> 1 | Z10: =IF(E10="Y",1,IF(E10="S",0,-1)) -> -1 | AA10: =IF(F10="Y",1,IF(F10="S",0,-1)) -> 1 | AB10: =IF(G10="Y",1,IF(G10="S",0,-1)) -> -1 | AC10: =IF(H10="Y",1,IF(H10="S",0,-1)) -> -1 | AD10: =IF(I10="Y",1,IF(I10="S",0,-1)) -> -1 | AE10: =IF(J10="Y",1,IF(J10="S",0,-1)) -> 1 | AF10: =IF(K10="Y",1,IF(K10="S",0,-1)) -> -1 | ... AO10: =IF(T10="Y",1,IF(T10="S",0,-1)) -> 1
C11: number | D11: Y | E11: S | F11: Y | G11: Y | H11: S | K11: Y | L11: Y | T11: Y | X11: =C11 -> number | Y11: =IF(D11="Y",1,IF(D11="S",0,-1)) -> 1 | Z11: =IF(E11="Y",1,IF(E11="S",0,-1)) -> 0 | AA11: =IF(F11="Y",1,IF(F11="S",0,-1)) -> 1 | AB11: =IF(G11="Y",1,IF(G11="S",0,-1)) -> 1 | AC11: =IF(H11="Y",1,IF(H11="S",0,-1)) -> 0 | AD11: =IF(I11="Y",1,IF(I11="S",0,-1)) -> -1 | AE11: =IF(J11="Y",1,IF(J11="S",0,-1)) -> -1 | AF11: =IF(K11="Y",1,IF(K11="S",0,-1)) -> 1 | ... AO11: =IF(T11="Y",1,IF(T11="S",0,-1)) -> 1
C12: decimal | D12: Y | E12: S | F12: Y | G12: S | H12: S | K12: Y | L12: Y | T12: Y | X12: =C12 -> decimal | Y12: =IF(D12="Y",1,IF(D12="S",0,-1)) -> 1 | Z12: =IF(E12="Y",1,IF(E12="S",0,-1)) -> 0 | AA12: =IF(F12="Y",1,IF(F12="S",0,-1)) -> 1 | AB12: =IF(G12="Y",1,IF(G12="S",0,-1)) -> 0 | AC12: =IF(H12="Y",1,IF(H12="S",0,-1)) -> 0 | AD12: =IF(I12="Y",1,IF(I12="S",0,-1)) -> -1 | AE12: =IF(J12="Y",1,IF(J12="S",0,-1)) -> -1 | AF12: =IF(K12="Y",1,IF(K12="S",0,-1)) -> 1 | ... AO12: =IF(T12="Y",1,IF(T12="S",0,-1)) -> 1
C13: uuid | D13: Y | F13: Y | J13: Y | M13: Y | T13: Y | X13: =C13 -> uuid | Y13: =IF(D13="Y",1,IF(D13="S",0,-1)) -> 1 | Z13: =IF(E13="Y",1,IF(E13="S",0,-1)) -> -1 | AA13: =IF(F13="Y",1,IF(F13="S",0,-1)) -> 1 | AB13: =IF(G13="Y",1,IF(G13="S",0,-1)) -> -1 | AC13: =IF(H13="Y",1,IF(H13="S",0,-1)) -> -1 | AD13: =IF(I13="Y",1,IF(I13="S",0,-1)) -> -1 | AE13: =IF(J13="Y",1,IF(J13="S",0,-1)) -> 1 | AF13: =IF(K13="Y",1,IF(K13="S",0,-1)) -> -1 | ... AO13: =IF(T13="Y",1,IF(T13="S",0,-1)) -> 1
C14: date | D14: Y | F14: Y | N14: Y | P14: Y | T14: Y | X14: =C14 -> date | Y14: =IF(D14="Y",1,IF(D14="S",0,-1)) -> 1 | Z14: =IF(E14="Y",1,IF(E14="S",0,-1)) -> -1 | AA14: =IF(F14="Y",1,IF(F14="S",0,-1)) -> 1 | AB14: =IF(G14="Y",1,IF(G14="S",0,-1)) -> -1 | AC14: =IF(H14="Y",1,IF(H14="S",0,-1)) -> -1 | AD14: =IF(I14="Y",1,IF(I14="S",0,-1)) -> -1 | AE14: =IF(J14="Y",1,IF(J14="S",0,-1)) -> -1 | AF14: =IF(K14="Y",1,IF(K14="S",0,-1)) -> -1 | ... AO14: =IF(T14="Y",1,IF(T14="S",0,-1)) -> 1
C15: time | D15: Y | F15: Y | O15: Y | P15: Y | T15: Y | X15: =C15 -> time | Y15: =IF(D15="Y",1,IF(D15="S",0,-1)) -> 1 | Z15: =IF(E15="Y",1,IF(E15="S",0,-1)) -> -1 | AA15: =IF(F15="Y",1,IF(F15="S",0,-1)) -> 1 | AB15: =IF(G15="Y",1,IF(G15="S",0,-1)) -> -1 | AC15: =IF(H15="Y",1,IF(H15="S",0,-1)) -> -1 | AD15: =IF(I15="Y",1,IF(I15="S",0,-1)) -> -1 | AE15: =IF(J15="Y",1,IF(J15="S",0,-1)) -> -1 | AF15: =IF(K15="Y",1,IF(K15="S",0,-1)) -> -1 | ... AO15: =IF(T15="Y",1,IF(T15="S",0,-1)) -> 1
C16: timestamp | D16: Y | F16: Y | N16: Y | O16: Y | P16: Y | T16: Y | X16: =C16 -> timestamp | Y16: =IF(D16="Y",1,IF(D16="S",0,-1)) -> 1 | Z16: =IF(E16="Y",1,IF(E16="S",0,-1)) -> -1 | AA16: =IF(F16="Y",1,IF(F16="S",0,-1)) -> 1 | AB16: =IF(G16="Y",1,IF(G16="S",0,-1)) -> -1 | AC16: =IF(H16="Y",1,IF(H16="S",0,-1)) -> -1 | AD16: =IF(I16="Y",1,IF(I16="S",0,-1)) -> -1 | AE16: =IF(J16="Y",1,IF(J16="S",0,-1)) -> -1 | AF16: =IF(K16="Y",1,IF(K16="S",0,-1)) -> -1 | ... AO16: =IF(T16="Y",1,IF(T16="S",0,-1)) -> 1
C17: interval | D17: Y | F17: Y | Q17: Y | T17: Y | X17: =C17 -> interval | Y17: =IF(D17="Y",1,IF(D17="S",0,-1)) -> 1 | Z17: =IF(E17="Y",1,IF(E17="S",0,-1)) -> -1 | AA17: =IF(F17="Y",1,IF(F17="S",0,-1)) -> 1 | AB17: =IF(G17="Y",1,IF(G17="S",0,-1)) -> -1 | AC17: =IF(H17="Y",1,IF(H17="S",0,-1)) -> -1 | AD17: =IF(I17="Y",1,IF(I17="S",0,-1)) -> -1 | AE17: =IF(J17="Y",1,IF(J17="S",0,-1)) -> -1 | AF17: =IF(K17="Y",1,IF(K17="S",0,-1)) -> -1 | ... AO17: =IF(T17="Y",1,IF(T17="S",0,-1)) -> 1
C18: array | D18: Y | R18: Y | T18: N | X18: =C18 -> array | Y18: =IF(D18="Y",1,IF(D18="S",0,-1)) -> 1 | Z18: =IF(E18="Y",1,IF(E18="S",0,-1)) -> -1 | AA18: =IF(F18="Y",1,IF(F18="S",0,-1)) -> -1 | AB18: =IF(G18="Y",1,IF(G18="S",0,-1)) -> -1 | AC18: =IF(H18="Y",1,IF(H18="S",0,-1)) -> -1 | AD18: =IF(I18="Y",1,IF(I18="S",0,-1)) -> -1 | AE18: =IF(J18="Y",1,IF(J18="S",0,-1)) -> -1 | AF18: =IF(K18="Y",1,IF(K18="S",0,-1)) -> -1 | ... AO18: =IF(T18="Y",1,IF(T18="S",0,-1)) -> -1
C19: map | D19: Y | S19: Y | T19: N | X19: =C19 -> map | Y19: =IF(D19="Y",1,IF(D19="S",0,-1)) -> 1 | Z19: =IF(E19="Y",1,IF(E19="S",0,-1)) -> -1 | AA19: =IF(F19="Y",1,IF(F19="S",0,-1)) -> -1 | AB19: =IF(G19="Y",1,IF(G19="S",0,-1)) -> -1 | AC19: =IF(H19="Y",1,IF(H19="S",0,-1)) -> -1 | AD19: =IF(I19="Y",1,IF(I19="S",0,-1)) -> -1 | AE19: =IF(J19="Y",1,IF(J19="S",0,-1)) -> -1 | AF19: =IF(K19="Y",1,IF(K19="S",0,-1)) -> -1 | ... AO19: =IF(T19="Y",1,IF(T19="S",0,-1)) -> -1
C20: scalar | D20: Y | E20: S | F20: S | G20: S | H20: S | I20: S | J20: S | K20: S | L20: S | M20: S | N20: S | O20: S | P20: S | Q20: S | R20: N | S20: N | T20: Y | X20: =C20 -> scalar | Y20: =IF(D20="Y",1,IF(D20="S",0,-1)) -> 1 | Z20: =IF(E20="Y",1,IF(E20="S",0,-1)) -> 0 | AA20: =IF(F20="Y",1,IF(F20="S",0,-1)) -> 0 | AB20: =IF(G20="Y",1,IF(G20="S",0,-1)) -> 0 | AC20: =IF(H20="Y",1,IF(H20="S",0,-1)) -> 0 | AD20: =IF(I20="Y",1,IF(I20="S",0,-1)) -> 0 | AE20: =IF(J20="Y",1,IF(J20="S",0,-1)) -> 0 | AF20: =IF(K20="Y",1,IF(K20="S",0,-1)) -> 0 | ... AO20: =IF(T20="Y",1,IF(T20="S",0,-1)) -> 1
D22: 0 - allowed | Y22: 1 | Z22: allowed converstion
D23: =-1 - _xludf.error -> #NAME? | Y23: 0 | Z23: conditional conversion
D24: 1 - sometimes | Z24: prohibited conversion
H26: bitops works with int64
Y38: =D3 -> any | Z38: =E3 -> unsigned | AA38: =F3 -> string | AB38: =G3 -> double | AC38: =H3 -> integer | AD38: =I3 -> boolean | AE38: =J3 -> varbinary | AF38: =K3 -> number | AG38: =R3 -> array | AH38: =S3 -> map | AI38: =T3 -> scalar
X39: =C4 -> any | Y39: =IF(D4="Y",1,IF(D4="S",0,-1)) -> 1 | Z39: =IF(E4="Y",1,IF(E4="S",0,-1)) -> 0 | AA39: =IF(F4="Y",1,IF(F4="S",0,-1)) -> 0 | AB39: =IF(G4="Y",1,IF(G4="S",0,-1)) -> 0 | AC39: =IF(H4="Y",1,IF(H4="S",0,-1)) -> 0 | AD39: =IF(I4="Y",1,IF(I4="S",0,-1)) -> 0 | AE39: =IF(J4="Y",1,IF(J4="S",0,-1)) -> 0 | AF39: =IF(K4="Y",1,IF(K4="S",0,-1)) -> 0 | AG39: =IF(R4="Y",1,IF(R4="S",0,-1)) -> 0 | AH39: =IF(S4="Y",1,IF(S4="S",0,-1)) -> 0 | AI39: =IF(T4="Y",1,IF(T4="S",0,-1)) -> 0
X40: =C5 -> unsigned | Y40: =IF(D5="Y",1,IF(D5="S",0,-1)) -> 1 | Z40: =IF(E5="Y",1,IF(E5="S",0,-1)) -> 1 | AA40: =IF(F5="Y",1,IF(F5="S",0,-1)) -> 1 | AB40: =IF(G5="Y",1,IF(G5="S",0,-1)) -> 1 | AC40: =IF(H5="Y",1,IF(H5="S",0,-1)) -> 1 | AD40: =IF(I5="Y",1,IF(I5="S",0,-1)) -> -1 | AE40: =IF(J5="Y",1,IF(J5="S",0,-1)) -> -1 | AF40: =IF(K5="Y",1,IF(K5="S",0,-1)) -> 1 | AG40: =IF(R5="Y",1,IF(R5="S",0,-1)) -> -1 | AH40: =IF(S5="Y",1,IF(S5="S",0,-1)) -> -1 | AI40: =IF(T5="Y",1,IF(T5="S",0,-1)) -> 1
X41: =C6 -> string | Y41: =IF(D6="Y",1,IF(D6="S",0,-1)) -> 1 | Z41: =IF(E6="Y",1,IF(E6="S",0,-1)) -> 0 | AA41: =IF(F6="Y",1,IF(F6="S",0,-1)) -> 1 | AB41: =IF(G6="Y",1,IF(G6="S",0,-1)) -> 0 | AC41: =IF(H6="Y",1,IF(H6="S",0,-1)) -> 0 | AD41: =IF(I6="Y",1,IF(I6="S",0,-1)) -> -1 | AE41: =IF(J6="Y",1,IF(J6="S",0,-1)) -> 1 | AF41: =IF(K6="Y",1,IF(K6="S",0,-1)) -> 0 | AG41: =IF(R6="Y",1,IF(R6="S",0,-1)) -> -1 | AH41: =IF(S6="Y",1,IF(S6="S",0,-1)) -> -1 | AI41: =IF(T6="Y",1,IF(T6="S",0,-1)) -> 1
X42: =C7 -> double | Y42: =IF(D7="Y",1,IF(D7="S",0,-1)) -> 1 | Z42: =IF(E7="Y",1,IF(E7="S",0,-1)) -> 0 | AA42: =IF(F7="Y",1,IF(F7="S",0,-1)) -> 1 | AB42: =IF(G7="Y",1,IF(G7="S",0,-1)) -> 1 | AC42: =IF(H7="Y",1,IF(H7="S",0,-1)) -> 0 | AD42: =IF(I7="Y",1,IF(I7="S",0,-1)) -> -1 | AE42: =IF(J7="Y",1,IF(J7="S",0,-1)) -> -1 | AF42: =IF(K7="Y",1,IF(K7="S",0,-1)) -> 1 | AG42: =IF(R7="Y",1,IF(R7="S",0,-1)) -> -1 | AH42: =IF(S7="Y",1,IF(S7="S",0,-1)) -> -1 | AI42: =IF(T7="Y",1,IF(T7="S",0,-1)) -> 1
X43: =C8 -> integer | Y43: =IF(D8="Y",1,IF(D8="S",0,-1)) -> 1 | Z43: =IF(E8="Y",1,IF(E8="S",0,-1)) -> 0 | AA43: =IF(F8="Y",1,IF(F8="S",0,-1)) -> 1 | AB43: =IF(G8="Y",1,IF(G8="S",0,-1)) -> 1 | AC43: =IF(H8="Y",1,IF(H8="S",0,-1)) -> 1 | AD43: =IF(I8="Y",1,IF(I8="S",0,-1)) -> -1 | AE43: =IF(J8="Y",1,IF(J8="S",0,-1)) -> -1 | AF43: =IF(K8="Y",1,IF(K8="S",0,-1)) -> 1 | AG43: =IF(R8="Y",1,IF(R8="S",0,-1)) -> -1 | AH43: =IF(S8="Y",1,IF(S8="S",0,-1)) -> -1 | AI43: =IF(T8="Y",1,IF(T8="S",0,-1)) -> 1
X44: =C9 -> boolean | Y44: =IF(D9="Y",1,IF(D9="S",0,-1)) -> 1 | Z44: =IF(E9="Y",1,IF(E9="S",0,-1)) -> -1 | AA44: =IF(F9="Y",1,IF(F9="S",0,-1)) -> -1 | AB44: =IF(G9="Y",1,IF(G9="S",0,-1)) -> -1 | AC44: =IF(H9="Y",1,IF(H9="S",0,-1)) -> -1 | AD44: =IF(I9="Y",1,IF(I9="S",0,-1)) -> 1 | AE44: =IF(J9="Y",1,IF(J9="S",0,-1)) -> -1 | AF44: =IF(K9="Y",1,IF(K9="S",0,-1)) -> -1 | AG44: =IF(R9="Y",1,IF(R9="S",0,-1)) -> -1 | AH44: =IF(S9="Y",1,IF(S9="S",0,-1)) -> -1 | AI44: =IF(T9="Y",1,IF(T9="S",0,-1)) -> 1
X45: =C10 -> varbinary | Y45: =IF(D10="Y",1,IF(D10="S",0,-1)) -> 1 | Z45: =IF(E10="Y",1,IF(E10="S",0,-1)) -> -1 | AA45: =IF(F10="Y",1,IF(F10="S",0,-1)) -> 1 | AB45: =IF(G10="Y",1,IF(G10="S",0,-1)) -> -1 | AC45: =IF(H10="Y",1,IF(H10="S",0,-1)) -> -1 | AD45: =IF(I10="Y",1,IF(I10="S",0,-1)) -> -1 | AE45: =IF(J10="Y",1,IF(J10="S",0,-1)) -> 1 | AF45: =IF(K10="Y",1,IF(K10="S",0,-1)) -> -1 | AG45: =IF(R10="Y",1,IF(R10="S",0,-1)) -> -1 | AH45: =IF(S10="Y",1,IF(S10="S",0,-1)) -> -1 | AI45: =IF(T10="Y",1,IF(T10="S",0,-1)) -> 1
X46: =C11 -> number | Y46: =IF(D11="Y",1,IF(D11="S",0,-1)) -> 1 | Z46: =IF(E11="Y",1,IF(E11="S",0,-1)) -> 0 | AA46: =IF(F11="Y",1,IF(F11="S",0,-1)) -> 1 | AB46: =IF(G11="Y",1,IF(G11="S",0,-1)) -> 1 | AC46: =IF(H11="Y",1,IF(H11="S",0,-1)) -> 0 | AD46: =IF(I11="Y",1,IF(I11="S",0,-1)) -> -1 | AE46: =IF(J11="Y",1,IF(J11="S",0,-1)) -> -1 | AF46: =IF(K11="Y",1,IF(K11="S",0,-1)) -> 1 | AG46: =IF(R11="Y",1,IF(R11="S",0,-1)) -> -1 | AH46: =IF(S11="Y",1,IF(S11="S",0,-1)) -> -1 | AI46: =IF(T11="Y",1,IF(T11="S",0,-1)) -> 1
X47: =C18 -> array | Y47: =IF(D18="Y",1,IF(D18="S",0,-1)) -> 1 | Z47: =IF(E18="Y",1,IF(E18="S",0,-1)) -> -1 | AA47: =IF(F18="Y",1,IF(F18="S",0,-1)) -> -1 | AB47: =IF(G18="Y",1,IF(G18="S",0,-1)) -> -1 | AC47: =IF(H18="Y",1,IF(H18="S",0,-1)) -> -1 | AD47: =IF(I18="Y",1,IF(I18="S",0,-1)) -> -1 | AE47: =IF(J18="Y",1,IF(J18="S",0,-1)) -> -1 | AF47: =IF(K18="Y",1,IF(K18="S",0,-1)) -> -1 | AG47: =IF(R18="Y",1,IF(R18="S",0,-1)) -> 1 | AH47: =IF(S18="Y",1,IF(S18="S",0,-1)) -> -1 | AI47: =IF(T18="Y",1,IF(T18="S",0,-1)) -> -1
X48: =C19 -> map | Y48: =IF(D19="Y",1,IF(D19="S",0,-1)) -> 1 | Z48: =IF(E19="Y",1,IF(E19="S",0,-1)) -> -1 | AA48: =IF(F19="Y",1,IF(F19="S",0,-1)) -> -1 | AB48: =IF(G19="Y",1,IF(G19="S",0,-1)) -> -1 | AC48: =IF(H19="Y",1,IF(H19="S",0,-1)) -> -1 | AD48: =IF(I19="Y",1,IF(I19="S",0,-1)) -> -1 | AE48: =IF(J19="Y",1,IF(J19="S",0,-1)) -> -1 | AF48: =IF(K19="Y",1,IF(K19="S",0,-1)) -> -1 | AG48: =IF(R19="Y",1,IF(R19="S",0,-1)) -> -1 | AH48: =IF(S19="Y",1,IF(S19="S",0,-1)) -> 1 | AI48: =IF(T19="Y",1,IF(T19="S",0,-1)) -> -1
X49: =C20 -> scalar | Y49: =IF(D20="Y",1,IF(D20="S",0,-1)) -> 1 | Z49: =IF(E20="Y",1,IF(E20="S",0,-1)) -> 0 | AA49: =IF(F20="Y",1,IF(F20="S",0,-1)) -> 0 | AB49: =IF(G20="Y",1,IF(G20="S",0,-1)) -> 0 | AC49: =IF(H20="Y",1,IF(H20="S",0,-1)) -> 0 | AD49: =IF(I20="Y",1,IF(I20="S",0,-1)) -> 0 | AE49: =IF(J20="Y",1,IF(J20="S",0,-1)) -> 0 | AF49: =IF(K20="Y",1,IF(K20="S",0,-1)) -> 0 | AG49: =IF(R20="Y",1,IF(R20="S",0,-1)) -> -1 | AH49: =IF(S20="Y",1,IF(S20="S",0,-1)) -> -1 | AI49: =IF(T20="Y",1,IF(T20="S",0,-1)) -> 1
Y51: 1 | Z51: allowed converstion
Y52: 0 | Z52: sometimes
Y53: -1 | Z53: prohibited conversion

Sheet implicit casts
B1: BOOLEAN | C1: INTEGER | D1: DOUBLE | E1: STRING | F1: BINARY
A2: BOOLEAN | B2: A
A3: INTEGER | C3: A | D3: A | E3: A
A4: DOUBLE | C4: A | D4: A | E4: A
A5: STRING | C5: S | D5: S | E5: A
A6: BINARY | F6: A

Sheet mem-mp
B3: MEM_Null | C3: 0x0001 | D3: NULL
B4: MEM_Str | C4: 0x0002 | D4: string
B5: MEM_Int | C5: 0x0004 | D5: integer
B6: MEM_Real | C6: 0x0008 | D6: real number
B7: MEM_Blob | C7: 0x0010 | D7: BLOB
B8: MEM_Bool | C8: 0x0020 | D8: bool
B9: MEM_UInt | C9: 0x0040 | D9: unsigned integer
B10: MEM_Frame | C10: 0x0080 | D10: VdbeFrame object
B11: MEM_Undefined | C11: 0x0100 | D11: undefined
B12: MEM_Cleared | C12: 0x0200 | D12: OP_Null, not from data

Sheet ISO SQL (2)
D3: Exact num | E3: Float num | F3: Character | G3: Date | H3: Time | I3: Timestamp | J3: Year-Month Interval | K3: Day-Time Interval | L3: Boolean | M3: User-Defined Type | N3: Binary | O3: Reference | P3: Collection | Q3: Row
B4: Exact Numeric | C4: EN | D4: =IF(D22="Y",1,IF(D22="N"," ",-1)) -> 1 | E4: =IF(E22="Y",1,IF(E22="N"," ",-1)) -> 1 | F4: =IF(F22="Y",1,IF(F22="N"," ",-1)) -> 1 | G4: =IF(G22="Y",1,IF(G22="N"," ",-1)) | H4: =IF(H22="Y",1,IF(H22="N"," ",-1)) | I4: =IF(I22="Y",1,IF(I22="N"," ",-1)) | J4: =IF(J22="Y",1,IF(J22="N"," ",-1)) -> -1 | K4: =IF(K22="Y",1,IF(K22="N"," ",-1)) -> -1 | ... Q4: =IF(Q22="Y",1,IF(Q22="N"," ",-1))
B5: Approximate Numeric | C5: AN | D5: =IF(D23="Y",1,IF(D23="N"," ",-1)) -> 1 | E5: =IF(E23="Y",1,IF(E23="N"," ",-1)) -> 1 | F5: =IF(F23="Y",1,IF(F23="N"," ",-1)) -> 1 | G5: =IF(G23="Y",1,IF(G23="N"," ",-1)) | H5: =IF(H23="Y",1,IF(H23="N"," ",-1)) | I5: =IF(I23="Y",1,IF(I23="N"," ",-1)) | J5: =IF(J23="Y",1,IF(J23="N"," ",-1)) | K5: =IF(K23="Y",1,IF(K23="N"," ",-1)) | ... Q5: =IF(Q23="Y",1,IF(Q23="N"," ",-1))
B6: Character (Fixed-or Variable-Length, or Character Large Object) | C6: C | D6: =IF(D24="Y",1,IF(D24="N"," ",-1)) -> 1 | E6: =IF(E24="Y",1,IF(E24="N"," ",-1)) -> 1 | F6: =IF(F24="Y",1,IF(F24="N"," ",-1)) -> 1 | G6: =IF(G24="Y",1,IF(G24="N"," ",-1)) -> 1 | H6: =IF(H24="Y",1,IF(H24="N"," ",-1)) -> 1 | I6: =IF(I24="Y",1,IF(I24="N"," ",-1)) -> 1 | J6: =IF(J24="Y",1,IF(J24="N"," ",-1)) -> 1 | K6: =IF(K24="Y",1,IF(K24="N"," ",-1)) -> 1 | ... Q6: =IF(Q24="Y",1,IF(Q24="N"," ",-1))
B7: Date | C7: D | D7: =IF(D25="Y",1,IF(D25="N"," ",-1)) | E7: =IF(E25="Y",1,IF(E25="N"," ",-1)) | F7: =IF(F25="Y",1,IF(F25="N"," ",-1)) -> 1 | G7: =IF(G25="Y",1,IF(G25="N"," ",-1)) -> 1 | H7: =IF(H25="Y",1,IF(H25="N"," ",-1)) | I7: =IF(I25="Y",1,IF(I25="N"," ",-1)) -> 1 | J7: =IF(J25="Y",1,IF(J25="N"," ",-1)) | K7: =IF(K25="Y",1,IF(K25="N"," ",-1)) | ... Q7: =IF(Q25="Y",1,IF(Q25="N"," ",-1))
B8: Time | C8: T | D8: =IF(D26="Y",1,IF(D26="N"," ",-1)) | E8: =IF(E26="Y",1,IF(E26="N"," ",-1)) | F8: =IF(F26="Y",1,IF(F26="N"," ",-1)) -> 1 | G8: =IF(G26="Y",1,IF(G26="N"," ",-1)) | H8: =IF(H26="Y",1,IF(H26="N"," ",-1)) -> 1 | I8: =IF(I26="Y",1,IF(I26="N"," ",-1)) -> 1 | J8: =IF(J26="Y",1,IF(J26="N"," ",-1)) | K8: =IF(K26="Y",1,IF(K26="N"," ",-1)) | ... Q8: =IF(Q26="Y",1,IF(Q26="N"," ",-1))
B9: Timestamp | C9: TS | D9: =IF(D27="Y",1,IF(D27="N"," ",-1)) | E9: =IF(E27="Y",1,IF(E27="N"," ",-1)) | F9: =IF(F27="Y",1,IF(F27="N"," ",-1)) -> 1 | G9: =IF(G27="Y",1,IF(G27="N"," ",-1)) -> 1 | H9: =IF(H27="Y",1,IF(H27="N"," ",-1)) -> 1 | I9: =IF(I27="Y",1,IF(I27="N"," ",-1)) -> 1 | J9: =IF(J27="Y",1,IF(J27="N"," ",-1)) | K9: =IF(K27="Y",1,IF(K27="N"," ",-1)) | ... Q9: =IF(Q27="Y",1,IF(Q27="N"," ",-1))
B10: Year-Month Interval | C10: YM | D10: =IF(D28="Y",1,IF(D28="N"," ",-1)) -> -1 | E10: =IF(E28="Y",1,IF(E28="N"," ",-1)) | F10: =IF(F28="Y",1,IF(F28="N"," ",-1)) -> 1 | G10: =IF(G28="Y",1,IF(G28="N"," ",-1)) | H10: =IF(H28="Y",1,IF(H28="N"," ",-1)) | I10: =IF(I28="Y",1,IF(I28="N"," ",-1)) | J10: =IF(J28="Y",1,IF(J28="N"," ",-1)) -> 1 | K10: =IF(K28="Y",1,IF(K28="N"," ",-1)) | ... Q10: =IF(Q28="Y",1,IF(Q28="N"," ",-1))
