Workbook
Name fn_1: 'Oracle implicit'!$H$14

Sheet Лист1
I2: varbinary | J2: char | K2: decimal | L2: number | M2: string | N2: uuid | P2: varbinary | Q2: char | R2: decimal | S2: number | T2: string | U2: uuid
B3: =RANDBETWEEN(0,3) -> 2 | C3: =RANDBETWEEN(0,3) -> 3 | D3: =RANDBETWEEN(0,3) -> 3 | E3: =RANDBETWEEN(0,3) -> 1 | F3: =RANDBETWEEN(0,3) -> 1 | G3: =RANDBETWEEN(0,3) -> 3 | I3: =RANDBETWEEN(0,3) -> 0 | J3: =RANDBETWEEN(0,3) -> 0 | K3: =RANDBETWEEN(0,3) -> 3 | L3: =RANDBETWEEN(0,3) -> 2 | M3: =RANDBETWEEN(0,3) -> 0 | N3: =RANDBETWEEN(0,3) -> 2 | P3: =RANDBETWEEN(0,3) -> 1 | Q3: =RANDBETWEEN(0,3) -> 0 | R3: =RANDBETWEEN(0,3) -> 0 | S3: =RANDBETWEEN(0,3) -> 3 | T3: =RANDBETWEEN(0,3) -> 0 | U3: =RANDBETWEEN(0,3) -> 3
B4: =RANDBETWEEN(0,3) -> 1 | C4: =RANDBETWEEN(0,3) -> 1 | D4: =RANDBETWEEN(0,3) -> 1 | E4: =RANDBETWEEN(0,3) -> 3 | F4: =RANDBETWEEN(0,3) -> 2 | G4: =RANDBETWEEN(0,3) -> 3 | I4: =RANDBETWEEN(0,3) -> 0 | J4: =RANDBETWEEN(0,3) -> 1 | K4: =RANDBETWEEN(0,3) -> 0 | L4: =RANDBETWEEN(0,3) -> 2 | M4: =RANDBETWEEN(0,3) -> 2 | N4: =RANDBETWEEN(0,3) -> 1 | P4: =RANDBETWEEN(0,3) -> 0 | Q4: =RANDBETWEEN(0,3) -> 2 | R4: =RANDBETWEEN(0,3) -> 3 | S4: =RANDBETWEEN(0,3) -> 3 | T4: =RANDBETWEEN(0,3) -> 0 | U4: =RANDBETWEEN(0,3) -> 2
B5: =RANDBETWEEN(0,3) -> 0 | C5: =RANDBETWEEN(0,3) -> 1 | D5: =RANDBETWEEN(0,3) -> 1 | E5: =RANDBETWEEN(0,3) -> 2 | F5: =RANDBETWEEN(0,3) -> 1 | G5: =RANDBETWEEN(0,3) -> 3 | I5: =RANDBETWEEN(0,3) -> 0 | J5: =RANDBETWEEN(0,3) -> 0 | K5: =RANDBETWEEN(0,3) -> 3 | L5: =RANDBETWEEN(0,3) -> 0 | M5: =RANDBETWEEN(0,3) -> 0 | N5: =RANDBETWEEN(0,3) -> 0 | P5: =RANDBETWEEN(0,3) -> 3 | Q5: =RANDBETWEEN(0,3) -> 2 | R5: =RANDBETWEEN(0,3) -> 3 | S5: =RANDBETWEEN(0,3) -> 2 | T5: =RANDBETWEEN(0,3) -> 2 | U5: =RANDBETWEEN(0,3) -> 1
B6: =RANDBETWEEN(0,3) -> 0 | C6: =RANDBETWEEN(0,3) -> 3 | D6: =RANDBETWEEN(0,3) -> 2 | E6: =RANDBETWEEN(0,3) -> 0 | F6: =RANDBETWEEN(0,3) -> 1 | G6: =RANDBETWEEN(0,3) -> 3 | I6: =RANDBETWEEN(0,3) -> 0 | J6: =RANDBETWEEN(0,3) -> 2 | K6: =RANDBETWEEN(0,3) -> 3 | L6: =RANDBETWEEN(0,3) -> 2 | M6: =RANDBETWEEN(0,3) -> 1 | N6: =RANDBETWEEN(0,3) -> 2 | P6: =RANDBETWEEN(0,3) -> 2 | Q6: =RANDBETWEEN(0,3) -> 2 | R6: =RANDBETWEEN(0,3) -> 2 | S6: =RANDBETWEEN(0,3) -> 1 | T6: =RANDBETWEEN(0,3) -> 2 | U6: =RANDBETWEEN(0,3) -> 3
B7: =RANDBETWEEN(0,3) -> 0 | C7: =RANDBETWEEN(0,3) -> 0 | D7: =RANDBETWEEN(0,3) -> 2 | E7: =RANDBETWEEN(0,3) -> 2 | F7: =RANDBETWEEN(0,3) -> 0 | G7: =RANDBETWEEN(0,3) -> 2 | I7: =RANDBETWEEN(0,3) -> 3 | J7: =RANDBETWEEN(0,3) -> 3 | K7: =RANDBETWEEN(0,3) -> 3 | L7: =RANDBETWEEN(0,3) -> 2 | M7: =RANDBETWEEN(0,3) -> 3 | N7: =RANDBETWEEN(0,3) -> 2 | P7: =RANDBETWEEN(0,3) -> 0 | Q7: =RANDBETWEEN(0,3) -> 0 | R7: =RANDBETWEEN(0,3) -> 0 | S7: =RANDBETWEEN(0,3) -> 2 | T7: =RANDBETWEEN(0,3) -> 2 | U7: =RANDBETWEEN(0,3) -> 0
B8: =RANDBETWEEN(0,3) -> 2 | C8: =RANDBETWEEN(0,3) -> 2 | D8: =RANDBETWEEN(0,3) -> 1 | E8: =RANDBETWEEN(0,3) -> 2 | F8: =RANDBETWEEN(0,3) -> 1 | G8: =RANDBETWEEN(0,3) -> 0 | I8: =RANDBETWEEN(0,3) -> 1 | J8: =RANDBETWEEN(0,3) -> 2 | K8: =RANDBETWEEN(0,3) -> 0 | L8: =RANDBETWEEN(0,3) -> 1 | M8: =RANDBETWEEN(0,3) -> 3 | N8: =RANDBETWEEN(0,3) -> 0 | P8: =RANDBETWEEN(0,3) -> 3 | Q8: =RANDBETWEEN(0,3) -> 2 | R8: =RANDBETWEEN(0,3) -> 1 | S8: =RANDBETWEEN(0,3) -> 2 | T8: =RANDBETWEEN(0,3) -> 1 | U8: =RANDBETWEEN(0,3) -> 1
B9: =RANDBETWEEN(0,3) -> 2 | C9: =RANDBETWEEN(0,3) -> 2 | D9: =RANDBETWEEN(0,3) -> 1 | E9: =RANDBETWEEN(0,3) -> 1 | F9: =RANDBETWEEN(0,3) -> 0 | G9: =RANDBETWEEN(0,3) -> 0 | I9: =RANDBETWEEN(0,3) -> 2 | J9: =RANDBETWEEN(0,3) -> 1 | K9: =RANDBETWEEN(0,3) -> 2 | L9: =RANDBETWEEN(0,3) -> 0 | M9: =RANDBETWEEN(0,3) -> 1 | N9: =RANDBETWEEN(0,3) -> 0 | P9: =RANDBETWEEN(0,3) -> 1 | Q9: =RANDBETWEEN(0,3) -> 0 | R9: =RANDBETWEEN(0,3) -> 3 | S9: =RANDBETWEEN(0,3) -> 0 | T9: =RANDBETWEEN(0,3) -> 0 | U9: =RANDBETWEEN(0,3) -> 2
B10: =RANDBETWEEN(0,3) -> 0 | C10: =RANDBETWEEN(0,3) -> 0 | D10: =RANDBETWEEN(0,3) -> 0 | E10: =RANDBETWEEN(0,3) -> 1 | F10: =RANDBETWEEN(0,3) -> 3 | G10: =RANDBETWEEN(0,3) -> 3 | I10: =RANDBETWEEN(0,3) -> 1 | J10: =RANDBETWEEN(0,3) -> 2 | K10: =RANDBETWEEN(0,3) -> 2 | L10: =RANDBETWEEN(0,3) -> 0 | M10: =RANDBETWEEN(0,3) -> 1 | N10: =RANDBETWEEN(0,3) -> 2 | P10: =RANDBETWEEN(0,3) -> 1 | Q10: =RANDBETWEEN(0,3) -> 0 | R10: =RANDBETWEEN(0,3) -> 3 | S10: =RANDBETWEEN(0,3) -> 0 | T10: =RANDBETWEEN(0,3) -> 2 | U10: =RANDBETWEEN(0,3) -> 1
B11: =RANDBETWEEN(0,3) -> 3 | C11: =RANDBETWEEN(0,3) -> 3 | D11: =RANDBETWEEN(0,3) -> 3 | E11: =RANDBETWEEN(0,3) -> 2 | F11: =RANDBETWEEN(0,3) -> 1 | G11: =RANDBETWEEN(0,3) -> 1 | I11: =RANDBETWEEN(0,3) -> 0 | J11: =RANDBETWEEN(0,3) -> 3 | K11: =RANDBETWEEN(0,3) -> 1 | L11: =RANDBETWEEN(0,3) -> 3 | M11: =RANDBETWEEN(0,3) -> 3 | N11: =RANDBETWEEN(0,3) -> 0 | P11: =RANDBETWEEN(0,3) -> 1 | Q11: =RANDBETWEEN(0,3) -> 2 | R11: =RANDBETWEEN(0,3) -> 1 | S11: =RANDBETWEEN(0,3) -> 3 | T11: =RANDBETWEEN(0,3) -> 1 | U11: =RANDBETWEEN(0,3) -> 2
B12: =RANDBETWEEN(0,3) -> 2 | C12: =RANDBETWEEN(0,3) -> 2 | D12: =RANDBETWEEN(0,3) -> 1 | E12: =RANDBETWEEN(0,3) -> 1 | F12: =RANDBETWEEN(0,3) -> 0 | G12: =RANDBETWEEN(0,3) -> 1 | I12: =RANDBETWEEN(0,3) -> 2 | J12: =RANDBETWEEN(0,3) -> 2 | K12: =RANDBETWEEN(0,3) -> 2 | L12: =RANDBETWEEN(0,3) -> 3 | M12: =RANDBETWEEN(0,3) -> 1 | N12: =RANDBETWEEN(0,3) -> 2 | P12: =RANDBETWEEN(0,3) -> 1 | Q12: =RANDBETWEEN(0,3) -> 3 | R12: =RANDBETWEEN(0,3) -> 1 | S12: =RANDBETWEEN(0,3) -> 3 | T12: =RANDBETWEEN(0,3) -> 0 | U12: =RANDBETWEEN(0,3) -> 2
B13: =RANDBETWEEN(0,3) -> 1 | C13: =RANDBETWEEN(0,3) -> 0 | D13: =RANDBETWEEN(0,3) -> 0 | E13: =RANDBETWEEN(0,3) -> 1 | F13: =RANDBETWEEN(0,3) -> 0 | G13: =RANDBETWEEN(0,3) -> 0 | I13: =RANDBETWEEN(0,3) -> 3 | J13: =RANDBETWEEN(0,3) -> 2 | K13: =RANDBETWEEN(0,3) -> 0 | L13: =RANDBETWEEN(0,3) -> 2 | M13: =RANDBETWEEN(0,3) -> 0 | N13: =RANDBETWEEN(0,3) -> 3 | P13: =RANDBETWEEN(0,3) -> 3 | Q13: =RANDBETWEEN(0,3) -> 2 | R13: =RANDBETWEEN(0,3) -> 2 | S13: =RANDBETWEEN(0,3) -> 0 | T13: =RANDBETWEEN(0,3) -> 3 | U13: =RANDBETWEEN(0,3) -> 1
B14: =RANDBETWEEN(0,3) -> 3 | C14: =RANDBETWEEN(0,3) -> 1 | D14: =RANDBETWEEN(0,3) -> 2 | E14: =RANDBETWEEN(0,3) -> 1 | F14: =RANDBETWEEN(0,3) -> 3 | G14: =RANDBETWEEN(0,3) -> 1 | I14: =RANDBETWEEN(0,3) -> 2 | J14: =RANDBETWEEN(0,3) -> 0 | K14: =RANDBETWEEN(0,3) -> 3 | L14: =RANDBETWEEN(0,3) -> 3 | M14: =RANDBETWEEN(0,3) -> 0 | N14: =RANDBETWEEN(0,3) -> 3 | P14: =RANDBETWEEN(0,3) -> 1 | Q14: =RANDBETWEEN(0,3) -> 2 | R14: =RANDBETWEEN(0,3) -> 0 | S14: =RANDBETWEEN(0,3) -> 1 | T14: =RANDBETWEEN(0,3) -> 3 | U14: =RANDBETWEEN(0,3) -> 2
... B22: =RANDBETWEEN(0,3) -> 3 | C22: =RANDBETWEEN(0,3) -> 3 | D22: =RANDBETWEEN(0,3) -> 0 | E22: =RANDBETWEEN(0,3) -> 1 | F22: =RANDBETWEEN(0,3) -> 3 | G22: =RANDBETWEEN(0,3) -> 1 | I22: =RANDBETWEEN(0,3) -> 3 | J22: =RANDBETWEEN(0,3) -> 0 | K22: =RANDBETWEEN(0,3) -> 0 | L22: =RANDBETWEEN(0,3) -> 2 | M22: =RANDBETWEEN(0,3) -> 2 | N22: =RANDBETWEEN(0,3) -> 1 | P22: =RANDBETWEEN(0,3) -> 2 | Q22: =RANDBETWEEN(0,3) -> 2 | R22: =RANDBETWEEN(0,3) -> 1 | S22: =RANDBETWEEN(0,3) -> 0 | T22: =RANDBETWEEN(0,3) -> 2 | U22: =RANDBETWEEN(0,3) -> 2
B24: 1
B25: 2
B26: 3 | E26: =B14 -> 3 | F26: =C14 -> 1 | G26: =D14 -> 2 | H26: =E14 -> 1 | I26: =F14 -> 3 | J26: =G14 -> 1
B27: 4 | E27: =B15 -> 1 | F27: =C15 -> 3 | G27: =D15 -> 0 | H27: =E15 -> 3 | I27: =F15 -> 3 | J27: =G15 -> 3
B28: 5 | E28: =B16 -> 1 | F28: =C16 -> 0 | G28: =D16 -> 0 | H28: =E16 -> 0 | I28: =F16 -> 0 | J28: =G16 -> 1
B29: 6 | E29: =B17 -> 0 | F29: =C17 -> 2 | G29: =D17 -> 3 | H29: =E17 -> 0 | I29: =F17 -> 2 | J29: =G17 -> 0
B30: 7 | E30: =B18 -> 0 | F30: =C18 -> 0 | G30: =D18 -> 2 | H30: =E18 -> 3 | I30: =F18 -> 3 | J30: =G18 -> 3
B31: 8 | E31: =B19 -> 0 | F31: =C19 -> 2 | G31: =D19 -> 2 | H31: =E19 -> 3 | I31: =F19 -> 3 | J31: =G19 -> 1
B32: 9 | E32: =B20 -> 1 | F32: =C20 -> 1 | G32: =D20 -> 0 | H32: =E20 -> 0 | I32: =F20 -> 1 | J32: =G20 -> 1
B33: a | E33: =B21 -> 0 | F33: =C21 -> 2 | G33: =D21 -> 1 | H33: =E21 -> 3 | I33: =F21 -> 0 | J33: =G21 -> 1
B34: b | E34: =B22 -> 3 | F34: =C22 -> 3 | G34: =D22 -> 0 | H34: =E22 -> 1 | I34: =F22 -> 3 | J34: =G22 -> 1
B35: c
B36: d
B37: e
B38: f
B39: g
B40: h
B41: i
B42: j
B43: k
B44: x
B45: y
B46: z
B47: l

Sheet lua types - luajit types
B2: LJ_TFALSE | C2: (~1u) | D2: Boolean | E2: False | K2: 0 | L2: LUA_TNIL | N2: nil | P2: LJ_TNIL | Q2: (~0u) | R2: nil
B3: LJ_TTRUE | C3: (~2u) | D3: Boolean | E3: True | K3: 1 | L3: LUA_TBOOLEAN | N3: False | P3: LJ_TFALSE | Q3: (~1u) | R3: boolean
B4: LJ_TLIGHTUD | C4: (~3u) | N4: True | P4: LJ_TTRUE | Q4: (~2u) | R4: boolean
B5: LJ_TSTR | C5: (~4u) | D5: string | E5: “string” | K5: 2 | L5: LUA_TLIGHTUSERDATA | P5: LJ_TLIGHTUD | Q5: (~3u) | R5: light userdata
B6: LJ_TUPVAL | C6: (~5u) | D6: userdata | E6: debug.upvalueid(pairs, 1) | K6: 4 | L6: LUA_TSTRING | N6: “string” | P6: LJ_TSTR | Q6: (~4u) | R6: string
B7: LJ_TTHREAD | C7: (~6u) | D7: thread | E7: coroutine.create(function() end)) | N7: debug.upvalueid(pairs, 1) | P7: LJ_TUPVAL | Q7: (~5u) | R7: userdata
B8: LJ_TPROTO | C8: (~7u) | K8: 8 | L8: LUA_TTHREAD | N8: coroutine.create(function() end)) | P8: LJ_TTHREAD | Q8: (~6u) | R8: thread
B9: LJ_TFUNC | C9: (~8u) | D9: function | E9: function() end | K9: 9 | L9: LUA_TPROTO | P9: LJ_TPROTO | Q9: (~7u)
B10: LJ_TTRACE | C10: (~9u) | K10: 6 | L10: LUA_TFUNCTION | N10: function() end | P10: LJ_TFUNC | Q10: (~8u) | R10: function
B11: LJ_TTAB | C11: (~11u) | D11: table | E11: {} | K11: 10 | L11: LUA_TCDATA | N11: 1ULL | P11: LJ_TCDATA | Q11: (~10u) | R11: cdata
B12: LJ_TUDATA | C12: (~12u) | D12: userdata | E12: io.stdout | K12: 5 | L12: LUA_TTABLE | N12: {} | P12: LJ_TTAB | Q12: (~11u) | R12: table
B13: LJ_TNUMX | C13: (~13u) | D13: number | E13: 3.14 | K13: 7 | L13: LUA_TUSERDATA | N13: io.stdout | P13: LJ_TUDATA | Q13: (~12u) | R13: userdata
K14: 3 | L14: LUA_TNUMBER | N14: 3.14 | P14: LJ_TNUMX | Q14: (~13u) | R14: number
B15: LUA_TNIL | C15: 0 | D15: Nil | E15: Nil
B16: LUA_TBOOLEAN | C16: 1 | D16: boolean | E16: true, false
B17: LUA_TLIGHTUSERDATA | C17: 2
B18: LUA_TNUMBER | C18: 3 | D18: number | E18: 3.14
B19: LUA_TSTRING | C19: 4 | D19: string | E19: “string”
B20: LUA_TTABLE | C20: 5 | D20: table | E20: {}
B21: LUA_TFUNCTION | C21: 6 | D21: function | E21: function() end
B22: LUA_TUSERDATA | C22: 7 | D22: userdata | E22: io.stdout
B23: LUA_TTHREAD | C23: 8 | E23: coroutine.create(function() end))
B24: LUA_TPROTO | C24: 9
B25: LUA_TCDATA | C25: 10

Sheet filed type - messagepack type
C2: MP_NIL | D2: MP_UINT | E2: MP_INT | F2: MP_STR | G2: MP_BIN | H2: MP_ARRAY | I2: MP_MAP | J2: MP_BOOL | K2: MP_FLOAT | L2: MP_DOUBLE | M2: MP_EXT | N2: MP_DECIMAL | O2: MP_UUID
A3: FIELD_TYPE_ANY | B3: any | C3: -2 | D3: 1 | E3: 1 | F3: 1 | G3: 1 | H3: 1 | I3: 1 | J3: 1 | K3: 1 | L3: 1 | N3: 1 | O3: 1
A4: FIELD_TYPE_UNSIGNED | B4: unsigned | C4: -1 | D4: 1
A5: FIELD_TYPE_STRING | B5: string | C5: -1 | F5: 1
A6: FIELD_TYPE_NUMBER | B6: number | C6: -1 | D6: 1 | E6: 1 | K6: 1 | L6: 1 | N6: 1
A7: FIELD_TYPE_DOUBLE | B7: double | C7: -1 | L7: 1
A8: FIELD_TYPE_INTEGER | B8: integer | C8: -1 | D8: 1 | E8: 1
A9: FIELD_TYPE_BOOLEAN | B9: boolean | C9: -1 | J9: 1
A10: FIELD_TYPE_VARBINARY | B10: varbinary | C10: -1 | G10: 1
A11: FIELD_TYPE_SCALAR | B11: scalar | C11: -1 | D11: 1 | E11: 1 | F11: 1 | G11: 1 | J11: 1 | K11: 1 | L11: 1 | N11: 1 | O11: 1
A12: FIELD_TYPE_DECIMAL | B12: decimal | C12: -1 | N12: 1
A13: FIELD_TYPE_UUID | B13: uuid | C13: -1 | O13: 1
A14: FIELD_TYPE_ARRAY | B14: array | C14: -1 | H14: 1
A15: FIELD_TYPE_MAP | B15: map | C15: -1 | I15: 1
D17: 1 | E17: possible variant of encoding (future)
D18: 1 | E18: possible variant of encoding
D19: -1 | E19: if field is nullable
A21: Basic mp-types | C21: MP_NIL | D21: MP_UINT | E21: MP_INT | F21: MP_STR | G21: MP_BIN | H21: MP_ARRAY | I21: MP_MAP | J21: MP_BOOL | K21: MP_FLOAT | L21: MP_DOUBLE | M21: MP_EXT | N21: MP_DECIMAL | O21: MP_UUID
A22: MP_NIL
A23: MP_UINT
A24: MP_INT
A25: MP_STR
A26: MP_BIN
A27: MP_ARRAY
A28: MP_MAP
A29: MP_BOOL
A30: MP_FLOAT
A31: MP_DOUBLE
A32: MP_EXT
A33: Extended mp-types
... A37: MP_ERROR

Sheet BOX vs SQL (2)
F3: bit
F4: bit varying
B5: FIELD_TYPE_ANY | C5: any | F5: boolean
B6: FIELD_TYPE_UNSIGNED | C6: unsigned | F6: char
B7: FIELD_TYPE_STRING | C7: string | F7: character varying
B8: FIELD_TYPE_NUMBER | C8: number | F8: character
B9: FIELD_TYPE_DOUBLE | C9: double | F9: varchar
B10: FIELD_TYPE_INTEGER | C10: integer | F10: smallint
B11: FIELD_TYPE_BOOLEAN | C11: boolean | F11: integer
B12: FIELD_TYPE_VARBINARY | C12: varbinary | F12: bigint
B13: FIELD_TYPE_SCALAR | C13: scalar | F13: numeric
B14: FIELD_TYPE_DECIMAL | C14: decimal | F14: decimal
B15: FIELD_TYPE_UUID | C15: uuid | F15: real
B16: FIELD_TYPE_ARRAY | C16: array | F16: double precision
B17: FIELD_TYPE_MAP | C17: map | F17: date
F18: time
F19: timestamp
F20: interval
F21: xml

Sheet BOX vs SQL
G3: bit
G4: bit varying
B5: FIELD_TYPE_ANY | C5: 0 | D5: any | G5: boolean
B6: FIELD_TYPE_UNSIGNED | C6: 1 | D6: unsigned | G6: char
B7: FIELD_TYPE_STRING | C7: 2 | D7: string | G7: character varying
B8: FIELD_TYPE_NUMBER | C8: 3 | D8: number | G8: character | I8: MEM_Null | J8: 0x0001 | K8: NULL
B9: FIELD_TYPE_DOUBLE | C9: 4 | D9: double | G9: varchar | I9: MEM_Str | J9: 0x0002 | K9: string
B10: FIELD_TYPE_INTEGER | C10: 5 | D10: integer | G10: smallint | I10: MEM_Int | J10: 0x0004 | K10: integer
B11: FIELD_TYPE_BOOLEAN | C11: 6 | D11: boolean | G11: integer | I11: MEM_Real | J11: 0x0008 | K11: real number
B12: FIELD_TYPE_VARBINARY | C12: 7 | D12: varbinary | G12: bigint | I12: MEM_Blob | J12: 0x0010 | K12: BLOB
B13: FIELD_TYPE_SCALAR | C13: 8 | D13: scalar | G13: numeric | I13: MEM_Bool | J13: 0x0020 | K13: bool
B14: FIELD_TYPE_DECIMAL | C14: 9 | D14: decimal | G14: decimal | I14: MEM_UInt | J14: 0x0040 | K14: unsigned integer
B15: FIELD_TYPE_UUID | C15: 10 | D15: uuid | G15: real | I15: MEM_Frame | J15: 0x0080 | K15: VdbeFrame object
B16: FIELD_TYPE_ARRAY | C16: 11 | D16: array | G16: double precision | I16: MEM_Undefined | J16: 0x0100 | K16: undefined
B17: FIELD_TYPE_MAP | C17: 12 | D17: map | G17: date | I17: MEM_Cleared | J17: 0x0200 | K17: OP_Null, not from data
G18: time
G19: timestamp
G20: interval
G21: xml

Sheet TNT Explicit
C2: any | D2: unsigned | E2: string | F2: double | G2: integer | H2: boolean | I2: varbinary | J2: number | K2: decimal | L2: uuid | M2: date | N2: time | O2: timestamp | P2: interval | Q2: array | R2: map | S2: scalar | Y2: =C2 -> any | Z2: =D2 -> unsigned | AA2: =E2 -> string | AB2: =F2 -> double | AC2: =G2 -> integer | AD2: =H2 -> boolean | AE2: =I2 -> varbinary | AF2: =J2 -> number | ... AO2: =S2 -> scalar
B3: any | C3: Y | D3: S | E3: Y | F3: S | G3: S | H3: S | I3: S | J3: S | K3: S | L3: S | M3: S | N3: S | O3: S | P3: S | Q3: S | R3: S | S3: S | X3: =B3 -> any | Y3: =IF(C3="Y",1,IF(C3="S",0,-1)) -> 1 | Z3: =IF(D3="Y",1,IF(D3="S",0,-1)) -> 0 | AA3: =IF(E3="Y",1,IF(E3="S",0,-1)) -> 1 | AB3: =IF(F3="Y",1,IF(F3="S",0,-1)) -> 0 | AC3: =IF(G3="Y",1,IF(G3="S",0,-1)) -> 0 | AD3: =IF(H3="Y",1,IF(H3="S",0,-1)) -> 0 | AE3: =IF(I3="Y",1,IF(I3="S",0,-1)) -> 0 | AF3: =IF(J3="Y",1,IF(J3="S",0,-1)) -> 0 | ... AO3: =IF(S3="Y",1,IF(S3="S",0,-1)) -> 0
B4: unsigned | C4: Y | D4: Y | E4: Y | F4: Y | G4: Y | J4: Y | K4: Y | M4: Y | N4: Y | O4: Y | P4: Y | S4: Y | X4: =B4 -> unsigned | Y4: =IF(C4="Y",1,IF(C4="S",0,-1)) -> 1 | Z4: =IF(D4="Y",1,IF(D4="S",0,-1)) -> 1 | AA4: =IF(E4="Y",1,IF(E4="S",0,-1)) -> 1 | AB4: =IF(F4="Y",1,IF(F4="S",0,-1)) -> 1 | AC4: =IF(G4="Y",1,IF(G4="S",0,-1)) -> 1 | AD4: =IF(H4="Y",1,IF(H4="S",0,-1)) -> -1 | AE4: =IF(I4="Y",1,IF(I4="S",0,-1)) -> -1 | AF4: =IF(J4="Y",1,IF(J4="S",0,-1)) -> 1 | ... AO4: =IF(S4="Y",1,IF(S4="S",0,-1)) -> 1
B5: string | C5: Y | D5: S | E5: Y | F5: S | G5: S | H5: S | I5: Y | J5: S | K5: S | L5: S | M5: S | N5: S | O5: S | P5: S | Q5: S | R5: S | S5: Y | X5: =B5 -> string | Y5: =IF(C5="Y",1,IF(C5="S",0,-1)) -> 1 | Z5: =IF(D5="Y",1,IF(D5="S",0,-1)) -> 0 | AA5: =IF(E5="Y",1,IF(E5="S",0,-1)) -> 1 | AB5: =IF(F5="Y",1,IF(F5="S",0,-1)) -> 0 | AC5: =IF(G5="Y",1,IF(G5="S",0,-1)) -> 0 | AD5: =IF(H5="Y",1,IF(H5="S",0,-1)) -> 0 | AE5: =IF(I5="Y",1,IF(I5="S",0,-1)) -> 1 | AF5: =IF(J5="Y",1,IF(J5="S",0,-1)) -> 0 | ... AO5: =IF(S5="Y",1,IF(S5="S",0,-1)) -> 1
B6: double | C6: Y | D6: S | E6: Y | F6: Y | G6: S | J6: Y | K6: Y | M6: Y | N6: Y | O6: Y | P6: Y | S6: Y | X6: =B6 -> double | Y6: =IF(C6="Y",1,IF(C6="S",0,-1)) -> 1 | Z6: =IF(D6="Y",1,IF(D6="S",0,-1)) -> 0 | AA6: =IF(E6="Y",1,IF(E6="S",0,-1)) -> 1 | AB6: =IF(F6="Y",1,IF(F6="S",0,-1)) -> 1 | AC6: =IF(G6="Y",1,IF(G6="S",0,-1)) -> 0 | AD6: =IF(H6="Y",1,IF(H6="S",0,-1)) -> -1 | AE6: =IF(I6="Y",1,IF(I6="S",0,-1)) -> -1 | AF6: =IF(J6="Y",1,IF(J6="S",0,-1)) -> 1 | ... AO6: =IF(S6="Y",1,IF(S6="S",0,-1)) -> 1
B7: integer | C7: Y | D7: S | E7: Y | F7: Y | G7: Y | J7: Y | K7: Y | M7: Y | N7: Y | O7: Y | P7: Y | S7: Y | X7: =B7 -> integer | Y7: =IF(C7="Y",1,IF(C7="S",0,-1)) -> 1 | Z7: =IF(D7="Y",1,IF(D7="S",0,-1)) -> 0 | AA7: =IF(E7="Y",1,IF(E7="S",0,-1)) -> 1 | AB7: =IF(F7="Y",1,IF(F7="S",0,-1)) -> 1 | AC7: =IF(G7="Y",1,IF(G7="S",0,-1)) -> 1 | AD7: =IF(H7="Y",1,IF(H7="S",0,-1)) -> -1 | AE7: =IF(I7="Y",1,IF(I7="S",0,-1)) -> -1 | AF7: =IF(J7="Y",1,IF(J7="S",0,-1)) -> 1 | ... AO7: =IF(S7="Y",1,IF(S7="S",0,-1)) -> 1
B8: boolean | C8: Y | E8: Y | H8: Y | S8: Y | X8: =B8 -> boolean | Y8: =IF(C8="Y",1,IF(C8="S",0,-1)) -> 1 | Z8: =IF(D8="Y",1,IF(D8="S",0,-1)) -> -1 | AA8: =IF(E8="Y",1,IF(E8="S",0,-1)) -> 1 | AB8: =IF(F8="Y",1,IF(F8="S",0,-1)) -> -1 | AC8: =IF(G8="Y",1,IF(G8="S",0,-1)) -> -1 | AD8: =IF(H8="Y",1,IF(H8="S",0,-1)) -> 1 | AE8: =IF(I8="Y",1,IF(I8="S",0,-1)) -> -1 | AF8: =IF(J8="Y",1,IF(J8="S",0,-1)) -> -1 | ... AO8: =IF(S8="Y",1,IF(S8="S",0,-1)) -> 1
B9: varbinary | C9: Y | E9: Y | F9: N | I9: Y | L9: S | S9: Y | X9: =B9 -> varbinary | Y9: =IF(C9="Y",1,IF(C9="S",0,-1)) -> 1 | Z9: =IF(D9="Y",1,IF(D9="S",0,-1)) -> -1 | AA9: =IF(E9="Y",1,IF(E9="S",0,-1)) -> 1 | AB9: =IF(F9="Y",1,IF(F9="S",0,-1)) -> -1 | AC9: =IF(G9="Y",1,IF(G9="S",0,-1)) -> -1 | AD9: =IF(H9="Y",1,IF(H9="S",0,-1)) -> -1 | AE9: =IF(I9="Y",1,IF(I9="S",0,-1)) -> 1 | AF9: =IF(J9="Y",1,IF(J9="S",0,-1)) -> -1 | ... AO9: =IF(S9="Y",1,IF(S9="S",0,-1)) -> 1
B10: number | C10: Y | D10: S | E10: Y | F10: Y | G10: S | J10: Y | K10: Y | M10: Y | N10: Y | O10: Y | P10: Y | S10: Y | X10: =B10 -> number | Y10: =IF(C10="Y",1,IF(C10="S",0,-1)) -> 1 | Z10: =IF(D10="Y",1,IF(D10="S",0,-1)) -> 0 | AA10: =IF(E10="Y",1,IF(E10="S",0,-1)) -> 1 | AB10: =IF(F10="Y",1,IF(F10="S",0,-1)) -> 1 | AC10: =IF(G10="Y",1,IF(G10="S",0,-1)) -> 0 | AD10: =IF(H10="Y",1,IF(H10="S",0,-1)) -> -1 | AE10: =IF(I10="Y",1,IF(I10="S",0,-1)) -> -1 | AF10: =IF(J10="Y",1,IF(J10="S",0,-1)) -> 1 | ... AO10: =IF(S10="Y",1,IF(S10="S",0,-1)) -> 1
B11: decimal | C11: Y | D11: S | E11: Y | F11: S | G11: S | J11: Y | K11: Y | M11: Y | N11: Y | O11: Y | P11: Y | S11: Y | X11: =B11 -> decimal | Y11: =IF(C11="Y",1,IF(C11="S",0,-1)) -> 1 | Z11: =IF(D11="Y",1,IF(D11="S",0,-1)) -> 0 | AA11: =IF(E11="Y",1,IF(E11="S",0,-1)) -> 1 | AB11: =IF(F11="Y",1,IF(F11="S",0,-1)) -> 0 | AC11: =IF(G11="Y",1,IF(G11="S",0,-1)) -> 0 | AD11: =IF(H11="Y",1,IF(H11="S",0,-1)) -> -1 | AE11: =IF(I11="Y",1,IF(I11="S",0,-1)) -> -1 | AF11: =IF(J11="Y",1,IF(J11="S",0,-1)) -> 1 | ... AO11: =IF(S11="Y",1,IF(S11="S",0,-1)) -> 1
B12: uuid | C12: Y | E12: Y | I12: Y | L12: Y | S12: Y | X12: =B12 -> uuid | Y12: =IF(C12="Y",1,IF(C12="S",0,-1)) -> 1 | Z12: =IF(D12="Y",1,IF(D12="S",0,-1)) -> -1 | AA12: =IF(E12="Y",1,IF(E12="S",0,-1)) -> 1 | AB12: =IF(F12="Y",1,IF(F12="S",0,-1)) -> -1 | AC12: =IF(G12="Y",1,IF(G12="S",0,-1)) -> -1 | AD12: =IF(H12="Y",1,IF(H12="S",0,-1)) -> -1 | AE12: =IF(I12="Y",1,IF(I12="S",0,-1)) -> 1 | AF12: =IF(J12="Y",1,IF(J12="S",0,-1)) -> -1 | ... AO12: =IF(S12="Y",1,IF(S12="S",0,-1)) -> 1
B13: date | C13: Y | D13: Y | E13: Y | F13: Y | G13: Y | J13: Y | K13: Y | M13: Y | O13: Y | S13: Y | X13: =B13 -> date | Y13: =IF(C13="Y",1,IF(C13="S",0,-1)) -> 1 | Z13: =IF(D13="Y",1,IF(D13="S",0,-1)) -> 1 | AA13: =IF(E13="Y",1,IF(E13="S",0,-1)) -> 1 | AB13: =IF(F13="Y",1,IF(F13="S",0,-1)) -> 1 | AC13: =IF(G13="Y",1,IF(G13="S",0,-1)) -> 1 | AD13: =IF(H13="Y",1,IF(H13="S",0,-1)) -> -1 | AE13: =IF(I13="Y",1,IF(I13="S",0,-1)) -> -1 | AF13: =IF(J13="Y",1,IF(J13="S",0,-1)) -> 1 | ... AO13: =IF(S13="Y",1,IF(S13="S",0,-1)) -> 1
B14: time | C14: Y | D14: Y | E14: Y | F14: Y | G14: Y | J14: Y | K14: Y | N14: Y | O14: Y | S14: Y | X14: =B14 -> time | Y14: =IF(C14="Y",1,IF(C14="S",0,-1)) -> 1 | Z14: =IF(D14="Y",1,IF(D14="S",0,-1)) -> 1 | AA14: =IF(E14="Y",1,IF(E14="S",0,-1)) -> 1 | AB14: =IF(F14="Y",1,IF(F14="S",0,-1)) -> 1 | AC14: =IF(G14="Y",1,IF(G14="S",0,-1)) -> 1 | AD14: =IF(H14="Y",1,IF(H14="S",0,-1)) -> -1 | AE14: =IF(I14="Y",1,IF(I14="S",0,-1)) -> -1 | AF14: =IF(J14="Y",1,IF(J14="S",0,-1)) -> 1 | ... AO14: =IF(S14="Y",1,IF(S14="S",0,-1)) -> 1
B15: timestamp | C15: Y | D15: Y | E15: Y | F15: Y | G15: Y | J15: Y | K15: Y | M15: Y | N15: Y | O15: Y | S15: Y | X15: =B15 -> timestamp | Y15: =IF(C15="Y",1,IF(C15="S",0,-1)) -> 1 | Z15: =IF(D15="Y",1,IF(D15="S",0,-1)) -> 1 | AA15: =IF(E15="Y",1,IF(E15="S",0,-1)) -> 1 | AB15: =IF(F15="Y",1,IF(F15="S",0,-1)) -> 1 | AC15: =IF(G15="Y",1,IF(G15="S",0,-1)) -> 1 | AD15: =IF(H15="Y",1,IF(H15="S",0,-1)) -> -1 | AE15: =IF(I15="Y",1,IF(I15="S",0,-1)) -> -1 | AF15: =IF(J15="Y",1,IF(J15="S",0,-1)) -> 1 | ... AO15: =IF(S15="Y",1,IF(S15="S",0,-1)) -> 1
B16: interval | C16: Y | D16: Y | E16: Y | F16: Y | G16: Y | J16: Y | K16: Y | O16: Y | P16: Y | S16: Y | X16: =B16 -> interval | Y16: =IF(C16="Y",1,IF(C16="S",0,-1)) -> 1 | Z16: =IF(D16="Y",1,IF(D16="S",0,-1)) -> 1 | AA16: =IF(E16="Y",1,IF(E16="S",0,-1)) -> 1 | AB16: =IF(F16="Y",1,IF(F16="S",0,-1)) -> 1 | AC16: =IF(G16="Y",1,IF(G16="S",0,-1)) -> 1 | AD16: =IF(H16="Y",1,IF(H16="S",0,-1)) -> -1 | AE16: =IF(I16="Y",1,IF(I16="S",0,-1)) -> -1 | AF16: =IF(J16="Y",1,IF(J16="S",0,-1)) -> 1 | ... AO16: =IF(S16="Y",1,IF(S16="S",0,-1)) -> 1
B17: array | C17: Y | D17: N | E17: Y | F17: N | G17: N | H17: N | Q17: Y | S17: N | X17: =B17 -> array | Y17: =IF(C17="Y",1,IF(C17="S",0,-1)) -> 1 | Z17: =IF(D17="Y",1,IF(D17="S",0,-1)) -> -1 | AA17: =IF(E17="Y",1,IF(E17="S",0,-1)) -> 1 | AB17: =IF(F17="Y",1,IF(F17="S",0,-1)) -> -1 | AC17: =IF(G17="Y",1,IF(G17="S",0,-1)) -> -1 | AD17: =IF(H17="Y",1,IF(H17="S",0,-1)) -> -1 | AE17: =IF(I17="Y",1,IF(I17="S",0,-1)) -> -1 | AF17: =IF(J17="Y",1,IF(J17="S",0,-1)) -> -1 | ... AO17: =IF(S17="Y",1,IF(S17="S",0,-1)) -> -1
B18: map | C18: Y | D18: N | E18: Y | F18: N | G18: N | H18: N | R18: Y | S18: N | X18: =B18 -> map | Y18: =IF(C18="Y",1,IF(C18="S",0,-1)) -> 1 | Z18: =IF(D18="Y",1,IF(D18="S",0,-1)) -> -1 | AA18: =IF(E18="Y",1,IF(E18="S",0,-1)) -> 1 | AB18: =IF(F18="Y",1,IF(F18="S",0,-1)) -> -1 | AC18: =IF(G18="Y",1,IF(G18="S",0,-1)) -> -1 | AD18: =IF(H18="Y",1,IF(H18="S",0,-1)) -> -1 | AE18: =IF(I18="Y",1,IF(I18="S",0,-1)) -> -1 | AF18: =IF(J18="Y",1,IF(J18="S",0,-1)) -> -1 | ... AO18: =IF(S18="Y",1,IF(S18="S",0,-1)) -> -1
B19: scalar | C19: Y | D19: S | E19: Y | F19: S | G19: S | H19: S | I19: S | J19: S | K19: S | L19: S | M19: S | N19: S | O19: S | P19: S | S19: Y | X19: =B19 -> scalar | Y19: =IF(C19="Y",1,IF(C19="S",0,-1)) -> 1 | Z19: =IF(D19="Y",1,IF(D19="S",0,-1)) -> 0 | AA19: =IF(E19="Y",1,IF(E19="S",0,-1)) -> 1 | AB19: =IF(F19="Y",1,IF(F19="S",0,-1)) -> 0 | AC19: =IF(G19="Y",1,IF(G19="S",0,-1)) -> 0 | AD19: =IF(H19="Y",1,IF(H19="S",0,-1)) -> 0 | AE19: =IF(I19="Y",1,IF(I19="S",0,-1)) -> 0 | AF19: =IF(J19="Y",1,IF(J19="S",0,-1)) -> 0 | ... AO19: =IF(S19="Y",1,IF(S19="S",0,-1)) -> 1
C21: 0 - allowed | Y21: 1 | Z21: allowed converstion
C22: =-1 - _xludf.error -> #NAME? | Y22: 0 | Z22: conditional conversion
C23: 1 - sometimes | Z23: prohibited conversion
Y42: =C2 -> any | Z42: =D2 -> unsigned | AA42: =E2 -> string | AB42: =F2 -> double | AC42: =G2 -> integer | AD42: =H2 -> boolean | AE42: =I2 -> varbinary | AF42: =J2 -> number | AG42: =Q2 -> array | AH42: =R2 -> map | AI42: =S2 -> scalar
X43: =B3 -> any | Y43: =IF(C3="Y",1,IF(C3="S",0,-1)) -> 1 | Z43: =IF(D3="Y",1,IF(D3="S",0,-1)) -> 0 | AA43: =IF(E3="Y",1,IF(E3="S",0,-1)) -> 1 | AB43: =IF(F3="Y",1,IF(F3="S",0,-1)) -> 0 | AC43: =IF(G3="Y",1,IF(G3="S",0,-1)) -> 0 | AD43: =IF(H3="Y",1,IF(H3="S",0,-1)) -> 0 | AE43: =IF(I3="Y",1,IF(I3="S",0,-1)) -> 0 | AF43: =IF(J3="Y",1,IF(J3="S",0,-1)) -> 0 | AG43: =IF(Q3="Y",1,IF(Q3="S",0,-1)) -> 0 | AH43: =IF(R3="Y",1,IF(R3="S",0,-1)) -> 0 | AI43: =IF(S3="Y",1,IF(S3="S",0,-1)) -> 0
X44: =B4 -> unsigned | Y44: =IF(C4="Y",1,IF(C4="S",0,-1)) -> 1 | Z44: =IF(D4="Y",1,IF(D4="S",0,-1)) -> 1 | AA44: =IF(E4="Y",1,IF(E4="S",0,-1)) -> 1 | AB44: =IF(F4="Y",1,IF(F4="S",0,-1)) -> 1 | AC44: =IF(G4="Y",1,IF(G4="S",0,-1)) -> 1 | AD44: =IF(H4="Y",1,IF(H4="S",0,-1)) -> -1 | AE44: =IF(I4="Y",1,IF(I4="S",0,-1)) -> -1 | AF44: =IF(J4="Y",1,IF(J4="S",0,-1)) -> 1 | AG44: =IF(Q4="Y",1,IF(Q4="S",0,-1)) -> -1 | AH44: =IF(R4="Y",1,IF(R4="S",0,-1)) -> -1 | AI44: =IF(S4="Y",1,IF(S4="S",0,-1)) -> 1
X45: =B5 -> string | Y45: =IF(C5="Y",1,IF(C5="S",0,-1)) -> 1 | Z45: =IF(D5="Y",1,IF(D5="S",0,-1)) -> 0 | AA45: =IF(E5="Y",1,IF(E5="S",0,-1)) -> 1 | AB45: =IF(F5="Y",1,IF(F5="S",0,-1)) -> 0 | AC45: =IF(G5="Y",1,IF(G5="S",0,-1)) -> 0 | AD45: =IF(H5="Y",1,IF(H5="S",0,-1)) -> 0 | AE45: =IF(I5="Y",1,IF(I5="S",0,-1)) -> 1 | AF45: =IF(J5="Y",1,IF(J5="S",0,-1)) -> 0 | AG45: =IF(Q5="Y",1,IF(Q5="S",0,-1)) -> 0 | AH45: =IF(R5="Y",1,IF(R5="S",0,-1)) -> 0 | AI45: =IF(S5="Y",1,IF(S5="S",0,-1)) -> 1
X46: =B6 -> double | Y46: =IF(C6="Y",1,IF(C6="S",0,-1)) -> 1 | Z46: =IF(D6="Y",1,IF(D6="S",0,-1)) -> 0 | AA46: =IF(E6="Y",1,IF(E6="S",0,-1)) -> 1 | AB46: =IF(F6="Y",1,IF(F6="S",0,-1)) -> 1 | AC46: =IF(G6="Y",1,IF(G6="S",0,-1)) -> 0 | AD46: =IF(H6="Y",1,IF(H6="S",0,-1)) -> -1 | AE46: =IF(I6="Y",1,IF(I6="S",0,-1)) -> -1 | AF46: =IF(J6="Y",1,IF(J6="S",0,-1)) -> 1 | AG46: =IF(Q6="Y",1,IF(Q6="S",0,-1)) -> -1 | AH46: =IF(R6="Y",1,IF(R6="S",0,-1)) -> -1 | AI46: =IF(S6="Y",1,IF(S6="S",0,-1)) -> 1
X47: =B7 -> integer | Y47: =IF(C7="Y",1,IF(C7="S",0,-1)) -> 1 | Z47: =IF(D7="Y",1,IF(D7="S",0,-1)) -> 0 | AA47: =IF(E7="Y",1,IF(E7="S",0,-1)) -> 1 | AB47: =IF(F7="Y",1,IF(F7="S",0,-1)) -> 1 | AC47: =IF(G7="Y",1,IF(G7="S",0,-1)) -> 1 | AD47: =IF(H7="Y",1,IF(H7="S",0,-1)) -> -1 | AE47: =IF(I7="Y",1,IF(I7="S",0,-1)) -> -1 | AF47: =IF(J7="Y",1,IF(J7="S",0,-1)) -> 1 | AG47: =IF(Q7="Y",1,IF(Q7="S",0,-1)) -> -1 | AH47: =IF(R7="Y",1,IF(R7="S",0,-1)) -> -1 | AI47: =IF(S7="Y",1,IF(S7="S",0,-1)) -> 1
X48: =B8 -> boolean | Y48: =IF(C8="Y",1,IF(C8="S",0,-1)) -> 1 | Z48: =IF(D8="Y",1,IF(D8="S",0,-1)) -> -1 | AA48: =IF(E8="Y",1,IF(E8="S",0,-1)) -> 1 | AB48: =IF(F8="Y",1,IF(F8="S",0,-1)) -> -1 | AC48: =IF(G8="Y",1,IF(G8="S",0,-1)) -> -1 | AD48: =IF(H8="Y",1,IF(H8="S",0,-1)) -> 1 | AE48: =IF(I8="Y",1,IF(I8="S",0,-1)) -> -1 | AF48: =IF(J8="Y",1,IF(J8="S",0,-1)) -> -1 | AG48: =IF(Q8="Y",1,IF(Q8="S",0,-1)) -> -1 | AH48: =IF(R8="Y",1,IF(R8="S",0,-1)) -> -1 | AI48: =IF(S8="Y",1,IF(S8="S",0,-1)) -> 1
X49: =B9 -> varbinary | Y49: =IF(C9="Y",1,IF(C9="S",0,-1)) -> 1 | Z49: =IF(D9="Y",1,IF(D9="S",0,-1)) -> -1 | AA49: =IF(E9="Y",1,IF(E9="S",0,-1)) -> 1 | AB49: =IF(F9="Y",1,IF(F9="S",0,-1)) -> -1 | AC49: =IF(G9="Y",1,IF(G9="S",0,-1)) -> -1 | AD49: =IF(H9="Y",1,IF(H9="S",0,-1)) -> -1 | AE49: =IF(I9="Y",1,IF(I9="S",0,-1)) -> 1 | AF49: =IF(J9="Y",1,IF(J9="S",0,-1)) -> -1 | AG49: =IF(Q9="Y",1,IF(Q9="S",0,-1)) -> -1 | AH49: =IF(R9="Y",1,IF(R9="S",0,-1)) -> -1 | AI49: =IF(S9="Y",1,IF(S9="S",0,-1)) -> 1
X50: =B10 -> number | Y50: =IF(C10="Y",1,IF(C10="S",0,-1)) -> 1 | Z50: =IF(D10="Y",1,IF(D10="S",0,-1)) -> 0 | AA50: =IF(E10="Y",1,IF(E10="S",0,-1)) -> 1 | AB50: =IF(F10="Y",1,IF(F10="S",0,-1)) -> 1 | AC50: =IF(G10="Y",1,IF(G10="S",0,-1)) -> 0 | AD50: =IF(H10="Y",1,IF(H10="S",0,-1)) -> -1 | AE50: =IF(I10="Y",1,IF(I10="S",0,-1)) -> -1 | AF50: =IF(J10="Y",1,IF(J10="S",0,-1)) -> 1 | AG50: =IF(Q10="Y",1,IF(Q10="S",0,-1)) -> -1 | AH50: =IF(R10="Y",1,IF(R10="S",0,-1)) -> -1 | AI50: =IF(S10="Y",1,IF(S10="S",0,-1)) -> 1
X51: =B17 -> array | Y51: =IF(C17="Y",1,IF(C17="S",0,-1)) -> 1 | Z51: =IF(D17="Y",1,IF(D17="S",0,-1)) -> -1 | AA51: =IF(E17="Y",1,IF(E17="S",0,-1)) -> 1 | AB51: =IF(F17="Y",1,IF(F17="S",0,-1)) -> -1 | AC51: =IF(G17="Y",1,IF(G17="S",0,-1)) -> -1 | AD51: =IF(H17="Y",1,IF(H17="S",0,-1)) -> -1 | AE51: =IF(I17="Y",1,IF(I17="S",0,-1)) -> -1 | AF51: =IF(J17="Y",1,IF(J17="S",0,-1)) -> -1 | AG51: =IF(Q17="Y",1,IF(Q17="S",0,-1)) -> 1 | AH51: =IF(R17="Y",1,IF(R17="S",0,-1)) -> -1 | AI51: =IF(S17="Y",1,IF(S17="S",0,-1)) -> -1
X52: =B18 -> map | Y52: =IF(C18="Y",1,IF(C18="S",0,-1)) -> 1 | Z52: =IF(D18="Y",1,IF(D18="S",0,-1)) -> -1 | AA52: =IF(E18="Y",1,IF(E18="S",0,-1)) -> 1 | AB52: =IF(F18="Y",1,IF(F18="S",0,-1)) -> -1 | AC52: =IF(G18="Y",1,IF(G18="S",0,-1)) -> -1 | AD52: =IF(H18="Y",1,IF(H18="S",0,-1)) -> -1 | AE52: =IF(I18="Y",1,IF(I18="S",0,-1)) -> -1 | AF52: =IF(J18="Y",1,IF(J18="S",0,-1)) -> -1 | AG52: =IF(Q18="Y",1,IF(Q18="S",0,-1)) -> -1 | AH52: =IF(R18="Y",1,IF(R18="S",0,-1)) -> 1 | AI52: =IF(S18="Y",1,IF(S18="S",0,-1)) -> -1
X53: =B19 -> scalar | Y53: =IF(C19="Y",1,IF(C19="S",0,-1)) -> 1 | Z53: =IF(D19="Y",1,IF(D19="S",0,-1)) -> 0 | AA53: =IF(E19="Y",1,IF(E19="S",0,-1)) -> 1 | AB53: =IF(F19="Y",1,IF(F19="S",0,-1)) -> 0 | AC53: =IF(G19="Y",1,IF(G19="S",0,-1)) -> 0 | AD53: =IF(H19="Y",1,IF(H19="S",0,-1)) -> 0 | AE53: =IF(I19="Y",1,IF(I19="S",0,-1)) -> 0 | AF53: =IF(J19="Y",1,IF(J19="S",0,-1)) -> 0 | AG53: =IF(Q19="Y",1,IF(Q19="S",0,-1)) -> -1 | AH53: =IF(R19="Y",1,IF(R19="S",0,-1)) -> -1 | AI53: =IF(S19="Y",1,IF(S19="S",0,-1)) -> 1
Y55: 1 | Z55: allowed converstion
Y56: 0 | Z56: conditional conversion
Z57: prohibited conversion

Sheet TNT Implicit today (old)
D3: any | E3: unsigned | F3: string | G3: double | H3: integer | I3: boolean | J3: varbinary | K3: number | L3: array | M3: map | N3: scalar | S3: =D3 -> any | T3: =E3 -> unsigned | U3: =F3 -> string | V3: =G3 -> double | W3: =H3 -> integer | X3: =I3 -> boolean | Y3: =J3 -> varbinary | Z3: =K3 -> number | ... AC3: =N3 -> scalar
C4: any | D4: Y | E4: S | F4: S | G4: S | H4: S | I4: S | J4: S | K4: S | L4: S | M4: S | N4: S | R4: =C4 -> any | S4: =IF(D4="Y",1,IF(D4="S",0,-1)) -> 1 | T4: =IF(E4="Y",1,IF(E4="S",0,-1)) -> 0 | U4: =IF(F4="Y",1,IF(F4="S",0,-1)) -> 0 | V4: =IF(G4="Y",1,IF(G4="S",0,-1)) -> 0 | W4: =IF(H4="Y",1,IF(H4="S",0,-1)) -> 0 | X4: =IF(I4="Y",1,IF(I4="S",0,-1)) -> 0 | Y4: =IF(J4="Y",1,IF(J4="S",0,-1)) -> 0 | Z4: =IF(K4="Y",1,IF(K4="S",0,-1)) -> 0 | ... AC4: =IF(N4="Y",1,IF(N4="S",0,-1)) -> 0
C5: unsigned | D5: Y | E5: Y | F5: Y | G5: Y | H5: Y | K5: Y | N5: Y | R5: =C5 -> unsigned | S5: =IF(D5="Y",1,IF(D5="S",0,-1)) -> 1 | T5: =IF(E5="Y",1,IF(E5="S",0,-1)) -> 1 | U5: =IF(F5="Y",1,IF(F5="S",0,-1)) -> 1 | V5: =IF(G5="Y",1,IF(G5="S",0,-1)) -> 1 | W5: =IF(H5="Y",1,IF(H5="S",0,-1)) -> 1 | X5: =IF(I5="Y",1,IF(I5="S",0,-1)) -> -1 | Y5: =IF(J5="Y",1,IF(J5="S",0,-1)) -> -1 | Z5: =IF(K5="Y",1,IF(K5="S",0,-1)) -> 1 | ... AC5: =IF(N5="Y",1,IF(N5="S",0,-1)) -> 1
C6: string | D6: Y | E6: S | F6: Y | G6: S | H6: S | J6: Y | K6: S | N6: Y | R6: =C6 -> string | S6: =IF(D6="Y",1,IF(D6="S",0,-1)) -> 1 | T6: =IF(E6="Y",1,IF(E6="S",0,-1)) -> 0 | U6: =IF(F6="Y",1,IF(F6="S",0,-1)) -> 1 | V6: =IF(G6="Y",1,IF(G6="S",0,-1)) -> 0 | W6: =IF(H6="Y",1,IF(H6="S",0,-1)) -> 0 | X6: =IF(I6="Y",1,IF(I6="S",0,-1)) -> -1 | Y6: =IF(J6="Y",1,IF(J6="S",0,-1)) -> 1 | Z6: =IF(K6="Y",1,IF(K6="S",0,-1)) -> 0 | ... AC6: =IF(N6="Y",1,IF(N6="S",0,-1)) -> 1
C7: double | D7: Y | E7: S | F7: Y | G7: Y | H7: S | K7: Y | N7: Y | R7: =C7 -> double | S7: =IF(D7="Y",1,IF(D7="S",0,-1)) -> 1 | T7: =IF(E7="Y",1,IF(E7="S",0,-1)) -> 0 | U7: =IF(F7="Y",1,IF(F7="S",0,-1)) -> 1 | V7: =IF(G7="Y",1,IF(G7="S",0,-1)) -> 1 | W7: =IF(H7="Y",1,IF(H7="S",0,-1)) -> 0 | X7: =IF(I7="Y",1,IF(I7="S",0,-1)) -> -1 | Y7: =IF(J7="Y",1,IF(J7="S",0,-1)) -> -1 | Z7: =IF(K7="Y",1,IF(K7="S",0,-1)) -> 1 | ... AC7: =IF(N7="Y",1,IF(N7="S",0,-1)) -> 1
C8: integer | D8: Y | E8: S | F8: Y | G8: Y | H8: Y | K8: Y | N8: Y | R8: =C8 -> integer | S8: =IF(D8="Y",1,IF(D8="S",0,-1)) -> 1 | T8: =IF(E8="Y",1,IF(E8="S",0,-1)) -> 0 | U8: =IF(F8="Y",1,IF(F8="S",0,-1)) -> 1 | V8: =IF(G8="Y",1,IF(G8="S",0,-1)) -> 1 | W8: =IF(H8="Y",1,IF(H8="S",0,-1)) -> 1 | X8: =IF(I8="Y",1,IF(I8="S",0,-1)) -> -1 | Y8: =IF(J8="Y",1,IF(J8="S",0,-1)) -> -1 | Z8: =IF(K8="Y",1,IF(K8="S",0,-1)) -> 1 | ... AC8: =IF(N8="Y",1,IF(N8="S",0,-1)) -> 1
C9: boolean | D9: Y | I9: Y | N9: Y | R9: =C9 -> boolean | S9: =IF(D9="Y",1,IF(D9="S",0,-1)) -> 1 | T9: =IF(E9="Y",1,IF(E9="S",0,-1)) -> -1 | U9: =IF(F9="Y",1,IF(F9="S",0,-1)) -> -1 | V9: =IF(G9="Y",1,IF(G9="S",0,-1)) -> -1 | W9: =IF(H9="Y",1,IF(H9="S",0,-1)) -> -1 | X9: =IF(I9="Y",1,IF(I9="S",0,-1)) -> 1 | Y9: =IF(J9="Y",1,IF(J9="S",0,-1)) -> -1 | Z9: =IF(K9="Y",1,IF(K9="S",0,-1)) -> -1 | ... AC9: =IF(N9="Y",1,IF(N9="S",0,-1)) -> 1
C10: varbinary | D10: Y | F10: Y | J10: Y | N10: Y | R10: =C10 -> varbinary | S10: =IF(D10="Y",1,IF(D10="S",0,-1)) -> 1 | T10: =IF(E10="Y",1,IF(E10="S",0,-1)) -> -1 | U10: =IF(F10="Y",1,IF(F10="S",0,-1)) -> 1 | V10: =IF(G10="Y",1,IF(G10="S",0,-1)) -> -1 | W10: =IF(H10="Y",1,IF(H10="S",0,-1)) -> -1 | X10: =IF(I10="Y",1,IF(I10="S",0,-1)) -> -1 | Y10: =IF(J10="Y",1,IF(J10="S",0,-1)) -> 1 | Z10: =IF(K10="Y",1,IF(K10="S",0,-1)) -> -1 | ... AC10: =IF(N10="Y",1,IF(N10="S",0,-1)) -> 1
C11: number | D11: Y | E11: S | F11: Y | G11: Y | H11: S | K11: Y | N11: Y | R11: =C11 -> number | S11: =IF(D11="Y",1,IF(D11="S",0,-1)) -> 1 | T11: =IF(E11="Y",1,IF(E11="S",0,-1)) -> 0 | U11: =IF(F11="Y",1,IF(F11="S",0,-1)) -> 1 | V11: =IF(G11="Y",1,IF(G11="S",0,-1)) -> 1 | W11: =IF(H11="Y",1,IF(H11="S",0,-1)) -> 0 | X11: =IF(I11="Y",1,IF(I11="S",0,-1)) -> -1 | Y11: =IF(J11="Y",1,IF(J11="S",0,-1)) -> -1 | Z11: =IF(K11="Y",1,IF(K11="S",0,-1)) -> 1 | ... AC11: =IF(N11="Y",1,IF(N11="S",0,-1)) -> 1
C12: array | D12: Y | L12: Y | N12: N | R12: =C12 -> array | S12: =IF(D12="Y",1,IF(D12="S",0,-1)) -> 1 | T12: =IF(E12="Y",1,IF(E12="S",0,-1)) -> -1 | U12: =IF(F12="Y",1,IF(F12="S",0,-1)) -> -1 | V12: =IF(G12="Y",1,IF(G12="S",0,-1)) -> -1 | W12: =IF(H12="Y",1,IF(H12="S",0,-1)) -> -1 | X12: =IF(I12="Y",1,IF(I12="S",0,-1)) -> -1 | Y12: =IF(J12="Y",1,IF(J12="S",0,-1)) -> -1 | Z12: =IF(K12="Y",1,IF(K12="S",0,-1)) -> -1 | ... AC12: =IF(N12="Y",1,IF(N12="S",0,-1)) -> -1
C13: map | D13: Y | M13: Y | N13: N | R13: =C13 -> map | S13: =IF(D13="Y",1,IF(D13="S",0,-1)) -> 1 | T13: =IF(E13="Y",1,IF(E13="S",0,-1)) -> -1 | U13: =IF(F13="Y",1,IF(F13="S",0,-1)) -> -1 | V13: =IF(G13="Y",1,IF(G13="S",0,-1)) -> -1 | W13: =IF(H13="Y",1,IF(H13="S",0,-1)) -> -1 | X13: =IF(I13="Y",1,IF(I13="S",0,-1)) -> -1 | Y13: =IF(J13="Y",1,IF(J13="S",0,-1)) -> -1 | Z13: =IF(K13="Y",1,IF(K13="S",0,-1)) -> -1 | ... AC13: =IF(N13="Y",1,IF(N13="S",0,-1)) -> -1
C14: scalar | D14: Y | E14: S | F14: S | G14: S | H14: S | I14: S | J14: S | K14: S | L14: N | M14: N | N14: Y | R14: =C14 -> scalar | S14: =IF(D14="Y",1,IF(D14="S",0,-1)) -> 1 | T14: =IF(E14="Y",1,IF(E14="S",0,-1)) -> 0 | U14: =IF(F14="Y",1,IF(F14="S",0,-1)) -> 0 | V14: =IF(G14="Y",1,IF(G14="S",0,-1)) -> 0 | W14: =IF(H14="Y",1,IF(H14="S",0,-1)) -> 0 | X14: =IF(I14="Y",1,IF(I14="S",0,-1)) -> 0 | Y14: =IF(J14="Y",1,IF(J14="S",0,-1)) -> 0 | Z14: =IF(K14="Y",1,IF(K14="S",0,-1)) -> 0 | ... AC14: =IF(N14="Y",1,IF(N14="S",0,-1)) -> 1
D16: 0 - allowed | S16: 1 | T16: allowed converstion
D17: =-1 - _xludf.error -> #NAME? | S17: 0 | T17: conditional conversion
D18: 1 - sometimes | T18: prohibited conversion
H20: bitops works with int64

Sheet TNT Implicit today (refactoring
D3: any | E3: unsigned | F3: string | G3: double | H3: integer | I3: boolean | J3: varbinary | K3: number | L3: array | M3: map | N3: scalar | S3: =D3 -> any | T3: =E3 -> unsigned | U3: =F3 -> string | V3: =G3 -> double | W3: =H3 -> integer | X3: =I3 -> boolean | Y3: =J3 -> varbinary | Z3: =K3 -> number | ... AC3: =N3 -> scalar
C4: any | D4: Y | E4: S | F4: S | G4: S | H4: S | I4: S | J4: S | K4: S | R4: =C4 -> any | S4: =IF(D4="Y",1,IF(D4="S",0,-1)) -> 1 | T4: =IF(E4="Y",1,IF(E4="S",0,-1)) -> 0 | U4: =IF(F4="Y",1,IF(F4="S",0,-1)) -> 0 | V4: =IF(G4="Y",1,IF(G4="S",0,-1)) -> 0 | W4: =IF(H4="Y",1,IF(H4="S",0,-1)) -> 0 | X4: =IF(I4="Y",1,IF(I4="S",0,-1)) -> 0 | Y4: =IF(J4="Y",1,IF(J4="S",0,-1)) -> 0 | Z4: =IF(K4="Y",1,IF(K4="S",0,-1)) -> 0 | ... AC4: =IF(N4="Y",1,IF(N4="S",0,-1)) -> -1
C5: unsigned | D5: Y | E5: Y | G5: Y | H5: Y | K5: Y | N5: Y | R5: =C5 -> unsigned | S5: =IF(D5="Y",1,IF(D5="S",0,-1)) -> 1 | T5: =IF(E5="Y",1,IF(E5="S",0,-1)) -> 1 | U5: =IF(F5="Y",1,IF(F5="S",0,-1)) -> -1 | V5: =IF(G5="Y",1,IF(G5="S",0,-1)) -> 1 | W5: =IF(H5="Y",1,IF(H5="S",0,-1)) -> 1 | X5: =IF(I5="Y",1,IF(I5="S",0,-1)) -> -1 | Y5: =IF(J5="Y",1,IF(J5="S",0,-1)) -> -1 | Z5: =IF(K5="Y",1,IF(K5="S",0,-1)) -> 1 | ... AC5: =IF(N5="Y",1,IF(N5="S",0,-1)) -> 1
C6: string | D6: Y | F6: Y | N6: Y | R6: =C6 -> string | S6: =IF(D6="Y",1,IF(D6="S",0,-1)) -> 1 | T6: =IF(E6="Y",1,IF(E6="S",0,-1)) -> -1 | U6: =IF(F6="Y",1,IF(F6="S",0,-1)) -> 1 | V6: =IF(G6="Y",1,IF(G6="S",0,-1)) -> -1 | W6: =IF(H6="Y",1,IF(H6="S",0,-1)) -> -1 | X6: =IF(I6="Y",1,IF(I6="S",0,-1)) -> -1 | Y6: =IF(J6="Y",1,IF(J6="S",0,-1)) -> -1 | Z6: =IF(K6="Y",1,IF(K6="S",0,-1)) -> -1 | ... AC6: =IF(N6="Y",1,IF(N6="S",0,-1)) -> 1
C7: double | D7: Y | E7: S | G7: Y | H7: S | K7: Y | N7: Y | R7: =C7 -> double | S7: =IF(D7="Y",1,IF(D7="S",0,-1)) -> 1 | T7: =IF(E7="Y",1,IF(E7="S",0,-1)) -> 0 | U7: =IF(F7="Y",1,IF(F7="S",0,-1)) -> -1 | V7: =IF(G7="Y",1,IF(G7="S",0,-1)) -> 1 | W7: =IF(H7="Y",1,IF(H7="S",0,-1)) -> 0 | X7: =IF(I7="Y",1,IF(I7="S",0,-1)) -> -1 | Y7: =IF(J7="Y",1,IF(J7="S",0,-1)) -> -1 | Z7: =IF(K7="Y",1,IF(K7="S",0,-1)) -> 1 | ... AC7: =IF(N7="Y",1,IF(N7="S",0,-1)) -> 1
C8: integer | D8: Y | E8: S | G8: Y | H8: Y | K8: Y | N8: Y | R8: =C8 -> integer | S8: =IF(D8="Y",1,IF(D8="S",0,-1)) -> 1 | T8: =IF(E8="Y",1,IF(E8="S",0,-1)) -> 0 | U8: =IF(F8="Y",1,IF(F8="S",0,-1)) -> -1 | V8: =IF(G8="Y",1,IF(G8="S",0,-1)) -> 1 | W8: =IF(H8="Y",1,IF(H8="S",0,-1)) -> 1 | X8: =IF(I8="Y",1,IF(I8="S",0,-1)) -> -1 | Y8: =IF(J8="Y",1,IF(J8="S",0,-1)) -> -1 | Z8: =IF(K8="Y",1,IF(K8="S",0,-1)) -> 1 | ... AC8: =IF(N8="Y",1,IF(N8="S",0,-1)) -> 1
C9: boolean | D9: Y | I9: Y | N9: Y | R9: =C9 -> boolean | S9: =IF(D9="Y",1,IF(D9="S",0,-1)) -> 1 | T9: =IF(E9="Y",1,IF(E9="S",0,-1)) -> -1 | U9: =IF(F9="Y",1,IF(F9="S",0,-1)) -> -1 | V9: =IF(G9="Y",1,IF(G9="S",0,-1)) -> -1 | W9: =IF(H9="Y",1,IF(H9="S",0,-1)) -> -1 | X9: =IF(I9="Y",1,IF(I9="S",0,-1)) -> 1 | Y9: =IF(J9="Y",1,IF(J9="S",0,-1)) -> -1 | Z9: =IF(K9="Y",1,IF(K9="S",0,-1)) -> -1 | ... AC9: =IF(N9="Y",1,IF(N9="S",0,-1)) -> 1
C10: varbinary | D10: Y | J10: Y | N10: Y | R10: =C10 -> varbinary | S10: =IF(D10="Y",1,IF(D10="S",0,-1)) -> 1 | T10: =IF(E10="Y",1,IF(E10="S",0,-1)) -> -1 | U10: =IF(F10="Y",1,IF(F10="S",0,-1)) -> -1 | V10: =IF(G10="Y",1,IF(G10="S",0,-1)) -> -1 | W10: =IF(H10="Y",1,IF(H10="S",0,-1)) -> -1 | X10: =IF(I10="Y",1,IF(I10="S",0,-1)) -> -1 | Y10: =IF(J10="Y",1,IF(J10="S",0,-1)) -> 1 | Z10: =IF(K10="Y",1,IF(K10="S",0,-1)) -> -1 | ... AC10: =IF(N10="Y",1,IF(N10="S",0,-1)) -> 1
C11: number | D11: Y | E11: S | G11: Y | H11: S | K11: Y | N11: Y | R11: =C11 -> number | S11: =IF(D11="Y",1,IF(D11="S",0,-1)) -> 1 | T11: =IF(E11="Y",1,IF(E11="S",0,-1)) -> 0 | U11: =IF(F11="Y",1,IF(F11="S",0,-1)) -> -1 | V11: =IF(G11="Y",1,IF(G11="S",0,-1)) -> 1 | W11: =IF(H11="Y",1,IF(H11="S",0,-1)) -> 0 | X11: =IF(I11="Y",1,IF(I11="S",0,-1)) -> -1 | Y11: =IF(J11="Y",1,IF(J11="S",0,-1)) -> -1 | Z11: =IF(K11="Y",1,IF(K11="S",0,-1)) -> 1 | ... AC11: =IF(N11="Y",1,IF(N11="S",0,-1)) -> 1
C12: array | D12: Y | L12: Y | N12: N | R12: =C12 -> array | S12: =IF(D12="Y",1,IF(D12="S",0,-1)) -> 1 | T12: =IF(E12="Y",1,IF(E12="S",0,-1)) -> -1 | U12: =IF(F12="Y",1,IF(F12="S",0,-1)) -> -1 | V12: =IF(G12="Y",1,IF(G12="S",0,-1)) -> -1 | W12: =IF(H12="Y",1,IF(H12="S",0,-1)) -> -1 | X12: =IF(I12="Y",1,IF(I12="S",0,-1)) -> -1 | Y12: =IF(J12="Y",1,IF(J12="S",0,-1)) -> -1 | Z12: =IF(K12="Y",1,IF(K12="S",0,-1)) -> -1 | ... AC12: =IF(N12="Y",1,IF(N12="S",0,-1)) -> -1
C13: map | D13: Y | M13: Y | N13: N | R13: =C13 -> map | S13: =IF(D13="Y",1,IF(D13="S",0,-1)) -> 1 | T13: =IF(E13="Y",1,IF(E13="S",0,-1)) -> -1 | U13: =IF(F13="Y",1,IF(F13="S",0,-1)) -> -1 | V13: =IF(G13="Y",1,IF(G13="S",0,-1)) -> -1 | W13: =IF(H13="Y",1,IF(H13="S",0,-1)) -> -1 | X13: =IF(I13="Y",1,IF(I13="S",0,-1)) -> -1 | Y13: =IF(J13="Y",1,IF(J13="S",0,-1)) -> -1 | Z13: =IF(K13="Y",1,IF(K13="S",0,-1)) -> -1 | ... AC13: =IF(N13="Y",1,IF(N13="S",0,-1)) -> -1
C14: scalar | D14: Y | E14: S | F14: S | G14: S | H14: S | I14: S | J14: S | K14: S | L14: N | M14: N | N14: Y | R14: =C14 -> scalar | S14: =IF(D14="Y",1,IF(D14="S",0,-1)) -> 1 | T14: =IF(E14="Y",1,IF(E14="S",0,-1)) -> 0 | U14: =IF(F14="Y",1,IF(F14="S",0,-1)) -> 0 | V14: =IF(G14="Y",1,IF(G14="S",0,-1)) -> 0 | W14: =IF(H14="Y",1,IF(H14="S",0,-1)) -> 0 | X14: =IF(I14="Y",1,IF(I14="S",0,-1)) -> 0 | Y14: =IF(J14="Y",1,IF(J14="S",0,-1)) -> 0 | Z14: =IF(K14="Y",1,IF(K14="S",0,-1)) -> 0 | ... AC14: =IF(N14="Y",1,IF(N14="S",0,-1)) -> 1
D16: 0 - allowed | S16: 1 | T16: allowed converstion
D17: =-1 - _xludf.error -> #NAME? | S17: 0 | T17: conditional conversion
D18: 1 - sometimes | T18: prohibited conversion

Sheet TNT Implicit (extended)
D3: any | E3: unsigned | F3: string | G3: double | H3: integer | I3: boolean | J3: varbinary | K3: number | L3: decimal | M3: uuid | N3: date | O3: time | P3: timestamp | Q3: interval | R3: array | S3: map | T3: scalar | Y3: =D3 -> any | Z3: =E3 -> unsigned | AA3: =F3 -> string | AB3: =G3 -> double | AC3: =H3 -> integer | AD3: =I3 -> boolean | AE3: =J3 -> varbinary | AF3: =K3 -> number | ... AO3: =T3 -> scalar
C4: any | D4: Y | E4: S | F4: S | G4: S | H4: S | I4: S | J4: S | K4: S | L4: S | M4: S | N4: S | O4: S | P4: S | Q4: S | R4: S | S4: S | T4: S | X4: =C4 -> any | Y4: =IF(D4="Y",1,IF(D4="S",0,-1)) -> 1 | Z4: =IF(E4="Y",1,IF(E4="S",0,-1)) -> 0 | AA4: =IF(F4="Y",1,IF(F4="S",0,-1)) -> 0 | AB4: =IF(G4="Y",1,IF(G4="S",0,-1)) -> 0 | AC4: =IF(H4="Y",1,IF(H4="S",0,-1)) -> 0 | AD4: =IF(I4="Y",1,IF(I4="S",0,-1)) -> 0 | AE4: =IF(J4="Y",1,IF(J4="S",0,-1)) -> 0 | AF4: =IF(K4="Y",1,IF(K4="S",0,-1)) -> 0 | ... AO4: =IF(T4="Y",1,IF(T4="S",0,-1)) -> 0
C5: unsigned | D5: Y | E5: Y | F5: Y | G5: Y | H5: Y | K5: Y | L5: Y | T5: Y | X5: =C5 -> unsigned | Y5: =IF(D5="Y",1,IF(D5="S",0,-1)) -> 1 | Z5: =IF(E5="Y",1,IF(E5="S",0,-1)) -> 1 | AA5: =IF(F5="Y",1,IF(F5="S",0,-1)) -> 1 | AB5: =IF(G5="Y",1,IF(G5="S",0,-1)) -> 1 | AC5: =IF(H5="Y",1,IF(H5="S",0,-1)) -> 1 | AD5: =IF(I5="Y",1,IF(I5="S",0,-1)) -> -1 | AE5: =IF(J5="Y",1,IF(J5="S",0,-1)) -> -1 | AF5: =IF(K5="Y",1,IF(K5="S",0,-1)) -> 1 | ... AO5: =IF(T5="Y",1,IF(T5="S",0,-1)) -> 1
C6: string | D6: Y | E6: S | F6: Y | G6: S | H6: S | J6: Y | K6: S | L6: S | M6: S | N6: S | O6: S | P6: S | Q6: S | T6: Y | X6: =C6 -> string | Y6: =IF(D6="Y",1,IF(D6="S",0,-1)) -> 1 | Z6: =IF(E6="Y",1,IF(E6="S",0,-1)) -> 0 | AA6: =IF(F6="Y",1,IF(F6="S",0,-1)) -> 1 | AB6: =IF(G6="Y",1,IF(G6="S",0,-1)) -> 0 | AC6: =IF(H6="Y",1,IF(H6="S",0,-1)) -> 0 | AD6: =IF(I6="Y",1,IF(I6="S",0,-1)) -> -1 | AE6: =IF(J6="Y",1,IF(J6="S",0,-1)) -> 1 | AF6: =IF(K6="Y",1,IF(K6="S",0,-1)) -> 0 | ... AO6: =IF(T6="Y",1,IF(T6="S",0,-1)) -> 1
C7: double | D7: Y | E7: S | F7: Y | G7: Y | H7: S | K7: Y | L7: Y | T7: Y | X7: =C7 -> double | Y7: =IF(D7="Y",1,IF(D7="S",0,-1)) -> 1 | Z7: =IF(E7="Y",1,IF(E7="S",0,-1)) -> 0 | AA7: =IF(F7="Y",1,IF(F7="S",0,-1)) -> 1 | AB7: =IF(G7="Y",1,IF(G7="S",0,-1)) -> 1 | AC7: =IF(H7="Y",1,IF(H7="S",0,-1)) -> 0 | AD7: =IF(I7="Y",1,IF(I7="S",0,-1)) -> -1 | AE7: =IF(J7="Y",1,IF(J7="S",0,-1)) -> -1 | AF7: =IF(K7="Y",1,IF(K7="S",0,-1)) -> 1 | ... AO7: =IF(T7="Y",1,IF(T7="S",0,-1)) -> 1
C8: integer | D8: Y | E8: S | F8: Y | G8: Y | H8: Y | K8: Y | L8: Y | T8: Y | X8: =C8 -> integer | Y8: =IF(D8="Y",1,IF(D8="S",0,-1)) -> 1 | Z8: =IF(E8="Y",1,IF(E8="S",0,-1)) -> 0 | AA8: =IF(F8="Y",1,IF(F8="S",0,-1)) -> 1 | AB8: =IF(G8="Y",1,IF(G8="S",0,-1)) -> 1 | AC8: =IF(H8="Y",1,IF(H8="S",0,-1)) -> 1 | AD8: =IF(I8="Y",1,IF(I8="S",0,-1)) -> -1 | AE8: =IF(J8="Y",1,IF(J8="S",0,-1)) -> -1 | AF8: =IF(K8="Y",1,IF(K8="S",0,-1)) -> 1 | ... AO8: =IF(T8="Y",1,IF(T8="S",0,-1)) -> 1
C9: boolean | D9: Y | I9: Y | T9: Y | X9: =C9 -> boolean | Y9: =IF(D9="Y",1,IF(D9="S",0,-1)) -> 1 | Z9: =IF(E9="Y",1,IF(E9="S",0,-1)) -> -1 | AA9: =IF(F9="Y",1,IF(F9="S",0,-1)) -> -1 | AB9: =IF(G9="Y",1,IF(G9="S",0,-1)) -> -1 | AC9: =IF(H9="Y",1,IF(H9="S",0,-1)) -> -1 | AD9: =IF(I9="Y",1,IF(I9="S",0,-1)) -> 1 | AE9: =IF(J9="Y",1,IF(J9="S",0,-1)) -> -1 | AF9: =IF(K9="Y",1,IF(K9="S",0,-1)) -> -1 | ... AO9: =IF(T9="Y",1,IF(T9="S",0,-1)) -> 1
C10: varbinary | D10: Y | F10: Y | J10: Y | M10: S | T10: Y | X10: =C10 -> varbinary | Y10: =IF(D10="Y",1,IF(D10="S",0,-1)) -> 1 | Z10: =IF(E10="Y",1,IF(E10="S",0,-1)) -> -1 | AA10: =IF(F10="Y",1,IF(F10="S",0,-1)) -> 1 | AB10: =IF(G10="Y",1,IF(G10="S",0,-1)) -> -1 | AC10: =IF(H10="Y",1,IF(H10="S",0,-1)) -> -1 | AD10: =IF(I10="Y",1,IF(I10="S",0,-1)) -> -1 | AE10: =IF(J10="Y",1,IF(J10="S",0,-1)) -> 1 | AF10: =IF(K10="Y",1,IF(K10="S",0,-1)) -> -1 | ... AO10: =IF(T10="Y",1,IF(T10="S",0,-1)) -> 1
C11: number | D11: Y | E11: S | F11: Y | G11: Y | H11: S | K11: Y | L11: Y | T11: Y | X11: =C11 -> number | Y11: =IF(D11="Y",1,IF(D11="S",0,-1)) -> 1 | Z11: =IF(E11="Y",1,IF(E11="S",0,-1)) -> 0 | AA11: =IF(F11="Y",1,IF(F11="S",0,-1)) -> 1 | AB11: =IF(G11="Y",1,IF(G11="S",0,-1)) -> 1 | AC11: =IF(H11="Y",1,IF(H11="S",0,-1)) -> 0 | AD11: =IF(I11="Y",1,IF(I11="S",0,-1)) -> -1 | AE11: =IF(J11="Y",1,IF(J11="S",0,-1)) -> -1 | AF11: =IF(K11="Y",1,IF(K11="S",0,-1)) -> 1 | ... AO11: =IF(T11="Y",1,IF(T11="S",0,-1)) -> 1
C12: decimal | D12: Y | E12: S | F12: Y | G12: S | H12: S | K12: Y | L12: Y | T12: Y | X12: =C12 -> decimal | Y12: =IF(D12="Y",1,IF(D12="S",0,-1)) -> 1 | Z12: =IF(E12="Y",1,IF(E12="S",0,-1)) -> 0 | AA12: =IF(F12="Y",1,IF(F12="S",0,-1)) -> 1 | AB12: =IF(G12="Y",1,IF(G12="S",0,-1)) -> 0 | AC12: =IF(H12="Y",1,IF(H12="S",0,-1)) -> 0 | AD12: =IF(I12="Y",1,IF(I12="S",0,-1)) -> -1 | AE12: =IF(J12="Y",1,IF(J12="S",0,-1)) -> -1 | AF12: =IF(K12="Y",1,IF(K12="S",0,-1)) -> 1 | ... AO12: =IF(T12="Y",1,IF(T12="S",0,-1)) -> 1
C13: uuid | D13: Y | F13: Y | J13: Y | M13: Y | T13: Y | X13: =C13 -> uuid | Y13: =IF(D13="Y",1,IF(D13="S",0,-1)) -> 1 | Z13: =IF(E13="Y",1,IF(E13="S",0,-1)) -> -1 | AA13: =IF(F13="Y",1,IF(F13="S",0,-1)) -> 1 | AB13: =IF(G13="Y",1,IF(G13="S",0,-1)) -> -1 | AC13: =IF(H13="Y",1,IF(H13="S",0,-1)) -> -1 | AD13: =IF(I13="Y",1,IF(I13="S",0,-1)) -> -1 | AE13: =IF(J13="Y",1,IF(J13="S",0,-1)) -> 1 | AF13: =IF(K13="Y",1,IF(K13="S",0,-1)) -> -1 | ... AO13: =IF(T13="Y",1,IF(T13="S",0,-1)) -> 1
C14: date | D14: Y | F14: Y | N14: Y | P14: Y | T14: Y | X14: =C14 -> date | Y14: =IF(D14="Y",1,IF(D14="S",0,-1)) -> 1 | Z14: =IF(E14="Y",1,IF(E14="S",0,-1)) -> -1 | AA14: =IF(F14="Y",1,IF(F14="S",0,-1)) -> 1 | AB14: =IF(G14="Y",1,IF(G14="S",0,-1)) -> -1 | AC14: =IF(H14="Y",1,IF(H14="S",0,-1)) -> -1 | AD14: =IF(I14="Y",1,IF(I14="S",0,-1)) -> -1 | AE14: =IF(J14="Y",1,IF(J14="S",0,-1)) -> -1 | AF14: =IF(K14="Y",1,IF(K14="S",0,-1)) -> -1 | ... AO14: =IF(T14="Y",1,IF(T14="S",0,-1)) -> 1
C15: time | D15: Y | F15: Y | O15: Y | P15: Y | T15: Y | X15: =C15 -> time | Y15: =IF(D15="Y",1,IF(D15="S",0,-1)) -> 1 | Z15: =IF(E15="Y",1,IF(E15="S",0,-1)) -> -1 | AA15: =IF(F15="Y",1,IF(F15="S",0,-1)) -> 1 | AB15: =IF(G15="Y",1,IF(G15="S",0,-1)) -> -1 | AC15: =IF(H15="Y",1,IF(H15="S",0,-1)) -> -1 | AD15: =IF(I15="Y",1,IF(I15="S",0,-1)) -> -1 | AE15: =IF(J15="Y",1,IF(J15="S",0,-1)) -> -1 | AF15: =IF(K15="Y",1,IF(K15="S",0,-1)) -> -1 | ... AO15: =IF(T15="Y",1,IF(T15="S",0,-1)) -> 1
C16: timestamp | D16: Y | F16: Y | N16: Y | O16: Y | P16: Y | T16: Y | X16: =C16 -> timestamp | Y16: =IF(D16="Y",1,IF(D16="S",0,-1)) -> 1 | Z16: =IF(E16="Y",1,IF(E16="S",0,-1)) -> -1 | AA16: =IF(F16="Y",1,IF(F16="S",0,-1)) -> 1 | AB16: =IF(G16="Y",1,IF(G16="S",0,-1)) -> -1 | AC16: =IF(H16="Y",1,IF(H16="S",0,-1)) -> -1 | AD16: =IF(I16="Y",1,IF(I16="S",0,-1)) -> -1 | AE16: =IF(J16="Y",1,IF(J16="S",0,-1)) -> -1 | AF16: =IF(K16="Y",1,IF(K16="S",0,-1)) -> -1 | ... AO16: =IF(T16="Y",1,IF(T16="S",0,-1)) -> 1
C17: interval | D17: Y | F17: Y | Q17: Y | T17: Y | X17: =C17 -> interval | Y17: =IF(D17="Y",1,IF(D17="S",0,-1)) -> 1 | Z17: =IF(E17="Y",1,IF(E17="S",0,-1)) -> -1 | AA17: =IF(F17="Y",1,IF(F17="S",0,-1)) -> 1 | AB17: =IF(G17="Y",1,IF(G17="S",0,-1)) -> -1 | AC17: =IF(H17="Y",1,IF(H17="S",0,-1)) -> -1 | AD17: =IF(I17="Y",1,IF(I17="S",0,-1)) -> -1 | AE17: =IF(J17="Y",1,IF(J17="S",0,-1)) -> -1 | AF17: =IF(K17="Y",1,IF(K17="S",0,-1)) -> -1 | ... AO17: =IF(T17="Y",1,IF(T17="S",0,-1)) -> 1
C18: array | D18: Y | R18: Y | T18: N | X18: =C18 -> array | Y18: =IF(D18="Y",1,IF(D18="S",0,-1)) -> 1 | Z18: =IF(E18="Y",1,IF(E18="S",0,-1)) -> -1 | AA18: =IF(F18="Y",1,IF(F18="S",0,-1)) -> -1 | AB18: =IF(G18="Y",1,IF(G18="S",0,-1)) -> -1 | AC18: =IF(H18="Y",1,IF(H18="S",0,-1)) -> -1 | AD18: =IF(I18="Y",1,IF(I18="S",0,-1)) -> -1 | AE18: =IF(J18="Y",1,IF(J18="S",0,-1)) -> -1 | AF18: =IF(K18="Y",1,IF(K18="S",0,-1)) -> -1 | ... AO18: =IF(T18="Y",1,IF(T18="S",0,-1)) -> -1
C19: map | D19: Y | S19: Y | T19: N | X19: =C19 -> map | Y19: =IF(D19="Y",1,IF(D19="S",0,-1)) -> 1 | Z19: =IF(E19="Y",1,IF(E19="S",0,-1)) -> -1 | AA19: =IF(F19="Y",1,IF(F19="S",0,-1)) -> -1 | AB19: =IF(G19="Y",1,IF(G19="S",0,-1)) -> -1 | AC19: =IF(H19="Y",1,IF(H19="S",0,-1)) -> -1 | AD19: =IF(I19="Y",1,IF(I19="S",0,-1)) -> -1 | AE19: =IF(J19="Y",1,IF(J19="S",0,-1)) -> -1 | AF19: =IF(K19="Y",1,IF(K19="S",0,-1)) -> -1 | ... AO19: =IF(T19="Y",1,IF(T19="S",0,-1)) -> -1
C20: scalar | D20: Y | E20: S | F20: S | G20: S | H20: S | I20: S | J20: S | K20: S | L20: S | M20: S | N20: S | O20: S | P20: S | Q20: S | R20: N | S20: N | T20: Y | X20: =C20 -> scalar | Y20: =IF(D20="Y",1,IF(D20="S",0,-1)) -> 1 | Z20: =IF(E20="Y",1,IF(E20="S",0,-1)) -> 0 | AA20: =IF(F20="Y",1,IF(F20="S",0,-1)) -> 0 | AB20: =IF(G20="Y",1,IF(G20="S",0,-1)) -> 0 | AC20: =IF(H20="Y",1,IF(H20="S",0,-1)) -> 0 | AD20: =IF(I20="Y",1,IF(I20="S",0,-1)) -> 0 | AE20: =IF(J20="Y",1,IF(J20="S",0,-1)) -> 0 | AF20: =IF(K20="Y",1,IF(K20="S",0,-1)) -> 0 | ... AO20: =IF(T20="Y",1,IF(T20="S",0,-1)) -> 1
D22: 0 - allowed | Y22: 1 | Z22: allowed converstion
D23: =-1 - _xludf.error -> #NAME? | Y23: 0 | Z23: conditional conversion
D24: 1 - sometimes | Z24: prohibited conversion
H26: bitops works with int64
Y38: =D3 -> any | Z38: =E3 -> unsigned | AA38: =F3 -> string | AB38: =G3 -> double | AC38: =H3 -> integer | AD38: =I3 -> boolean | AE38: =J3 -> varbinary | AF38: =K3 -> number | AG38: =R3 -> array | AH38: =S3 -> map | AI38: =T3 -> scalar
X39: =C4 -> any | Y39: =IF(D4="Y",1,IF(D4="S",0,-1)) -> 1 | Z39: =IF(E4="Y",1,IF(E4="S",0,-1)) -> 0 | AA39: =IF(F4="Y",1,IF(F4="S",0,-1)) -> 0 | AB39: =IF(G4="Y",1,IF(G4="S",0,-1)) -> 0 | AC39: =IF(H4="Y",1,IF(H4="S",0,-1)) -> 0 | AD39: =IF(I4="Y",1,IF(I4="S",0,-1)) -> 0 | AE39: =IF(J4="Y",1,IF(J4="S",0,-1)) -> 0 | AF39: =IF(K4="Y",1,IF(K4="S",0,-1)) -> 0 | AG39: =IF(R4="Y",1,IF(R4="S",0,-1)) -> 0 | AH39: =IF(S4="Y",1,IF(S4="S",0,-1)) -> 0 | AI39: =IF(T4="Y",1,IF(T4="S",0,-1)) -> 0
X40: =C5 -> unsigned | Y40: =IF(D5="Y",1,IF(D5="S",0,-1)) -> 1 | Z40: =IF(E5="Y",1,IF(E5="S",0,-1)) -> 1 | AA40: =IF(F5="Y",1,IF(F5="S",0,-1)) -> 1 | AB40: =IF(G5="Y",1,IF(G5="S",0,-1)) -> 1 | AC40: =IF(H5="Y",1,IF(H5="S",0,-1)) -> 1 | AD40: =IF(I5="Y",1,IF(I5="S",0,-1)) -> -1 | AE40: =IF(J5="Y",1,IF(J5="S",0,-1)) -> -1 | AF40: =IF(K5="Y",1,IF(K5="S",0,-1)) -> 1 | AG40: =IF(R5="Y",1,IF(R5="S",0,-1)) -> -1 | AH40: =IF(S5="Y",1,IF(S5="S",0,-1)) -> -1 | AI40: =IF(T5="Y",1,IF(T5="S",0,-1)) -> 1
X41: =C6 -> string | Y41: =IF(D6="Y",1,IF(D6="S",0,-1)) -> 1 | Z41: =IF(E6="Y",1,IF(E6="S",0,-1)) -> 0 | AA41: =IF(F6="Y",1,IF(F6="S",0,-1)) -> 1 | AB41: =IF(G6="Y",1,IF(G6="S",0,-1)) -> 0 | AC41: =IF(H6="Y",1,IF(H6="S",0,-1)) -> 0 | AD41: =IF(I6="Y",1,IF(I6="S",0,-1)) -> -1 | AE41: =IF(J6="Y",1,IF(J6="S",0,-1)) -> 1 | AF41: =IF(K6="Y",1,IF(K6="S",0,-1)) -> 0 | AG41: =IF(R6="Y",1,IF(R6="S",0,-1)) -> -1 | AH41: =IF(S6="Y",1,IF(S6="S",0,-1)) -> -1 | AI41: =IF(T6="Y",1,IF(T6="S",0,-1)) -> 1
X42: =C7 -> double | Y42: =IF(D7="Y",1,IF(D7="S",0,-1)) -> 1 | Z42: =IF(E7="Y",1,IF(E7="S",0,-1)) -> 0 | AA42: =IF(F7="Y",1,IF(F7="S",0,-1)) -> 1 | AB42: =IF(G7="Y",1,IF(G7="S",0,-1)) -> 1 | AC42: =IF(H7="Y",1,IF(H7="S",0,-1)) -> 0 | AD42: =IF(I7="Y",1,IF(I7="S",0,-1)) -> -1 | AE42: =IF(J7="Y",1,IF(J7="S",0,-1)) -> -1 | AF42: =IF(K7="Y",1,IF(K7="S",0,-1)) -> 1 | AG42: =IF(R7="Y",1,IF(R7="S",0,-1)) -> -1 | AH42: =IF(S7="Y",1,IF(S7="S",0,-1)) -> -1 | AI42: =IF(T7="Y",1,IF(T7="S",0,-1)) -> 1
X43: =C8 -> integer | Y43: =IF(D8="Y",1,IF(D8="S",0,-1)) -> 1 | Z43: =IF(E8="Y",1,IF(E8="S",0,-1)) -> 0 | AA43: =IF(F8="Y",1,IF(F8="S",0,-1)) -> 1 | AB43: =IF(G8="Y",1,IF(G8="S",0,-1)) -> 1 | AC43: =IF(H8="Y",1,IF(H8="S",0,-1)) -> 1 | AD43: =IF(I8="Y",1,IF(I8="S",0,-1)) -> -1 | AE43: =IF(J8="Y",1,IF(J8="S",0,-1)) -> -1 | AF43: =IF(K8="Y",1,IF(K8="S",0,-1)) -> 1 | AG43: =IF(R8="Y",1,IF(R8="S",0,-1)) -> -1 | AH43: =IF(S8="Y",1,IF(S8="S",0,-1)) -> -1 | AI43: =IF(T8="Y",1,IF(T8="S",0,-1)) -> 1
X44: =C9 -> boolean | Y44: =IF(D9="Y",1,IF(D9="S",0,-1)) -> 1 | Z44: =IF(E9="Y",1,IF(E9="S",0,-1)) -> -1 | AA44: =IF(F9="Y",1,IF(F9="S",0,-1)) -> -1 | AB44: =IF(G9="Y",1,IF(G9="S",0,-1)) -> -1 | AC44: =IF(H9="Y",1,IF(H9="S",0,-1)) -> -1 | AD44: =IF(I9="Y",1,IF(I9="S",0,-1)) -> 1 | AE44: =IF(J9="Y",1,IF(J9="S",0,-1)) -> -1 | AF44: =IF(K9="Y",1,IF(K9="S",0,-1)) -> -1 | AG44: =IF(R9="Y",1,IF(R9="S",0,-1)) -> -1 | AH44: =IF(S9="Y",1,IF(S9="S",0,-1)) -> -1 | AI44: =IF(T9="Y",1,IF(T9="S",0,-1)) -> 1
X45: =C10 -> varbinary | Y45: =IF(D10="Y",1,IF(D10="S",0,-1)) -> 1 | Z45: =IF(E10="Y",1,IF(E10="S",0,-1)) -> -1 | AA45: =IF(F10="Y",1,IF(F10="S",0,-1)) -> 1 | AB45: =IF(G10="Y",1,IF(G10="S",0,-1)) -> -1 | AC45: =IF(H10="Y",1,IF(H10="S",0,-1)) -> -1 | AD45: =IF(I10="Y",1,IF(I10="S",0,-1)) -> -1 | AE45: =IF(J10="Y",1,IF(J10="S",0,-1)) -> 1 | AF45: =IF(K10="Y",1,IF(K10="S",0,-1)) -> -1 | AG45: =IF(R10="Y",1,IF(R10="S",0,-1)) -> -1 | AH45: =IF(S10="Y",1,IF(S10="S",0,-1)) -> -1 | AI45: =IF(T10="Y",1,IF(T10="S",0,-1)) -> 1
X46: =C11 -> number | Y46: =IF(D11="Y",1,IF(D11="S",0,-1)) -> 1 | Z46: =IF(E11="Y",1,IF(E11="S",0,-1)) -> 0 | AA46: =IF(F11="Y",1,IF(F11="S",0,-1)) -> 1 | AB46: =IF(G11="Y",1,IF(G11="S",0,-1)) -> 1 | AC46: =IF(H11="Y",1,IF(H11="S",0,-1)) -> 0 | AD46: =IF(I11="Y",1,IF(I11="S",0,-1)) -> -1 | AE46: =IF(J11="Y",1,IF(J11="S",0,-1)) -> -1 | AF46: =IF(K11="Y",1,IF(K11="S",0,-1)) -> 1 | AG46: =IF(R11="Y",1,IF(R11="S",0,-1)) -> -1 | AH46: =IF(S11="Y",1,IF(S11="S",0,-1)) -> -1 | AI46: =IF(T11="Y",1,IF(T11="S",0,-1)) -> 1
X47: =C18 -> array | Y47: =IF(D18="Y",1,IF(D18="S",0,-1)) -> 1 | Z47: =IF(E18="Y",1,IF(E18="S",0,-1)) -> -1 | AA47: =IF(F18="Y",1,IF(F18="S",0,-1)) -> -1 | AB47: =IF(G18="Y",1,IF(G18="S",0,-1)) -> -1 | AC47: =IF(H18="Y",1,IF(H18="S",0,-1)) -> -1 | AD47: =IF(I18="Y",1,IF(I18="S",0,-1)) -> -1 | AE47: =IF(J18="Y",1,IF(J18="S",0,-1)) -> -1 | AF47: =IF(K18="Y",1,IF(K18="S",0,-1)) -> -1 | AG47: =IF(R18="Y",1,IF(R18="S",0,-1)) -> 1 | AH47: =IF(S18="Y",1,IF(S18="S",0,-1)) -> -1 | AI47: =IF(T18="Y",1,IF(T18="S",0,-1)) -> -1
X48: =C19 -> map | Y48: =IF(D19="Y",1,IF(D19="S",0,-1)) -> 1 | Z48: =IF(E19="Y",1,IF(E19="S",0,-1)) -> -1 | AA48: =IF(F19="Y",1,IF(F19="S",0,-1)) -> -1 | AB48: =IF(G19="Y",1,IF(G19="S",0,-1)) -> -1 | AC48: =IF(H19="Y",1,IF(H19="S",0,-1)) -> -1 | AD48: =IF(I19="Y",1,IF(I19="S",0,-1)) -> -1 | AE48: =IF(J19="Y",1,IF(J19="S",0,-1)) -> -1 | AF48: =IF(K19="Y",1,IF(K19="S",0,-1)) -> -1 | AG48: =IF(R19="Y",1,IF(R19="S",0,-1)) -> -1 | AH48: =IF(S19="Y",1,IF(S19="S",0,-1)) -> 1 | AI48: =IF(T19="Y",1,IF(T19="S",0,-1)) -> -1
X49: =C20 -> scalar | Y49: =IF(D20="Y",1,IF(D20="S",0,-1)) -> 1 | Z49: =IF(E20="Y",1,IF(E20="S",0,-1)) -> 0 | AA49: =IF(F20="Y",1,IF(F20="S",0,-1)) -> 0 | AB49: =IF(G20="Y",1,IF(G20="S",0,-1)) -> 0 | AC49: =IF(H20="Y",1,IF(H20="S",0,-1)) -> 0 | AD49: =IF(I20="Y",1,IF(I20="S",0,-1)) -> 0 | AE49: =IF(J20="Y",1,IF(J20="S",0,-1)) -> 0 | AF49: =IF(K20="Y",1,IF(K20="S",0,-1)) -> 0 | AG49: =IF(R20="Y",1,IF(R20="S",0,-1)) -> -1 | AH49: =IF(S20="Y",1,IF(S20="S",0,-1)) -> -1 | AI49: =IF(T20="Y",1,IF(T20="S",0,-1)) -> 1
Y51: 1 | Z51: allowed converstion
Y52: 0 | Z52: sometimes
Y53: -1 | Z53: prohibited conversion

Sheet implicit casts
B1: BOOLEAN | C1: INTEGER | D1: DOUBLE | E1: STRING | F1: BINARY
A2: BOOLEAN | B2: A
A3: INTEGER | C3: A | D3: A | E3: A
A4: DOUBLE | C4: A | D4: A | E4: A
A5: STRING | C5: S | D5: S | E5: A
A6: BINARY | F6: A

Sheet mem-mp
B3: MEM_Null | C3: 0x0001 | D3: NULL
B4: MEM_Str | C4: 0x0002 | D4: string
B5: MEM_Int | C5: 0x0004 | D5: integer
B6: MEM_Real | C6: 0x0008 | D6: real number
B7: MEM_Blob | C7: 0x0010 | D7: BLOB
B8: MEM_Bool | C8: 0x0020 | D8: bool
B9: MEM_UInt | C9: 0x0040 | D9: unsigned integer
B10: MEM_Frame | C10: 0x0080 | D10: VdbeFrame object
B11: MEM_Undefined | C11: 0x0100 | D11: undefined
B12: MEM_Cleared | C12: 0x0200 | D12: OP_Null, not from data

Sheet ISO SQL (2)
D3: Exact num | E3: Float num | F3: Character | G3: Date | H3: Time | I3: Timestamp | J3: Year-Month Interval | K3: Day-Time Interval | L3: Boolean | M3: User-Defined Type | N3: Binary | O3: Reference | P3: Collection | Q3: Row
B4: Exact Numeric | C4: EN | D4: =IF(D22="Y",1,IF(D22="N"," ",-1)) -> 1 | E4: =IF(E22="Y",1,IF(E22="N"," ",-1)) -> 1 | F4: =IF(F22="Y",1,IF(F22="N"," ",-1)) -> 1 | G4: =IF(G22="Y",1,IF(G22="N"," ",-1)) | H4: =IF(H22="Y",1,IF(H22="N"," ",-1)) | I4: =IF(I22="Y",1,IF(I22="N"," ",-1)) | J4: =IF(J22="Y",1,IF(J22="N"," ",-1)) -> -1 | K4: =IF(K22="Y",1,IF(K22="N"," ",-1)) -> -1 | ... Q4: =IF(Q22="Y",1,IF(Q22="N"," ",-1))
B5: Approximate Numeric | C5: AN | D5: =IF(D23="Y",1,IF(D23="N"," ",-1)) -> 1 | E5: =IF(E23="Y",1,IF(E23="N"," ",-1)) -> 1 | F5: =IF(F23="Y",1,IF(F23="N"," ",-1)) -> 1 | G5: =IF(G23="Y",1,IF(G23="N"," ",-1)) | H5: =IF(H23="Y",1,IF(H23="N"," ",-1)) | I5: =IF(I23="Y",1,IF(I23="N"," ",-1)) | J5: =IF(J23="Y",1,IF(J23="N"," ",-1)) | K5: =IF(K23="Y",1,IF(K23="N"," ",-1)) | ... Q5: =IF(Q23="Y",1,IF(Q23="N"," ",-1))
B6: Character (Fixed-or Variable-Length, or Character Large Object) | C6: C | D6: =IF(D24="Y",1,IF(D24="N"," ",-1)) -> 1 | E6: =IF(E24="Y",1,IF(E24="N"," ",-1)) -> 1 | F6: =IF(F24="Y",1,IF(F24="N"," ",-1)) -> 1 | G6: =IF(G24="Y",1,IF(G24="N"," ",-1)) -> 1 | H6: =IF(H24="Y",1,IF(H24="N"," ",-1)) -> 1 | I6: =IF(I24="Y",1,IF(I24="N"," ",-1)) -> 1 | J6: =IF(J24="Y",1,IF(J24="N"," ",-1)) -> 1 | K6: =IF(K24="Y",1,IF(K24="N"," ",-1)) -> 1 | ... Q6: =IF(Q24="Y",1,IF(Q24="N"," ",-1))
B7: Date | C7: D | D7: =IF(D25="Y",1,IF(D25="N"," ",-1)) | E7: =IF(E25="Y",1,IF(E25="N"," ",-1)) | F7: =IF(F25="Y",1,IF(F25="N"," ",-1)) -> 1 | G7: =IF(G25="Y",1,IF(G25="N"," ",-1)) -> 1 | H7: =IF(H25="Y",1,IF(H25="N"," ",-1)) | I7: =IF(I25="Y",1,IF(I25="N"," ",-1)) -> 1 | J7: =IF(J25="Y",1,IF(J25="N"," ",-1)) | K7: =IF(K25="Y",1,IF(K25="N"," ",-1)) | ... Q7: =IF(Q25="Y",1,IF(Q25="N"," ",-1))
B8: Time | C8: T | D8: =IF(D26="Y",1,IF(D26="N"," ",-1)) | E8: =IF(E26="Y",1,IF(E26="N"," ",-1)) | F8: =IF(F26="Y",1,IF(F26="N"," ",-1)) -> 1 | G8: =IF(G26="Y",1,IF(G26="N"," ",-1)) | H8: =IF(H26="Y",1,IF(H26="N"," ",-1)) -> 1 | I8: =IF(I26="Y",1,IF(I26="N"," ",-1)) -> 1 | J8: =IF(J26="Y",1,IF(J26="N"," ",-1)) | K8: =IF(K26="Y",1,IF(K26="N"," ",-1)) | ... Q8: =IF(Q26="Y",1,IF(Q26="N"," ",-1))
B9: Timestamp | C9: TS | D9: =IF(D27="Y",1,IF(D27="N"," ",-1)) | E9: =IF(E27="Y",1,IF(E27="N"," ",-1)) | F9: =IF(F27="Y",1,IF(F27="N"," ",-1)) -> 1 | G9: =IF(G27="Y",1,IF(G27="N"," ",-1)) -> 1 | H9: =IF(H27="Y",1,IF(H27="N"," ",-1)) -> 1 | I9: =IF(I27="Y",1,IF(I27="N"," ",-1)) -> 1 | J9: =IF(J27="Y",1,IF(J27="N"," ",-1)) | K9: =IF(K27="Y",1,IF(K27="N"," ",-1)) | ... Q9: =IF(Q27="Y",1,IF(Q27="N"," ",-1))
B10: Year-Month Interval | C10: YM | D10: =IF(D28="Y",1,IF(D28="N"," ",-1)) -> -1 | E10: =IF(E28="Y",1,IF(E28="N"," ",-1)) | F10: =IF(F28="Y",1,IF(F28="N"," ",-1)) -> 1 | G10: =IF(G28="Y",1,IF(G28="N"," ",-1)) | H10: =IF(H28="Y",1,IF(H28="N"," ",-1)) | I10: =IF(I28="Y",1,IF(I28="N"," ",-1)) | J10: =IF(J28="Y",1,IF(J28="N"," ",-1)) -> 1 | K10: =IF(K28="Y",1,IF(K28="N"," ",-1)) | ... Q10: =IF(Q28="Y",1,IF(Q28="N"," ",-1))
B11: Day-Time Interval | C11: DT | D11: =IF(D29="Y",1,IF(D29="N"," ",-1)) -> -1 | E11: =IF(E29="Y",1,IF(E29="N"," ",-1)) | F11: =IF(F29="Y",1,IF(F29="N"," ",-1)) -> 1 | G11: =IF(G29="Y",1,IF(G29="N"," ",-1)) | H11: =IF(H29="Y",1,IF(H29="N"," ",-1)) | I11: =IF(I29="Y",1,IF(I29="N"," ",-1)) | J11: =IF(J29="Y",1,IF(J29="N"," ",-1)) | K11: =IF(K29="Y",1,IF(K29="N"," ",-1)) -> 1 | ... Q11: =IF(Q29="Y",1,IF(Q29="N"," ",-1))
B12: Boolean | C12: BO | D12: =IF(D30="Y",1,IF(D30="N"," ",-1)) | E12: =IF(E30="Y",1,IF(E30="N"," ",-1)) | F12: =IF(F30="Y",1,IF(F30="N"," ",-1)) -> 1 | G12: =IF(G30="Y",1,IF(G30="N"," ",-1)) | H12: =IF(H30="Y",1,IF(H30="N"," ",-1)) | I12: =IF(I30="Y",1,IF(I30="N"," ",-1)) | J12: =IF(J30="Y",1,IF(J30="N"," ",-1)) | K12: =IF(K30="Y",1,IF(K30="N"," ",-1)) | ... Q12: =IF(Q30="Y",1,IF(Q30="N"," ",-1))
B13: User-Defined Type | C13: UDT | D13: =IF(D31="Y",1,IF(D31="N"," ",-1)) -> -1 | E13: =IF(E31="Y",1,IF(E31="N"," ",-1)) -> -1 | F13: =IF(F31="Y",1,IF(F31="N"," ",-1)) -> -1 | G13: =IF(G31="Y",1,IF(G31="N"," ",-1)) -> -1 | H13: =IF(H31="Y",1,IF(H31="N"," ",-1)) -> -1 | I13: =IF(I31="Y",1,IF(I31="N"," ",-1)) -> -1 | J13: =IF(J31="Y",1,IF(J31="N"," ",-1)) -> -1 | K13: =IF(K31="Y",1,IF(K31="N"," ",-1)) -> -1 | ... Q13: =IF(Q31="Y",1,IF(Q31="N"," ",-1))
B14: Binary (Fixed-or Variable-Length or Binary LargeObject) | C14: B | D14: =IF(D32="Y",1,IF(D32="N"," ",-1)) | E14: =IF(E32="Y",1,IF(E32="N"," ",-1)) | F14: =IF(F32="Y",1,IF(F32="N"," ",-1)) | G14: =IF(G32="Y",1,IF(G32="N"," ",-1)) | H14: =IF(H32="Y",1,IF(H32="N"," ",-1)) | I14: =IF(I32="Y",1,IF(I32="N"," ",-1)) | J14: =IF(J32="Y",1,IF(J32="N"," ",-1)) | K14: =IF(K32="Y",1,IF(K32="N"," ",-1)) | ... Q14: =IF(Q32="Y",1,IF(Q32="N"," ",-1))
B15: Reference type | C15: RT | D15: =IF(D33="Y",1,IF(D33="N"," ",-1)) -> -1 | E15: =IF(E33="Y",1,IF(E33="N"," ",-1)) -> -1 | F15: =IF(F33="Y",1,IF(F33="N"," ",-1)) -> -1 | G15: =IF(G33="Y",1,IF(G33="N"," ",-1)) -> -1 | H15: =IF(H33="Y",1,IF(H33="N"," ",-1)) -> -1 | I15: =IF(I33="Y",1,IF(I33="N"," ",-1)) -> -1 | J15: =IF(J33="Y",1,IF(J33="N"," ",-1)) -> -1 | K15: =IF(K33="Y",1,IF(K33="N"," ",-1)) -> -1 | ... Q15: =IF(Q33="Y",1,IF(Q33="N"," ",-1))
... B17: Row type | C17: RW | D17: =IF(D35="Y",1,IF(D35="N"," ",-1)) | E17: =IF(E35="Y",1,IF(E35="N"," ",-1)) | F17: =IF(F35="Y",1,IF(F35="N"," ",-1)) | G17: =IF(G35="Y",1,IF(G35="N"," ",-1)) | H17: =IF(H35="Y",1,IF(H35="N"," ",-1)) | I17: =IF(I35="Y",1,IF(I35="N"," ",-1)) | J17: =IF(J35="Y",1,IF(J35="N"," ",-1)) | K17: =IF(K35="Y",1,IF(K35="N"," ",-1)) | ... Q17: =IF(Q35="Y",1,IF(Q35="N"," ",-1)) -> -1
D19: =IF(D37="Y",1,IF(D37="N"," ",-1)) -> -1 | E19: =IF(E37="Y",1,IF(E37="N"," ",-1)) -> -1 | F19: =IF(F37="Y",1,IF(F37="N"," ",-1)) -> -1 | G19: =IF(G37="Y",1,IF(G37="N"," ",-1)) -> -1 | H19: =IF(H37="Y",1,IF(H37="N"," ",-1)) -> -1 | I19: =IF(I37="Y",1,IF(I37="N"," ",-1)) -> -1 | J19: =IF(J37="Y",1,IF(J37="N"," ",-1)) -> -1 | K19: =IF(K37="Y",1,IF(K37="N"," ",-1)) -> -1 | ... Q19: =IF(Q37="Y",1,IF(Q37="N"," ",-1)) -> -1
D21: Exact num | E21: Float num | F21: Character | G21: Date | H21: Time | I21: Timestamp | J21: Year-Month Interval | K21: Day-Time Interval | L21: Boolean | M21: User-Defined Type | N21: Binary | O21: Reference | P21: Collection | Q21: Row
B22: Exact Numeric | C22: EN | D22: Y | E22: Y | F22: Y | G22: N | H22: N | I22: N | J22: M | K22: M | L22: N | M22: M | N22: N | O22: M | P22: N | Q22: N
B23: Approximate Numeric | C23: AN | D23: Y | E23: Y | F23: Y | G23: N | H23: N | I23: N | J23: N | K23: N | L23: N | M23: M | N23: N | O23: M | P23: N | Q23: N
B24: Character (Fixed-or Variable-Length, or Character Large Object) | C24: C | D24: Y | E24: Y | F24: Y | G24: Y | H24: Y | I24: Y | J24: Y | K24: Y | L24: Y | M24: M | N24: N | O24: M | P24: N | Q24: N
B25: Date | C25: D | D25: N | E25: N | F25: Y | G25: Y | H25: N | I25: Y | J25: N | K25: N | L25: N | M25: M | N25: N | O25: M | P25: N | Q25: N
B26: Time | C26: T | D26: N | E26: N | F26: Y | G26: N | H26: Y | I26: Y | J26: N | K26: N | L26: N | M26: M | N26: N | O26: M | P26: N | Q26: N
B27: Timestamp | C27: TS | D27: N | E27: N | F27: Y | G27: Y | H27: Y | I27: Y | J27: N | K27: N | L27: N | M27: M | N27: N | O27: M | P27: N | Q27: N
B28: Year-Month Interval | C28: YM | D28: M | E28: N | F28: Y | G28: N | H28: N | I28: N | J28: Y | K28: N | L28: N | M28: M | N28: N | O28: M | P28: N | Q28: N
B29: Day-Time Interval | C29: DT | D29: M | E29: N | F29: Y | G29: N | H29: N | I29: N | J29: N | K29: Y | L29: N | M29: M | N29: N | O29: M | P29: N | Q29: N
B30: Boolean | C30: BO | D30: N | E30: N | F30: Y | G30: N | H30: N | I30: N | J30: N | K30: N | L30: Y | M30: M | N30: N | O30: M | P30: N | Q30: N
B31: User-Defined Type | C31: UDT | D31: M | E31: M | F31: M | G31: M | H31: M | I31: M | J31: M | K31: M | L31: M | M31: M | N31: M | O31: M | P31: M | Q31: N
B32: Binary (Fixed-or Variable-Length or Binary LargeObject) | C32: B | D32: N | E32: N | F32: N | G32: N | H32: N | I32: N | J32: N | K32: N | L32: N | M32: M | N32: Y | O32: M | P32: N | Q32: N
B33: Reference type | C33: RT | D33: M | E33: M | F33: M | G33: M | H33: M | I33: M | J33: M | K33: M | L33: M | M33: M | N33: M | O33: M | P33: N | Q33: N
... B35: Row type | C35: RW | D35: N | E35: N | F35: N | G35: N | H35: N | I35: N | J35: N | K35: N | L35: N | M35: N | N35: N | O35: N | P35: N | Q35: M

Sheet ISO SQL
D3: Exact num | E3: Float num | F3: Character | G3: Date | H3: Time | I3: Timestamp | J3: Year-Month Interval | K3: Day-Time Interval | L3: Boolean | M3: User-Defined Type | N3: Binary | O3: Reference | P3: Collection | Q3: Row
B4: Exact Numeric | C4: EN | D4: =IF(D22="Y",1,IF(D22="N",-1,0)) -> 1 | E4: =IF(E22="Y",1,IF(E22="N",-1,0)) -> 1 | F4: =IF(F22="Y",1,IF(F22="N",-1,0)) -> 1 | G4: =IF(G22="Y",1,IF(G22="N",-1,0)) -> -1 | H4: =IF(H22="Y",1,IF(H22="N",-1,0)) -> -1 | I4: =IF(I22="Y",1,IF(I22="N",-1,0)) -> -1 | J4: =IF(J22="Y",1,IF(J22="N",-1,0)) -> 0 | K4: =IF(K22="Y",1,IF(K22="N",-1,0)) -> 0 | ... Q4: =IF(Q22="Y",1,IF(Q22="N",-1,0)) -> -1
B5: Approximate Numeric | C5: AN | D5: =IF(D23="Y",1,IF(D23="N",-1,0)) -> 1 | E5: =IF(E23="Y",1,IF(E23="N",-1,0)) -> 1 | F5: =IF(F23="Y",1,IF(F23="N",-1,0)) -> 1 | G5: =IF(G23="Y",1,IF(G23="N",-1,0)) -> -1 | H5: =IF(H23="Y",1,IF(H23="N",-1,0)) -> -1 | I5: =IF(I23="Y",1,IF(I23="N",-1,0)) -> -1 | J5: =IF(J23="Y",1,IF(J23="N",-1,0)) -> -1 | K5: =IF(K23="Y",1,IF(K23="N",-1,0)) -> -1 | ... Q5: =IF(Q23="Y",1,IF(Q23="N",-1,0)) -> -1
B6: Character(Fixed-or Variable-Length, or Character Large Object) | C6: C | D6: =IF(D24="Y",1,IF(D24="N",-1,0)) -> 1 | E6: =IF(E24="Y",1,IF(E24="N",-1,0)) -> 1 | F6: =IF(F24="Y",1,IF(F24="N",-1,0)) -> 1 | G6: =IF(G24="Y",1,IF(G24="N",-1,0)) -> 1 | H6: =IF(H24="Y",1,IF(H24="N",-1,0)) -> 1 | I6: =IF(I24="Y",1,IF(I24="N",-1,0)) -> 1 | J6: =IF(J24="Y",1,IF(J24="N",-1,0)) -> 1 | K6: =IF(K24="Y",1,IF(K24="N",-1,0)) -> 1 | ... Q6: =IF(Q24="Y",1,IF(Q24="N",-1,0)) -> -1
B7: Date | C7: D | D7: =IF(D25="Y",1,IF(D25="N",-1,0)) -> -1 | E7: =IF(E25="Y",1,IF(E25="N",-1,0)) -> -1 | F7: =IF(F25="Y",1,IF(F25="N",-1,0)) -> 1 | G7: =IF(G25="Y",1,IF(G25="N",-1,0)) -> 1 | H7: =IF(H25="Y",1,IF(H25="N",-1,0)) -> -1 | I7: =IF(I25="Y",1,IF(I25="N",-1,0)) -> 1 | J7: =IF(J25="Y",1,IF(J25="N",-1,0)) -> -1 | K7: =IF(K25="Y",1,IF(K25="N",-1,0)) -> -1 | ... Q7: =IF(Q25="Y",1,IF(Q25="N",-1,0)) -> -1
B8: Time | C8: T | D8: =IF(D26="Y",1,IF(D26="N",-1,0)) -> -1 | E8: =IF(E26="Y",1,IF(E26="N",-1,0)) -> -1 | F8: =IF(F26="Y",1,IF(F26="N",-1,0)) -> 1 | G8: =IF(G26="Y",1,IF(G26="N",-1,0)) -> -1 | H8: =IF(H26="Y",1,IF(H26="N",-1,0)) -> 1 | I8: =IF(I26="Y",1,IF(I26="N",-1,0)) -> 1 | J8: =IF(J26="Y",1,IF(J26="N",-1,0)) -> -1 | K8: =IF(K26="Y",1,IF(K26="N",-1,0)) -> -1 | ... Q8: =IF(Q26="Y",1,IF(Q26="N",-1,0)) -> -1
B9: Timestamp | C9: TS | D9: =IF(D27="Y",1,IF(D27="N",-1,0)) -> -1 | E9: =IF(E27="Y",1,IF(E27="N",-1,0)) -> -1 | F9: =IF(F27="Y",1,IF(F27="N",-1,0)) -> 1 | G9: =IF(G27="Y",1,IF(G27="N",-1,0)) -> 1 | H9: =IF(H27="Y",1,IF(H27="N",-1,0)) -> 1 | I9: =IF(I27="Y",1,IF(I27="N",-1,0)) -> 1 | J9: =IF(J27="Y",1,IF(J27="N",-1,0)) -> -1 | K9: =IF(K27="Y",1,IF(K27="N",-1,0)) -> -1 | ... Q9: =IF(Q27="Y",1,IF(Q27="N",-1,0)) -> -1
B10: Year-Month Interval | C10: YM | D10: =IF(D28="Y",1,IF(D28="N",-1,0)) -> 0 | E10: =IF(E28="Y",1,IF(E28="N",-1,0)) -> -1 | F10: =IF(F28="Y",1,IF(F28="N",-1,0)) -> 1 | G10: =IF(G28="Y",1,IF(G28="N",-1,0)) -> -1 | H10: =IF(H28="Y",1,IF(H28="N",-1,0)) -> -1 | I10: =IF(I28="Y",1,IF(I28="N",-1,0)) -> -1 | J10: =IF(J28="Y",1,IF(J28="N",-1,0)) -> 1 | K10: =IF(K28="Y",1,IF(K28="N",-1,0)) -> -1 | ... Q10: =IF(Q28="Y",1,IF(Q28="N",-1,0)) -> -1
B11: Day-Time Interval | C11: DT | D11: =IF(D29="Y",1,IF(D29="N",-1,0)) -> 0 | E11: =IF(E29="Y",1,IF(E29="N",-1,0)) -> -1 | F11: =IF(F29="Y",1,IF(F29="N",-1,0)) -> 1 | G11: =IF(G29="Y",1,IF(G29="N",-1,0)) -> -1 | H11: =IF(H29="Y",1,IF(H29="N",-1,0)) -> -1 | I11: =IF(I29="Y",1,IF(I29="N",-1,0)) -> -1 | J11: =IF(J29="Y",1,IF(J29="N",-1,0)) -> -1 | K11: =IF(K29="Y",1,IF(K29="N",-1,0)) -> 1 | ... Q11: =IF(Q29="Y",1,IF(Q29="N",-1,0)) -> -1
B12: Boolean | C12: BO | D12: =IF(D30="Y",1,IF(D30="N",-1,0)) -> -1 | E12: =IF(E30="Y",1,IF(E30="N",-1,0)) -> -1 | F12: =IF(F30="Y",1,IF(F30="N",-1,0)) -> 1 | G12: =IF(G30="Y",1,IF(G30="N",-1,0)) -> -1 | H12: =IF(H30="Y",1,IF(H30="N",-1,0)) -> -1 | I12: =IF(I30="Y",1,IF(I30="N",-1,0)) -> -1 | J12: =IF(J30="Y",1,IF(J30="N",-1,0)) -> -1 | K12: =IF(K30="Y",1,IF(K30="N",-1,0)) -> -1 | ... Q12: =IF(Q30="Y",1,IF(Q30="N",-1,0)) -> -1
B13: User-Defined Type | C13: UDT | D13: =IF(D31="Y",1,IF(D31="N",-1,0)) -> 0 | E13: =IF(E31="Y",1,IF(E31="N",-1,0)) -> 0 | F13: =IF(F31="Y",1,IF(F31="N",-1,0)) -> 0 | G13: =IF(G31="Y",1,IF(G31="N",-1,0)) -> 0 | H13: =IF(H31="Y",1,IF(H31="N",-1,0)) -> 0 | I13: =IF(I31="Y",1,IF(I31="N",-1,0)) -> 0 | J13: =IF(J31="Y",1,IF(J31="N",-1,0)) -> 0 | K13: =IF(K31="Y",1,IF(K31="N",-1,0)) -> 0 | ... Q13: =IF(Q31="Y",1,IF(Q31="N",-1,0)) -> -1
B14: Binary(Fixed-or Variable-Length or Binary LargeObject) | C14: B | D14: =IF(D32="Y",1,IF(D32="N",-1,0)) -> -1 | E14: =IF(E32="Y",1,IF(E32="N",-1,0)) -> -1 | F14: =IF(F32="Y",1,IF(F32="N",-1,0)) -> -1 | G14: =IF(G32="Y",1,IF(G32="N",-1,0)) -> -1 | H14: =IF(H32="Y",1,IF(H32="N",-1,0)) -> -1 | I14: =IF(I32="Y",1,IF(I32="N",-1,0)) -> -1 | J14: =IF(J32="Y",1,IF(J32="N",-1,0)) -> -1 | K14: =IF(K32="Y",1,IF(K32="N",-1,0)) -> -1 | ... Q14: =IF(Q32="Y",1,IF(Q32="N",-1,0)) -> -1
B15: Reference type | C15: RT | D15: =IF(D33="Y",1,IF(D33="N",-1,0)) -> 0 | E15: =IF(E33="Y",1,IF(E33="N",-1,0)) -> 0 | F15: =IF(F33="Y",1,IF(F33="N",-1,0)) -> 0 | G15: =IF(G33="Y",1,IF(G33="N",-1,0)) -> 0 | H15: =IF(H33="Y",1,IF(H33="N",-1,0)) -> 0 | I15: =IF(I33="Y",1,IF(I33="N",-1,0)) -> 0 | J15: =IF(J33="Y",1,IF(J33="N",-1,0)) -> 0 | K15: =IF(K33="Y",1,IF(K33="N",-1,0)) -> 0 | ... Q15: =IF(Q33="Y",1,IF(Q33="N",-1,0)) -> -1
... B17: Row type | C17: RW | D17: =IF(D35="Y",1,IF(D35="N",-1,0)) -> -1 | E17: =IF(E35="Y",1,IF(E35="N",-1,0)) -> -1 | F17: =IF(F35="Y",1,IF(F35="N",-1,0)) -> -1 | G17: =IF(G35="Y",1,IF(G35="N",-1,0)) -> -1 | H17: =IF(H35="Y",1,IF(H35="N",-1,0)) -> -1 | I17: =IF(I35="Y",1,IF(I35="N",-1,0)) -> -1 | J17: =IF(J35="Y",1,IF(J35="N",-1,0)) -> -1 | K17: =IF(K35="Y",1,IF(K35="N",-1,0)) -> -1 | ... Q17: =IF(Q35="Y",1,IF(Q35="N",-1,0)) -> 0
D18: =IF(D36="Y",1,IF(D36="N",-1,0)) -> 0 | E18: =IF(E36="Y",1,IF(E36="N",-1,0)) -> 0 | F18: =IF(F36="Y",1,IF(F36="N",-1,0)) -> 0 | G18: =IF(G36="Y",1,IF(G36="N",-1,0)) -> 0 | H18: =IF(H36="Y",1,IF(H36="N",-1,0)) -> 0 | I18: =IF(I36="Y",1,IF(I36="N",-1,0)) -> 0 | J18: =IF(J36="Y",1,IF(J36="N",-1,0)) -> 0 | K18: =IF(K36="Y",1,IF(K36="N",-1,0)) -> 0 | ... Q18: =IF(Q36="Y",1,IF(Q36="N",-1,0)) -> 0
D21: Exact num | E21: Float num | F21: Character | G21: Date | H21: Time | I21: Timestamp | J21: Year-Month Interval | K21: Day-Time Interval | L21: Boolean | M21: User-Defined Type | N21: Binary | O21: Reference | P21: Collection | Q21: Row
C22: EN | D22: Y | E22: Y | F22: Y | G22: N | H22: N | I22: N | J22: M | K22: M | L22: N | M22: M | N22: N | O22: M | P22: N | Q22: N
C23: AN | D23: Y | E23: Y | F23: Y | G23: N | H23: N | I23: N | J23: N | K23: N | L23: N | M23: M | N23: N | O23: M | P23: N | Q23: N
C24: C | D24: Y | E24: Y | F24: Y | G24: Y | H24: Y | I24: Y | J24: Y | K24: Y | L24: Y | M24: M | N24: N | O24: M | P24: N | Q24: N
C25: D | D25: N | E25: N | F25: Y | G25: Y | H25: N | I25: Y | J25: N | K25: N | L25: N | M25: M | N25: N | O25: M | P25: N | Q25: N
C26: T | D26: N | E26: N | F26: Y | G26: N | H26: Y | I26: Y | J26: N | K26: N | L26: N | M26: M | N26: N | O26: M | P26: N | Q26: N
C27: TS | D27: N | E27: N | F27: Y | G27: Y | H27: Y | I27: Y | J27: N | K27: N | L27: N | M27: M | N27: N | O27: M | P27: N | Q27: N
C28: YM | D28: M | E28: N | F28: Y | G28: N | H28: N | I28: N | J28: Y | K28: N | L28: N | M28: M | N28: N | O28: M | P28: N | Q28: N
C29: DT | D29: M | E29: N | F29: Y | G29: N | H29: N | I29: N | J29: N | K29: Y | L29: N | M29: M | N29: N | O29: M | P29: N | Q29: N
C30: BO | D30: N | E30: N | F30: Y | G30: N | H30: N | I30: N | J30: N | K30: N | L30: Y | M30: M | N30: N | O30: M | P30: N | Q30: N
C31: UDT | D31: M | E31: M | F31: M | G31: M | H31: M | I31: M | J31: M | K31: M | L31: M | M31: M | N31: M | O31: M | P31: M | Q31: N
C32: B | D32: N | E32: N | F32: N | G32: N | H32: N | I32: N | J32: N | K32: N | L32: N | M32: M | N32: Y | O32: M | P32: N | Q32: N
C33: RT | D33: M | E33: M | F33: M | G33: M | H33: M | I33: M | J33: M | K33: M | L33: M | M33: M | N33: M | O33: M | P33: N | Q33: N
... C35: RW | D35: N | E35: N | F35: N | G35: N | H35: N | I35: N | J35: N | K35: N | L35: N | M35: N | N35: N | O35: N | P35: N | Q35: M

Sheet PostgreSQL numeric
B4: Table 8.2. Numeric Types
B6: Name | C6: Storage Size | D6: Description | E6: Range
B7: smallint | C7: 2 bytes | D7: small-range integer | E7: -32768 to +32767
B8: integer | C8: 4 bytes | D8: typical choice for integer | E8: -2147483648 to +2147483647
B9: bigint | C9: 8 bytes | D9: large-range integer | E9: -9223372036854775808 to +9223372036854775807
B10: decimal | C10: variable | D10: user-specified precision, exact | E10: up to 131072 digits before the decimal point; up to 16383 digits after the decimal point
B11: numeric | C11: variable | D11: user-specified precision, exact | E11: up to 131072 digits before the decimal point; up to 16383 digits after the decimal point
B12: real | C12: 4 bytes | D12: variable-precision, inexact | E12: 6 decimal digits precision | F12: float(1)..float(24)
B13: double precision | C13: 8 bytes | D13: variable-precision, inexact | E13: 15 decimal digits precision | F13: float(25)..float(53)
B14: smallserial | C14: 2 bytes | D14: small autoincrementing integer | E14: 1 to 32767
B15: serial | C15: 4 bytes | D15: autoincrementing integer | E15: 1 to 2147483647 | F15: use standard identity column instead
B16: bigserial | C16: 8 bytes | D16: large autoincrementing integer | E16: 1 to 9223372036854775807 | F16: CREATE TABLE distributors (
F17: did integer PRIMARY KEY GENERATED BY DEFAULT AS IDENTITY,
F18: name varchar(40) NOT NULL CHECK (name <> '')
F19: );
B20: Table 8.4. Character Types
B22: Name | D22: Description
B23: character varying(n), varchar(n) | C23: * | D23: variable-length with limit
B24: character(n), char(n) | C24: n | D24: fixed-length, blank padded
B25: text | C25: * | D25: variable unlimited length

Sheet MySQL numeric
B3: Table 11.1 Required Storage and Range for Integer Types Supported by MySQL
B5: Type | C5: Storage (Bytes) | D5: Minimum Value Signed | E5: Minimum Value Unsigned | F5: Maximum Value Signed | G5: Maximum Value Unsigned | I5: https://dev.mysql.com/doc/refman/8.0/en/integer-types.html
B6: TINYINT | C6: 1 | D6: -128 | E6: 0 | F6: 127 | G6: 255
B7: SMALLINT | C7: 2 | D7: -32768 | E7: 0 | F7: 32767 | G7: 65535
B8: MEDIUMINT | C8: 3 | D8: -8388608 | E8: 0 | F8: 8388607 | G8: 16777215
B9: INT | C9: 4 | D9: -2147483648 | E9: 0 | F9: 2147483647 | G9: 4294967295
B10: BIGINT | C10: 8 | D10: -263 | E10: 0 | F10: 263-1 | G10: 264-1
B11: decimal | C11: variable
B12: float | C12: 4 | H12: float(0)..float(23)
B13: double | C13: 8 | H13: float(24)..float(53)
B14: bit | C14: variable | F14: NDB Cluster. The maximum combined size of all BIT columns used in a given NDB table must not exceed 4096 bits. | H14: b'111' and b'10000000' represent 7 and 128

Sheet SQL datetime (ALL)
B2: Table 8.9. Date/Time Types
B4: Name | C4: Storage Size | D4: Description | E4: Low Value | F4: High Value | G4: Resolution
B5: timestamp [ (p) ] [ without time zone ] | C5: 8 bytes | D5: both date and time (no time zone) | E5: 4713 BC | F5: 294276 AD | G5: 1 microsecond
B6: timestamp [ (p) ] with time zone | C6: 8 bytes | D6: both date and time, with time zone | E6: 4713 BC | F6: 294276 AD | G6: 1 microsecond
B7: date | C7: 4 bytes | D7: date (no time of day) | E7: 4713 BC | F7: 5874897 AD | G7: 1 day
B8: time [ (p) ] [ without time zone ] | C8: 8 bytes | D8: time of day (no date) | E8: 0 | F8: 1 | G8: 1 microsecond
B9: time [ (p) ] with time zone | C9: 12 bytes | D9: time of day (no date), with time zone | E9: 00:00:00+1559 | F9: 24:00:00-1559 | G9: 1 microsecond
B10: interval [ fields ] [ (p) ] | C10: 16 bytes | D10: time interval | E10: -178000000 years | F10: 178000000 years | G10: 1 microsecond
B12: The SQL standard requires that writing just timestamp be equivalent to timestamp without time zone, and PostgreSQL honors that behavior. timestamptz is accepted as an abbreviation for timestamp with time zone; this is a PostgreSQL extension.
B15: date [ (p) ] 'value' | D15: date '1999-01-08' | F15: 1 | G15: 1 | H15: 1 | I15: 1
B16: { d 'value' } | D16: { d '1999-01-08' } | I16: 1
B17: time [ (p) ] without time zone | D17: time without time zone '04:05' | F17: 1 | G17: 1
B18: time [ (p) ] with time zone | D18: time with time zone '04:05:06.789-8' | F18: 1 | G18: 1
B19: time | D19: time '04:05' | F19: 1 | G19: 1 | I19: 1
B20: { t 'value' } | D20: { t '04:04' } | I20: 1
B21: timestamp 'value' | D21: timestamp '2004-10-19 10:23:54' | F21: 1 | G21: 1 | H21: 1 | I21: 1
B22: timestamp with time zone 'value' | D22: timestamp with time zone '2004-10-19 10:23:54+02' | F22: 1 | G22: 1 | H22: 1
B23: { ts 'value' } | D23: { ts '2004-10-19 10:23:54' } | I23: 1
B24: timestampz 'value' | D24: timestamptz '2017-01-08 04:05:06+02' | F24: 1 | G24: 1
B25: INTERVAL '123-2' YEAR(3) TO MONTH | F25: 1 | H25: 1
B26: interval '1 month' | D26: interval '1 month' | F26: 1 | G26: 1 | H26: 1 | I26: 1
B27: interval '2 weeks' | D27: interval '2 weeks' | F27: 1 | G27: 1 | H27: 1 | I27: 1
B28: interval '1 ms' | D28: interval '1 ms' | F28: 1 | G28: 1 | H28: 1 | I28: 1
B29: Input String | C29: Valid Types | D29: Description
B30: epoch | C30: date, timestamp | D30: 1970-01-01 00:00:00+00 (Unix system time zero)
B31: infinity | C31: date, timestamp | D31: later than all other time stamps
B32: -infinity | C32: date, timestamp | D32: earlier than all other time stamps
B33: now | C33: date, time, timestamp | D33: current transaction's start time
B34: today | C34: date, timestamp | D34: midnight (00:00) today
B35: tomorrow | C35: date, timestamp | D35: midnight (00:00) tomorrow
B36: yesterday | C36: date, timestamp | D36: midnight (00:00) yesterday
B37: allballs | C37: time | D37: 00:00:00.00 UTC
D38: https://www.postgresql.org/docs/current/datatype-datetime.html | I38: https://dev.mysql.com/doc/refman/8.0/en/date-and-time-functions.html#function_adddate
B39: Table 9.32. Date/Time Functions | D39: https://www.postgresql.org/docs/current/functions-datetime.html | F39: ISO SQL | G39: PostgreSQL | H39: Oracle | I39: MySQL | J39: SQLite
B40: ADDDATE(date,INTERVAL expr unit), ADDDATE(expr,days) | I40: 1
B41: ADDTIME(expr1,expr2) | I41: 1
B42: age ( timestamp, timestamp ) → interval | D42: age(timestamp '2001-04-10', timestamp '1957-06-13') → 43 years 9 mons 27 days | G42: 1
B43: age ( timestamp ) → interval | D43: age(timestamp '1957-06-13') → 62 years 6 mons 10 days | G43: 1
B44: clock_timestamp ( ) → timestamp with time zone | D44: clock_timestamp() → 2019-12-23 14:39:53.662522-05 | G44: 1
B45: CONVERT_TZ(dt,from_tz,to_tz) | I45: 1
B46: CURDATE() | I46: 1
B47: current_date → date | D47: current_date → 2019-12-23 | F47: 1 | G47: 1 | I47: 1
B48: current_time → time with time zone | D48: current_time → 14:39:53.662522-05 | F48: 1 | G48: 1 | I48: 1
B49: current_time ( integer ) → time with time zone | D49: current_time(2) → 14:39:53.66-05 | F49: 1 | G49: 1 | I49: 1
B50: current_timestamp → timestamp with time zone | D50: current_timestamp → 2019-12-23 14:39:53.662522-05 | F50: 1 | G50: 1 | I50: 1
B51: current_timestamp ( integer ) → timestamp with time zone | D51: current_timestamp(0) → 2019-12-23 14:39:53-05 | F51: 1 | G51: 1 | I51: 1
B52: curtime( [fsp] ) | I52: 1
B53: date_part ( text, timestamp ) → double precision | D53: date_part('hour', timestamp '2001-02-16 20:38:40') → 20 | G53: 1
B54: date_part ( text, interval ) → double precision | D54: date_part('month', interval '2 years 3 months') → 3 | G54: 1
B55: date_trunc ( text, timestamp ) → timestamp | D55: date_trunc('hour', timestamp '2001-02-16 20:38:40') → 2001-02-16 20:00:00 | G55: 1
B56: date_trunc ( text, timestamp with time zone, text ) → timestamp with time zone | D56: date_trunc('day', timestamptz '2001-02-16 20:38:40+00', 'Australia/Sydney') → 2001-02-16 13:00:00+00 | G56: 1
B57: date_trunc ( text, interval ) → interval | D57: date_trunc('hour', interval '2 days 3 hours 40 minutes') → 2 days 03:00:00 | G57: 1
B58: date_trunc ( text, timestamp ) → timestamp | D58: date_trunc('hour', timestamp '2001-02-16 20:38:40') → 2001-02-16 20:00:00 | G58: 1
B59: date_trunc ( text, timestamp with time zone, text ) → timestamp with time zone | D59: date_trunc('day', timestamptz '2001-02-16 20:38:40+00', 'Australia/Sydney') → 2001-02-16 13:00:00+00 | G59: 1
B60: date_trunc ( text, interval ) → interval | D60: date_trunc('hour', interval '2 days 3 hours 40 minutes') → 2 days 03:00:00 | G60: 1
B61: datediff( date1, date2) | I61: 1
B62: date_add(date,INTERVAL expr unit) | I62: 1
B63: date_sub(date,INTERVAL expr unit) | I63: 1
B64: DATE_FORMAT(date,format) | I64: 1
B65: day(date) | D65: dayofmonth() | I65: 1
B66: dayofmonth(date) | I66: 1
B67: dayofweek(date) | I67: 1
B68: dayofyear(date) | I68: 1
B69: extract ( field from timestamp ) → double precision | D69: extract(hour from timestamp '2001-02-16 20:38:40') → 20 | F69: 1 | G69: 1 | I69: 1
B70: extract ( field from interval ) → double precision | D70: extract(month from interval '2 years 3 months') → 3 | F70: 1 | G70: 1 | I70: 1
B71: from_days( integer ) | D71: FROM_DAYS(730669) -> '2000-07-03' | I71: 1
B72: FROM_UNIXTIME(unix_timestamp[,format]) | D72: FROM_UNIXTIME(1447430881) -> '2015-11-13 10:08:01' | I72: 1
B73: GET_FORMAT({DATE|TIME|DATETIME}, {'EUR'|'USA'|'JIS'|'ISO'|'INTERNAL'}) | I73: 1
B74: HOUR(time) | I74: 1
B75: isfinite ( date ) → boolean | D75: isfinite(date '2001-02-16') → true | G75: 1
B76: isfinite ( timestamp ) → boolean | D76: isfinite(timestamp 'infinity') → false | G76: 1
B77: isfinite ( interval ) → boolean | D77: isfinite(interval '4 hours') → true | G77: 1
B78: justify_days ( interval ) → interval | D78: justify_days(interval '35 days') → 1 mon 5 days | G78: 1
B79: justify_hours ( interval ) → interval | D79: justify_hours(interval '27 hours') → 1 day 03:00:00 | G79: 1
B80: justify_interval ( interval ) → interval | D80: justify_interval(interval '1 mon -1 hour') → 29 days 23:00:00 | G80: 1
B81: LAST_DAY(date) | I81: 1
B82: localtime → time | D82: localtime → 14:39:53.662522 | F82: 1 | G82: 1 | I82: 1
B83: localtime ( integer ) → time | D83: localtime(0) → 14:39:53 | F83: 1 | G83: 1 | I83: 1
B84: localtimestamp → timestamp | D84: localtimestamp → 2019-12-23 14:39:53.662522 | F84: 1 | G84: 1 | I84: 1
B85: localtimestamp ( integer ) → timestamp | D85: localtimestamp(2) → 2019-12-23 14:39:53.66 | F85: 1 | G85: 1 | I85: 1
B86: systimestamp | H86: 1
B87: sysdate | H87: 1
B88: MAKEDATE(year,dayofyear) | I88: 1
B89: MAKETIME(hour,minute,second) | I89: 1
B90: make_date ( year int, month int, day int ) → date | D90: make_date(2013, 7, 15) → 2013-07-15 | G90: 1
B91: make_interval ( [ years int [, months int [, weeks int [, days int [, hours int [, mins int [, secs double precision ]]]]]]] ) → interval | D91: make_interval(days => 10) → 10 days | G91: 1
B92: make_time ( hour int, min int, sec double precision ) → time | D92: make_time(8, 15, 23.5) → 08:15:23.5 | G92: 1
B93: make_timestamp ( year int, month int, day int, hour int, min int, sec double precision ) → timestamp | D93: make_timestamp(2013, 7, 15, 8, 15, 23.5) → 2013-07-15 08:15:23.5 | G93: 1
B94: make_timestamptz ( year int, month int, day int, hour int, min int, sec double precision [, timezone text ] ) → timestamp with time zone | D94: make_timestamptz(2013, 7, 15, 8, 15, 23.5) → 2013-07-15 08:15:23.5+01 | G94: 1
B95: MICROSECOND(expr) | I95: 1
B96: MINUTE(time) | I96: 1
B97: MONTH(date) | I97: 1
B98: MONTHNAME(date)
B99: now ( ) → timestamp with time zone | D99: now() → 2019-12-23 14:39:53.662522-05 | G99: 1 | I99: 1
B100: now( fsp) | I100: 1
B101: PERIOD_ADD(P,N) | I101: 1
B102: PERIOD_DIFF(P1,P2) | I102: 1
B103: QUARTER(date) | I103: 1
B104: SECOND(time) | I104: 1
B105: SEC_TO_TIME(seconds) | I105: 1
...

Sheet SQL datetime (short) (2)
C1: ISO SQL 2016 | D1: PostgreSQL | E1: Oracle | F1: MySQL | G1: SQLite
B2: date [ (p) ] 'value' | C2: 1 | D2: 1 | E2: 1 | F2: 1
B3: { d 'value' } | F3: 1
B4: time [ (p) ] without time zone | C4: 1 | D4: 1
B5: time [ (p) ] with time zone | C5: 1 | D5: 1
B6: time | C6: 1 | D6: 1 | F6: 1
B7: { t 'value' } | F7: 1
B8: timestamp 'value' | C8: 1 | D8: 1 | E8: 1 | F8: 1
B9: timestamp with time zone 'value' | C9: 1 | D9: 1 | E9: 1
B10: { ts 'value' } | F10: 1
B11: timestampz 'value' | C11: 1 | D11: 1
B12: INTERVAL '123-2' YEAR(3) TO MONTH | C12: 1 | E12: 1
B13: interval '1 month' | C13: 1 | D13: 1 | E13: 1 | F13: 1
B14: interval '2 weeks' | C14: 1 | D14: 1 | E14: 1 | F14: 1
B15: interval '1 ms' | C15: 1 | D15: 1 | E15: 1 | F15: 1
B17: (start1, end1) overlaps (start2, end2) | C17: 1 | D17: 1
B18: (start1, length1) overlaps (start2, length2) | C18: 1 | D18: 1
B20: date [ (p) ] 'value' | C20: 1 | D20: 1 | E20: 1 | F20: 1
B21: { d 'value' } | F21: 1
B22: time [ (p) ] without time zone | C22: 1 | D22: 1
B23: time [ (p) ] with time zone | C23: 1 | D23: 1
B24: time | C24: 1 | D24: 1 | F24: 1
B25: { t 'value' } | F25: 1
B26: timestamp 'value' | C26: 1 | D26: 1 | E26: 1 | F26: 1
B27: timestamp with time zone 'value' | C27: 1 | D27: 1 | E27: 1
B28: { ts 'value' } | F28: 1
B29: timestampz 'value' | C29: 1 | D29: 1
B30: INTERVAL '123-2' YEAR(3) TO MONTH | C30: 1 | E30: 1
B31: interval '1 month' | C31: 1 | D31: 1 | E31: 1 | F31: 1
B32: interval '2 weeks' | C32: 1 | D32: 1 | E32: 1 | F32: 1
B33: interval '1 ms' | C33: 1 | D33: 1 | E33: 1 | F33: 1

Sheet SQL datetime (short)
C1: ISO SQL 2016 | D1: PostgreSQL | E1: Oracle | F1: MySQL | G1: SQLite
B2: date [ (p) ] 'value' | C2: 1 | D2: 1 | E2: 1 | F2: 1
B3: { d 'value' } | F3: 1
B4: time [ (p) ] without time zone | C4: 1 | D4: 1
B5: time [ (p) ] with time zone | C5: 1 | D5: 1
B6: time | C6: 1 | D6: 1 | F6: 1
B7: { t 'value' } | F7: 1
B8: timestamp 'value' | C8: 1 | D8: 1 | E8: 1 | F8: 1
B9: timestamp with time zone 'value' | C9: 1 | D9: 1 | E9: 1
B10: { ts 'value' } | F10: 1
B11: timestampz 'value' | C11: 1 | D11: 1
B12: INTERVAL '123-2' YEAR(3) TO MONTH | C12: 1 | E12: 1
B13: interval '1 month' | C13: 1 | D13: 1 | E13: 1 | F13: 1
B14: interval '2 weeks' | C14: 1 | D14: 1 | E14: 1 | F14: 1
B15: interval '1 ms' | C15: 1 | D15: 1 | E15: 1 | F15: 1
B17: (start1, end1) overlaps (start2, end2) | C17: 1 | D17: 1
B18: (start1, length1) overlaps (start2, length2) | C18: 1 | D18: 1
B20: ADDDATE(date,INTERVAL expr unit), ADDDATE(expr,days) | F20: 1
B21: ADDTIME(expr1,expr2) | F21: 1
B22: age ( timestamp, timestamp ) → interval | D22: 1
B23: age ( timestamp ) → interval | D23: 1
B24: clock_timestamp ( ) → timestamp with time zone | D24: 1
B25: CONVERT_TZ(dt,from_tz,to_tz) | F25: 1
B26: CURDATE() | F26: 1
B27: current_date → date | C27: 1 | D27: 1 | F27: 1
B28: current_time → time with time zone | C28: 1 | D28: 1 | F28: 1
B29: current_time ( integer ) → time with time zone | C29: 1 | D29: 1 | F29: 1
B30: current_timestamp → timestamp with time zone | C30: 1 | D30: 1 | F30: 1
B31: current_timestamp ( integer ) → timestamp with time zone | C31: 1 | D31: 1 | F31: 1
B32: curtime( [fsp] ) | F32: 1
B33: date_part ( text, timestamp ) → double precision | D33: 1
B34: date_trunc ( text, timestamp ) → timestamp | D34: 1
B35: datediff( date1, date2) | F35: 1
B36: date_add(date,INTERVAL expr unit) | F36: 1
B37: date_sub(date,INTERVAL expr unit) | F37: 1
B38: DATE_FORMAT(date,format) | F38: 1
B39: day(date) | F39: 1
B40: dayofmonth(date) | F40: 1
B41: dayofweek(date) | F41: 1
B42: dayofyear(date) | F42: 1
B43: extract ( field from timestamp ) → double precision | C43: 1 | D43: 1 | F43: 1
B44: extract ( field from interval ) → double precision | C44: 1 | D44: 1 | F44: 1
B45: from_days( integer ) | F45: 1
B46: FROM_UNIXTIME(unix_timestamp[,format]) | F46: 1
B47: GET_FORMAT({DATE|TIME|DATETIME}, {'EUR'|'USA'..) | F47: 1
B48: HOUR(time) | F48: 1
B49: isfinite ( date ) → boolean | D49: 1
B50: justify_days ( interval ) → interval | D50: 1
B51: justify_hours ( interval ) → interval | D51: 1
B52: justify_interval ( interval ) → interval | D52: 1
B53: LAST_DAY(date) | F53: 1
B54: localtime → time | C54: 1 | D54: 1 | F54: 1
B55: localtime ( integer ) → time | C55: 1 | D55: 1 | F55: 1
B56: localtimestamp → timestamp | C56: 1 | D56: 1 | F56: 1
B57: localtimestamp ( integer ) → timestamp | C57: 1 | D57: 1 | F57: 1
B58: systimestamp | E58: 1
B59: sysdate | E59: 1
B60: MAKEDATE(year,dayofyear) | F60: 1
B61: MAKETIME(hour,minute,second) | F61: 1
B62: make_date ( year int, month int, day int ) → date | D62: 1
B63: make_interval ( [ years int [, months int [, weeks int [, days .. | D63: 1
B64: make_time ( hour int, min int, sec double precision ) → time | D64: 1
B65: make_timestamp ( year int, month int, day int, hour int, .. | D65: 1
B66: make_timestamptz ( year int, month int, day int, hour int.. | D66: 1
B67: MICROSECOND(expr) | F67: 1
B68: MINUTE(time) | F68: 1
B69: MONTH(date) | F69: 1
B70: MONTHNAME(date)
B71: now ( ) → timestamp with time zone | D71: 1 | F71: 1
B72: now( fsp) | F72: 1
B73: PERIOD_ADD(P,N) | F73: 1
B74: PERIOD_DIFF(P1,P2) | F74: 1
B75: QUARTER(date) | F75: 1
B76: SECOND(time) | F76: 1
B77: SEC_TO_TIME(seconds) | F77: 1
B78: statement_timestamp ( ) → timestamp with time zone | D78: 1
B79: STR_TO_DATE(str,format) | F79: 1
B80: SUBDATE(date,INTERVAL expr unit), SUBDATE(expr,days) | F80: 1
B81: SUBTIME(expr1,expr2) | F81: 1
B82: SYSDATE([fsp]) | F82: 1
B83: timeofday ( ) → text | D83: 1
B84: time(expr) | F84: 1
B85: timediff( expr1, expr2 ) | F85: 1
B86: transaction_timestamp ( ) → timestamp with time zone | D86: 1
B87: TIMESTAMP(expr) | F87: 1
B88: TIMESTAMP(expr1,expr2) | F88: 1
B89: TIMESTAMPADD(unit,interval,datetime_expr) | F89: 1
B90: TIMESTAMPDIFF(unit,datetime_expr1,datetime_expr2) | F90: 1
B91: TIME_FORMAT(time,format) | F91: 1
B92: TIME_TO_SEC(time) | F92: 1
B93: to_days( date ) | F93: 1
B94: to_date( text, format) | E94: 1
B95: to_seconds ( expr ) | F95: 1
B96: to_timestamp( text, format) | E96: 1
B97: to_timestamp ( double precision ) → timestamp with time zone | D97: 1
B98: UNIX_TIMESTAMP([date]) | F98: 1
B99: UTC_DATE() | F99: 1
B100: UTC_TIME([fsp]) | F100: 1
B101: UTC_TIMESTAMP([fsp]) | F101: 1
B102: WEEK(date[,mode]) | F102: 1
...

Sheet TNT datetime (expanded)
B2: Table 8.9. Date/Time Types
B4: Name | C4: Storage Size | D4: Description | E4: Low Value | F4: High Value | G4: Resolution
B5: timestamp [ (p) ] [ without time zone ] | C5: 8 bytes | D5: both date and time (no time zone) | E5: 4713 BC | F5: 294276 AD | G5: 1 microsecond
B6: timestamp [ (p) ] with time zone | C6: 8 bytes | D6: both date and time, with time zone | E6: 4713 BC | F6: 294276 AD | G6: 1 microsecond
B7: date | C7: 4 bytes | D7: date (no time of day) | E7: 4713 BC | F7: 5874897 AD | G7: 1 day
B8: time [ (p) ] [ without time zone ] | C8: 8 bytes | D8: time of day (no date) | E8: 0 | F8: 1 | G8: 1 microsecond
B9: time [ (p) ] with time zone | C9: 12 bytes | D9: time of day (no date), with time zone | E9: 00:00:00+1559 | F9: 24:00:00-1559 | G9: 1 microsecond
B10: interval [ fields ] [ (p) ] | C10: 16 bytes | D10: time interval | E10: -178000000 years | F10: 178000000 years | G10: 1 microsecond
B12: The SQL standard requires that writing just timestamp be equivalent to timestamp without time zone, and PostgreSQL honors that behavior. timestamptz is accepted as an abbreviation for timestamp with time zone; this is a PostgreSQL extension.
B15: date [ (p) ] 'value' | D15: date '1999-01-08' | F15: 1 | G15: 1 | H15: 1 | I15: 1 | K15: 1
B16: { d 'value' } | D16: { d '1999-01-08' } | I16: 1
B17: time [ (p) ] without time zone | D17: time without time zone '04:05' | F17: 1 | G17: 1 | K17: 1
B18: time [ (p) ] with time zone | D18: time with time zone '04:05:06.789-8' | F18: 1 | G18: 1 | K18: 1
B19: time | D19: time '04:05' | F19: 1 | G19: 1 | I19: 1 | K19: 1
B20: { t 'value' } | D20: { t '04:04' } | I20: 1
B21: timestamp 'value' | D21: timestamp '2004-10-19 10:23:54' | F21: 1 | G21: 1 | H21: 1 | I21: 1 | K21: 1
B22: timestamp with time zone 'value' | D22: timestamp with time zone '2004-10-19 10:23:54+02' | F22: 1 | G22: 1 | H22: 1 | K22: 1
B23: { ts 'value' } | D23: { ts '2004-10-19 10:23:54' } | I23: 1
B24: timestampz 'value' | D24: timestamptz '2017-01-08 04:05:06+02' | F24: 1 | G24: 1
B25: INTERVAL '123-2' YEAR(3) TO MONTH | F25: 1 | H25: 1 | K25: 1
B26: interval '1 month' | D26: interval '1 month' | F26: 1 | G26: 1 | H26: 1 | I26: 1 | K26: 1
B27: interval '2 weeks' | D27: interval '2 weeks' | F27: 1 | G27: 1 | H27: 1 | I27: 1 | K27: 1
B28: interval '1 ms' | D28: interval '1 ms' | F28: 1 | G28: 1 | H28: 1 | I28: 1 | K28: 1
B29: Input String | C29: Valid Types | D29: Description
B30: epoch | C30: date, timestamp | D30: 1970-01-01 00:00:00+00 (Unix system time zero)
B31: infinity | C31: date, timestamp | D31: later than all other time stamps
B32: -infinity | C32: date, timestamp | D32: earlier than all other time stamps
B33: now | C33: date, time, timestamp | D33: current transaction's start time
B34: today | C34: date, timestamp | D34: midnight (00:00) today
B35: tomorrow | C35: date, timestamp | D35: midnight (00:00) tomorrow
B36: yesterday | C36: date, timestamp | D36: midnight (00:00) yesterday
B37: allballs | C37: time | D37: 00:00:00.00 UTC
D38: https://www.postgresql.org/docs/current/datatype-datetime.html | I38: https://dev.mysql.com/doc/refman/8.0/en/date-and-time-functions.html#function_adddate
B39: Table 9.32. Date/Time Functions | D39: https://www.postgresql.org/docs/current/functions-datetime.html | F39: ISO SQL | G39: PostgreSQL | H39: Oracle | I39: MySQL | J39: SQLite | K39: Tarantool
B40: ADDDATE(date,INTERVAL expr unit), ADDDATE(expr,days) | I40: 1
B41: ADDTIME(expr1,expr2) | I41: 1
B42: age ( timestamp, timestamp ) → interval | D42: age(timestamp '2001-04-10', timestamp '1957-06-13') → 43 years 9 mons 27 days | G42: 1
B43: age ( timestamp ) → interval | D43: age(timestamp '1957-06-13') → 62 years 6 mons 10 days | G43: 1
B44: clock_timestamp ( ) → timestamp with time zone | D44: clock_timestamp() → 2019-12-23 14:39:53.662522-05 | G44: 1
B45: CONVERT_TZ(dt,from_tz,to_tz) | I45: 1
B46: CURDATE() | I46: 1
B47: current_date → date | D47: current_date → 2019-12-23 | F47: 1 | G47: 1 | I47: 1 | K47: 1
B48: current_time → time with time zone | D48: current_time → 14:39:53.662522-05 | F48: 1 | G48: 1 | I48: 1 | K48: 1
B49: current_time ( integer ) → time with time zone | D49: current_time(2) → 14:39:53.66-05 | F49: 1 | G49: 1 | I49: 1 | K49: 1
B50: current_timestamp → timestamp with time zone | D50: current_timestamp → 2019-12-23 14:39:53.662522-05 | F50: 1 | G50: 1 | I50: 1 | K50: 1
B51: current_timestamp ( integer ) → timestamp with time zone | D51: current_timestamp(0) → 2019-12-23 14:39:53-05 | F51: 1 | G51: 1 | I51: 1 | K51: 1
B52: curtime( [fsp] ) | I52: 1
B53: date_part ( text, timestamp ) → double precision | D53: date_part('hour', timestamp '2001-02-16 20:38:40') → 20 | G53: 1
B54: date_part ( text, interval ) → double precision | D54: date_part('month', interval '2 years 3 months') → 3 | G54: 1
B55: date_trunc ( text, timestamp ) → timestamp | D55: date_trunc('hour', timestamp '2001-02-16 20:38:40') → 2001-02-16 20:00:00 | G55: 1
B56: date_trunc ( text, timestamp with time zone, text ) → timestamp with time zone | D56: date_trunc('day', timestamptz '2001-02-16 20:38:40+00', 'Australia/Sydney') → 2001-02-16 13:00:00+00 | G56: 1
B57: date_trunc ( text, interval ) → interval | D57: date_trunc('hour', interval '2 days 3 hours 40 minutes') → 2 days 03:00:00 | G57: 1
B58: date_trunc ( text, timestamp ) → timestamp | D58: date_trunc('hour', timestamp '2001-02-16 20:38:40') → 2001-02-16 20:00:00 | G58: 1
B59: date_trunc ( text, timestamp with time zone, text ) → timestamp with time zone | D59: date_trunc('day', timestamptz '2001-02-16 20:38:40+00', 'Australia/Sydney') → 2001-02-16 13:00:00+00 | G59: 1
B60: date_trunc ( text, interval ) → interval | D60: date_trunc('hour', interval '2 days 3 hours 40 minutes') → 2 days 03:00:00 | G60: 1
B61: datediff( date1, date2) | I61: 1
B62: date_add(date,INTERVAL expr unit) | I62: 1
B63: date_sub(date,INTERVAL expr unit) | I63: 1
B64: DATE_FORMAT(date,format) | I64: 1
B65: day(date) | D65: dayofmonth() | I65: 1
B66: dayofmonth(date) | I66: 1
B67: dayofweek(date) | I67: 1
B68: dayofyear(date) | I68: 1
B69: extract ( field from timestamp ) → double precision | D69: extract(hour from timestamp '2001-02-16 20:38:40') → 20 | F69: 1 | G69: 1 | I69: 1 | K69: 1
B70: extract ( field from interval ) → double precision | D70: extract(month from interval '2 years 3 months') → 3 | F70: 1 | G70: 1 | I70: 1 | K70: 1
B71: from_days( integer ) | D71: FROM_DAYS(730669) -> '2000-07-03' | I71: 1
B72: FROM_UNIXTIME(unix_timestamp[,format]) | D72: FROM_UNIXTIME(1447430881) -> '2015-11-13 10:08:01' | I72: 1
B73: GET_FORMAT({DATE|TIME|DATETIME}, {'EUR'|'USA'|'JIS'|'ISO'|'INTERNAL'}) | I73: 1
B74: HOUR(time) | I74: 1
B75: isfinite ( date ) → boolean | D75: isfinite(date '2001-02-16') → true | G75: 1
B76: isfinite ( timestamp ) → boolean | D76: isfinite(timestamp 'infinity') → false | G76: 1
B77: isfinite ( interval ) → boolean | D77: isfinite(interval '4 hours') → true | G77: 1
B78: justify_days ( interval ) → interval | D78: justify_days(interval '35 days') → 1 mon 5 days | G78: 1
B79: justify_hours ( interval ) → interval | D79: justify_hours(interval '27 hours') → 1 day 03:00:00 | G79: 1
B80: justify_interval ( interval ) → interval | D80: justify_interval(interval '1 mon -1 hour') → 29 days 23:00:00 | G80: 1
B81: LAST_DAY(date) | I81: 1
B82: localtime → time | D82: localtime → 14:39:53.662522 | F82: 1 | G82: 1 | I82: 1 | K82: 1
B83: localtime ( integer ) → time | D83: localtime(0) → 14:39:53 | F83: 1 | G83: 1 | I83: 1 | K83: 1
B84: localtimestamp → timestamp | D84: localtimestamp → 2019-12-23 14:39:53.662522 | F84: 1 | G84: 1 | I84: 1 | K84: 1
B85: localtimestamp ( integer ) → timestamp | D85: localtimestamp(2) → 2019-12-23 14:39:53.66 | F85: 1 | G85: 1 | I85: 1 | K85: 1
B86: systimestamp | H86: 1
B87: sysdate | H87: 1
B88: MAKEDATE(year,dayofyear) | I88: 1
B89: MAKETIME(hour,minute,second) | I89: 1
B90: make_date ( year int, month int, day int ) → date | D90: make_date(2013, 7, 15) → 2013-07-15 | G90: 1
B91: make_interval ( [ years int [, months int [, weeks int [, days int [, hours int [, mins int [, secs double precision ]]]]]]] ) → interval | D91: make_interval(days => 10) → 10 days | G91: 1
B92: make_time ( hour int, min int, sec double precision ) → time | D92: make_time(8, 15, 23.5) → 08:15:23.5 | G92: 1
B93: make_timestamp ( year int, month int, day int, hour int, min int, sec double precision ) → timestamp | D93: make_timestamp(2013, 7, 15, 8, 15, 23.5) → 2013-07-15 08:15:23.5 | G93: 1
B94: make_timestamptz ( year int, month int, day int, hour int, min int, sec double precision [, timezone text ] ) → timestamp with time zone | D94: make_timestamptz(2013, 7, 15, 8, 15, 23.5) → 2013-07-15 08:15:23.5+01 | G94: 1
B95: MICROSECOND(expr) | I95: 1
B96: MINUTE(time) | I96: 1
B97: MONTH(date) | I97: 1
B98: MONTHNAME(date)
B99: now ( ) → timestamp with time zone | D99: now() → 2019-12-23 14:39:53.662522-05 | G99: 1 | I99: 1
B100: now( fsp) | I100: 1
B101: PERIOD_ADD(P,N) | I101: 1
B102: PERIOD_DIFF(P1,P2) | I102: 1
B103: QUARTER(date) | I103: 1
B104: SECOND(time) | I104: 1
B105: SEC_TO_TIME(seconds) | I105: 1
...

Sheet TNT datetime (short)
C2: ='TNT datetime (expanded)'!F39 -> ISO SQL | D2: ='TNT datetime (expanded)'!G39 -> PostgreSQL | E2: ='TNT datetime (expanded)'!K39 -> Tarantool
B3: ='TNT datetime (expanded)'!D15 -> date '1999-01-08' | C3: ='TNT datetime (expanded)'!F15 -> 1 | D3: ='TNT datetime (expanded)'!G15 -> 1 | E3: ='TNT datetime (expanded)'!K15 -> 1
B4: ='TNT datetime (expanded)'!D17 -> time without time zone '04:05' | C4: ='TNT datetime (expanded)'!F17 -> 1 | D4: ='TNT datetime (expanded)'!G17 -> 1 | E4: ='TNT datetime (expanded)'!K17 -> 1
B5: ='TNT datetime (expanded)'!D18 -> time with time zone '04:05:06.789-8' | C5: ='TNT datetime (expanded)'!F18 -> 1 | D5: ='TNT datetime (expanded)'!G18 -> 1 | E5: ='TNT datetime (expanded)'!K18 -> 1
B6: ='TNT datetime (expanded)'!D19 -> time '04:05' | C6: ='TNT datetime (expanded)'!F19 -> 1 | D6: ='TNT datetime (expanded)'!G19 -> 1 | E6: ='TNT datetime (expanded)'!K19 -> 1
B7: ='TNT datetime (expanded)'!D21 -> timestamp '2004-10-19 10:23:54' | C7: ='TNT datetime (expanded)'!F21 -> 1 | D7: ='TNT datetime (expanded)'!G21 -> 1 | E7: ='TNT datetime (expanded)'!K21 -> 1
B8: ='TNT datetime (expanded)'!D22 -> timestamp with time zone '2004-10-19 10:23:54+02' | C8: ='TNT datetime (expanded)'!F22 -> 1 | D8: ='TNT datetime (expanded)'!G22 -> 1 | E8: ='TNT datetime (expanded)'!K22 -> 1
B9: ='TNT datetime (expanded)'!$B$25 -> INTERVAL '123-2' YEAR(3) TO MONTH | C9: ='TNT datetime (expanded)'!F25 -> 1 | D9: ='TNT datetime (expanded)'!G25 -> 0 | E9: ='TNT datetime (expanded)'!K25 -> 1
B10: ='TNT datetime (expanded)'!D26 -> interval '1 month' | C10: ='TNT datetime (expanded)'!F26 -> 1 | D10: ='TNT datetime (expanded)'!G26 -> 1 | E10: ='TNT datetime (expanded)'!K26 -> 1
B11: ='TNT datetime (expanded)'!D27 -> interval '2 weeks' | C11: ='TNT datetime (expanded)'!F27 -> 1 | D11: ='TNT datetime (expanded)'!G27 -> 1 | E11: ='TNT datetime (expanded)'!K27 -> 1
B12: ='TNT datetime (expanded)'!D28 -> interval '1 ms' | C12: ='TNT datetime (expanded)'!F28 -> 1 | D12: ='TNT datetime (expanded)'!G28 -> 1 | E12: ='TNT datetime (expanded)'!K28 -> 1
B14: ='TNT datetime (expanded)'!D42 -> age(timestamp '2001-04-10', timestamp '1957-06-13') → 43 years 9 mons 27 days | C14: ='TNT datetime (expanded)'!F42 -> 0 | D14: ='TNT datetime (expanded)'!G42 -> 1 | E14: ='TNT datetime (expanded)'!K42 -> 0
B15: ='TNT datetime (expanded)'!D43 -> age(timestamp '1957-06-13') → 62 years 6 mons 10 days | C15: ='TNT datetime (expanded)'!F43 -> 0 | D15: ='TNT datetime (expanded)'!G43 -> 1 | E15: ='TNT datetime (expanded)'!K43 -> 0
B16: ='TNT datetime (expanded)'!D44 -> clock_timestamp() → 2019-12-23 14:39:53.662522-05 | C16: ='TNT datetime (expanded)'!F44 -> 0 | D16: ='TNT datetime (expanded)'!G44 -> 1 | E16: ='TNT datetime (expanded)'!K44 -> 0
B17: ='TNT datetime (expanded)'!D47 -> current_date → 2019-12-23 | C17: ='TNT datetime (expanded)'!F47 -> 1 | D17: ='TNT datetime (expanded)'!G47 -> 1 | E17: ='TNT datetime (expanded)'!K47 -> 1
B18: ='TNT datetime (expanded)'!D48 -> current_time → 14:39:53.662522-05 | C18: ='TNT datetime (expanded)'!F48 -> 1 | D18: ='TNT datetime (expanded)'!G48 -> 1 | E18: ='TNT datetime (expanded)'!K48 -> 1
B19: ='TNT datetime (expanded)'!D49 -> current_time(2) → 14:39:53.66-05 | C19: ='TNT datetime (expanded)'!F49 -> 1 | D19: ='TNT datetime (expanded)'!G49 -> 1 | E19: ='TNT datetime (expanded)'!K49 -> 1
B20: ='TNT datetime (expanded)'!D50 -> current_timestamp → 2019-12-23 14:39:53.662522-05 | C20: ='TNT datetime (expanded)'!F50 -> 1 | D20: ='TNT datetime (expanded)'!G50 -> 1 | E20: ='TNT datetime (expanded)'!K50 -> 1
B21: ='TNT datetime (expanded)'!D51 -> current_timestamp(0) → 2019-12-23 14:39:53-05 | C21: ='TNT datetime (expanded)'!F51 -> 1 | D21: ='TNT datetime (expanded)'!G51 -> 1 | E21: ='TNT datetime (expanded)'!K51 -> 1
B22: ='TNT datetime (expanded)'!D53 -> date_part('hour', timestamp '2001-02-16 20:38:40') → 20 | C22: ='TNT datetime (expanded)'!F53 -> 0 | D22: ='TNT datetime (expanded)'!G53 -> 1 | E22: ='TNT datetime (expanded)'!K53 -> 0
B23: ='TNT datetime (expanded)'!D54 -> date_part('month', interval '2 years 3 months') → 3 | C23: ='TNT datetime (expanded)'!F54 -> 0 | D23: ='TNT datetime (expanded)'!G54 -> 1 | E23: ='TNT datetime (expanded)'!K54 -> 0
B24: ='TNT datetime (expanded)'!D55 -> date_trunc('hour', timestamp '2001-02-16 20:38:40') → 2001-02-16 20:00:00 | C24: ='TNT datetime (expanded)'!F55 -> 0 | D24: ='TNT datetime (expanded)'!G55 -> 1 | E24: ='TNT datetime (expanded)'!K55 -> 0
B25: ='TNT datetime (expanded)'!D56 -> date_trunc('day', timestamptz '2001-02-16 20:38:40+00', 'Australia/Sydney') → 2001-02-16 13:00:00+00 | C25: ='TNT datetime (expanded)'!F56 -> 0 | D25: ='TNT datetime (expanded)'!G56 -> 1 | E25: ='TNT datetime (expanded)'!K56 -> 0
B26: ='TNT datetime (expanded)'!D57 -> date_trunc('hour', interval '2 days 3 hours 40 minutes') → 2 days 03:00:00 | C26: ='TNT datetime (expanded)'!F57 -> 0 | D26: ='TNT datetime (expanded)'!G57 -> 1 | E26: ='TNT datetime (expanded)'!K57 -> 0
B27: ='TNT datetime (expanded)'!D58 -> date_trunc('hour', timestamp '2001-02-16 20:38:40') → 2001-02-16 20:00:00 | C27: ='TNT datetime (expanded)'!F58 -> 0 | D27: ='TNT datetime (expanded)'!G58 -> 1 | E27: ='TNT datetime (expanded)'!K58 -> 0
B28: ='TNT datetime (expanded)'!D59 -> date_trunc('day', timestamptz '2001-02-16 20:38:40+00', 'Australia/Sydney') → 2001-02-16 13:00:00+00 | C28: ='TNT datetime (expanded)'!F59 -> 0 | D28: ='TNT datetime (expanded)'!G59 -> 1 | E28: ='TNT datetime (expanded)'!K59 -> 0
B29: ='TNT datetime (expanded)'!D60 -> date_trunc('hour', interval '2 days 3 hours 40 minutes') → 2 days 03:00:00 | C29: ='TNT datetime (expanded)'!F60 -> 0 | D29: ='TNT datetime (expanded)'!G60 -> 1 | E29: ='TNT datetime (expanded)'!K60 -> 0
B30: ='TNT datetime (expanded)'!D65 -> dayofmonth() | C30: ='TNT datetime (expanded)'!F65 -> 0 | D30: ='TNT datetime (expanded)'!G65 -> 0 | E30: ='TNT datetime (expanded)'!K65 -> 0
B31: ='TNT datetime (expanded)'!D69 -> extract(hour from timestamp '2001-02-16 20:38:40') → 20 | C31: ='TNT datetime (expanded)'!F69 -> 1 | D31: ='TNT datetime (expanded)'!G69 -> 1 | E31: ='TNT datetime (expanded)'!K69 -> 1
B32: ='TNT datetime (expanded)'!D70 -> extract(month from interval '2 years 3 months') → 3 | C32: ='TNT datetime (expanded)'!F70 -> 1 | D32: ='TNT datetime (expanded)'!G70 -> 1 | E32: ='TNT datetime (expanded)'!K70 -> 1
B33: ='TNT datetime (expanded)'!D71 -> FROM_DAYS(730669) -> '2000-07-03' | C33: ='TNT datetime (expanded)'!F71 -> 0 | D33: ='TNT datetime (expanded)'!G71 -> 0 | E33: ='TNT datetime (expanded)'!K71 -> 0
B34: ='TNT datetime (expanded)'!D72 -> FROM_UNIXTIME(1447430881) -> '2015-11-13 10:08:01' | C34: ='TNT datetime (expanded)'!F72 -> 0 | D34: ='TNT datetime (expanded)'!G72 -> 0 | E34: ='TNT datetime (expanded)'!K72 -> 0
B35: ='TNT datetime (expanded)'!D75 -> isfinite(date '2001-02-16') → true | C35: ='TNT datetime (expanded)'!F75 -> 0 | D35: ='TNT datetime (expanded)'!G75 -> 1 | E35: ='TNT datetime (expanded)'!K75 -> 0
B36: ='TNT datetime (expanded)'!D76 -> isfinite(timestamp 'infinity') → false | C36: ='TNT datetime (expanded)'!F76 -> 0 | D36: ='TNT datetime (expanded)'!G76 -> 1 | E36: ='TNT datetime (expanded)'!K76 -> 0
B37: ='TNT datetime (expanded)'!D77 -> isfinite(interval '4 hours') → true | C37: ='TNT datetime (expanded)'!F77 -> 0 | D37: ='TNT datetime (expanded)'!G77 -> 1 | E37: ='TNT datetime (expanded)'!K77 -> 0
B38: ='TNT datetime (expanded)'!D78 -> justify_days(interval '35 days') → 1 mon 5 days | C38: ='TNT datetime (expanded)'!F78 -> 0 | D38: ='TNT datetime (expanded)'!G78 -> 1 | E38: ='TNT datetime (expanded)'!K78 -> 0
B39: ='TNT datetime (expanded)'!D79 -> justify_hours(interval '27 hours') → 1 day 03:00:00 | C39: ='TNT datetime (expanded)'!F79 -> 0 | D39: ='TNT datetime (expanded)'!G79 -> 1 | E39: ='TNT datetime (expanded)'!K79 -> 0
B40: ='TNT datetime (expanded)'!D80 -> justify_interval(interval '1 mon -1 hour') → 29 days 23:00:00 | C40: ='TNT datetime (expanded)'!F80 -> 0 | D40: ='TNT datetime (expanded)'!G80 -> 1 | E40: ='TNT datetime (expanded)'!K80 -> 0
B41: ='TNT datetime (expanded)'!D82 -> localtime → 14:39:53.662522 | C41: ='TNT datetime (expanded)'!F82 -> 1 | D41: ='TNT datetime (expanded)'!G82 -> 1 | E41: ='TNT datetime (expanded)'!K82 -> 1
B42: ='TNT datetime (expanded)'!D83 -> localtime(0) → 14:39:53 | C42: ='TNT datetime (expanded)'!F83 -> 1 | D42: ='TNT datetime (expanded)'!G83 -> 1 | E42: ='TNT datetime (expanded)'!K83 -> 1
B43: ='TNT datetime (expanded)'!D84 -> localtimestamp → 2019-12-23 14:39:53.662522 | C43: ='TNT datetime (expanded)'!F84 -> 1 | D43: ='TNT datetime (expanded)'!G84 -> 1 | E43: ='TNT datetime (expanded)'!K84 -> 1
B44: ='TNT datetime (expanded)'!D85 -> localtimestamp(2) → 2019-12-23 14:39:53.66 | C44: ='TNT datetime (expanded)'!F85 -> 1 | D44: ='TNT datetime (expanded)'!G85 -> 1 | E44: ='TNT datetime (expanded)'!K85 -> 1
B45: ='TNT datetime (expanded)'!D90 -> make_date(2013, 7, 15) → 2013-07-15 | C45: ='TNT datetime (expanded)'!F90 -> 0 | D45: ='TNT datetime (expanded)'!G90 -> 1 | E45: ='TNT datetime (expanded)'!K90 -> 0
B46: ='TNT datetime (expanded)'!D91 -> make_interval(days => 10) → 10 days | C46: ='TNT datetime (expanded)'!F91 -> 0 | D46: ='TNT datetime (expanded)'!G91 -> 1 | E46: ='TNT datetime (expanded)'!K91 -> 0
B47: ='TNT datetime (expanded)'!D92 -> make_time(8, 15, 23.5) → 08:15:23.5 | C47: ='TNT datetime (expanded)'!F92 -> 0 | D47: ='TNT datetime (expanded)'!G92 -> 1 | E47: ='TNT datetime (expanded)'!K92 -> 0
B48: ='TNT datetime (expanded)'!D93 -> make_timestamp(2013, 7, 15, 8, 15, 23.5) → 2013-07-15 08:15:23.5 | C48: ='TNT datetime (expanded)'!F93 -> 0 | D48: ='TNT datetime (expanded)'!G93 -> 1 | E48: ='TNT datetime (expanded)'!K93 -> 0
B49: ='TNT datetime (expanded)'!D94 -> make_timestamptz(2013, 7, 15, 8, 15, 23.5) → 2013-07-15 08:15:23.5+01 | C49: ='TNT datetime (expanded)'!F94 -> 0 | D49: ='TNT datetime (expanded)'!G94 -> 1 | E49: ='TNT datetime (expanded)'!K94 -> 0
B50: ='TNT datetime (expanded)'!D99 -> now() → 2019-12-23 14:39:53.662522-05 | C50: ='TNT datetime (expanded)'!F99 -> 0 | D50: ='TNT datetime (expanded)'!G99 -> 1 | E50: ='TNT datetime (expanded)'!K99 -> 0
B51: ='TNT datetime (expanded)'!D111 -> timeofday() → Mon Dec 23 14:39:53.662522 2019 EST | C51: ='TNT datetime (expanded)'!F111 -> 0 | D51: ='TNT datetime (expanded)'!G111 -> 1 | E51: ='TNT datetime (expanded)'!K111 -> 0
B52: ='TNT datetime (expanded)'!D114 -> transaction_timestamp() → 2019-12-23 14:39:53.662522-05 | C52: ='TNT datetime (expanded)'!F114 -> 0 | D52: ='TNT datetime (expanded)'!G114 -> 1 | E52: ='TNT datetime (expanded)'!K114 -> 0
B53: ='TNT datetime (expanded)'!D122 -> TO_DATE('98-DEC-25 17:30','YY-MON-DD HH24:MI') | C53: ='TNT datetime (expanded)'!F122 -> 0 | D53: ='TNT datetime (expanded)'!G122 -> 0 | E53: ='TNT datetime (expanded)'!K122 -> 0
B54: ='TNT datetime (expanded)'!D124 -> TO_TIMESTAMP('19-FEB-2004', 'DD-MON-YYYY') -> 19-FEB-04 12.00.00.000000 AM | C54: ='TNT datetime (expanded)'!F124 -> 0 | D54: ='TNT datetime (expanded)'!G124 -> 0 | E54: ='TNT datetime (expanded)'!K124 -> 0
B55: ='TNT datetime (expanded)'!D125 -> to_timestamp(1284352323) → 2010-09-13 04:32:03+00 | C55: ='TNT datetime (expanded)'!F125 -> 0 | D55: ='TNT datetime (expanded)'!G125 -> 1 | E55: ='TNT datetime (expanded)'!K125 -> 0
B56: ='TNT datetime (expanded)'!D134 -> DATE '2001-02-16', DATE '2001-12-21') OVERLAPS (DATE '2001-10-30', DATE '2002-10-30') | C56: ='TNT datetime (expanded)'!F134 -> 1 | D56: ='TNT datetime (expanded)'!G134 -> 1 | E56: ='TNT datetime (expanded)'!K134 -> 1
B57: ='TNT datetime (expanded)'!D135 -> DATE '2001-02-16', INTERVAL '100 days') OVERLAPS (DATE '2001-10-30', DATE '2002-10-30') | C57: ='TNT datetime (expanded)'!F135 -> 1 | D57: ='TNT datetime (expanded)'!G135 -> 1 | E57: ='TNT datetime (expanded)'!K135 -> 1

Sheet SQL uuid all
B2: Type/value | C2: https://www.postgresql.org/docs/9.1/datatype-uuid.html | F2: ISO SQL | G2: PostgreSQL | H2: Oracle | I2: MySQL | J2: SQLite
B3: uuid | G3: 1
B4: all-lower-case | D4: 'a0eebc99-9c0b-4ef8-bb6d-6bb9bd380a11' | G4: 1 | I4: 1 | J4: 1
D5: {a0eebc99-9c0b-4ef8-bb6d-6bb9bd380a11} | G5: 1 | I5: 1 | J5: 1
D6: a0eebc999c0b4ef8bb6d6bb9bd380a11 | G6: 1 | I6: 1 | J6: 1
D7: a0ee-bc99-9c0b-4ef8-bb6d-6bb9-bd38-0a11 | G7: 1 | I7: 1 | J7: 1
D8: {a0eebc99-9c0b4ef8-bb6d6bb9-bd380a11} | G8: 1 | I8: 1 | J8: 1
C10: https://www.postgresql.org/docs/9.1/uuid-ossp.html
B11: uuid_generate_v1() | G11: 1
B12: uuid_generate_v1mc() | G12: 1
B13: uuid_generate_v3(namespace uuid, name text) | G13: 1
B14: uuid_generate_v4() | G14: 1
B15: uuid_generate_v5(namespace uuid, name text) | G15: 1
B16: uuid_nil() | G16: 1
B17: uuid_ns_dns() | G17: 1
B18: uuid_ns_url() | G18: 1
B19: uuid_ns_oid() | G19: 1
B20: uuid_ns_x500() | G20: 1
G21: 1
C22: https://dev.mysql.com/doc/refman/8.0/en/miscellaneous-functions.html#function_uuid
B23: UUID() | C23: 128-bit | D23: SELECT UUID(); -> '6ccd780c-baba-1026-9564-5b8c656024db' | I23: 1
B24: UUID_SHORT() | C24: 64-bit | I24: 1
B25: UUID_TO_BIN(string_uuid [, swap_flag] ) | C25: return VARBINARY(16) | I25: 1
B26: BIN_TO_UUID(binary_uuid [, swap_flag] ) | C26: varbinary > string | I26: 1
B27: IS_UUID(string_uuid) | I27: 1
B29: SYS_GUID() | C29: невалидный uuid! | H29: 1
C30: https://sqlite.org/src/file/ext/misc/uuid.c
B31: uuid() | C31: generate a version 4 UUID as a string | J31: 1
B32: uuid_str( blob_uuid ) | C32: convert a UUID X into a well-formed UUID string | J32: 1
B33: uuid_blob( uuid_str ) | C33: convert a UUID X into a 16-byte blob | J33: 1

Sheet SQL uuid short
C3: ='SQL uuid all'!F2 -> ISO SQL | D3: ='SQL uuid all'!G2 -> PostgreSQL | E3: ='SQL uuid all'!H2 -> Oracle | F3: ='SQL uuid all'!I2 -> MySQL | G3: ='SQL uuid all'!J2 -> SQLite
B4: ='SQL uuid all'!B3 -> uuid | C4: ='SQL uuid all'!F3 -> 0 | D4: ='SQL uuid all'!G3 -> 1 | E4: ='SQL uuid all'!H3 -> 0 | F4: ='SQL uuid all'!I3 -> 0 | G4: ='SQL uuid all'!J3 -> 0
B6: ='SQL uuid all'!D4 -> 'a0eebc99-9c0b-4ef8-bb6d-6bb9bd380a11' | C6: ='SQL uuid all'!F4 -> 0 | D6: ='SQL uuid all'!G4 -> 1 | E6: ='SQL uuid all'!H4 -> 0 | F6: ='SQL uuid all'!I4 -> 1 | G6: ='SQL uuid all'!J4 -> 1
B7: ='SQL uuid all'!D5 -> {a0eebc99-9c0b-4ef8-bb6d-6bb9bd380a11} | C7: ='SQL uuid all'!F5 -> 0 | D7: ='SQL uuid all'!G5 -> 1 | E7: ='SQL uuid all'!H5 -> 0 | F7: ='SQL uuid all'!I5 -> 1 | G7: ='SQL uuid all'!J5 -> 1
B8: ='SQL uuid all'!D6 -> a0eebc999c0b4ef8bb6d6bb9bd380a11 | C8: ='SQL uuid all'!F6 -> 0 | D8: ='SQL uuid all'!G6 -> 1 | E8: ='SQL uuid all'!H6 -> 0 | F8: ='SQL uuid all'!I6 -> 1 | G8: ='SQL uuid all'!J6 -> 1
B9: ='SQL uuid all'!D7 -> a0ee-bc99-9c0b-4ef8-bb6d-6bb9-bd38-0a11 | C9: ='SQL uuid all'!F7 -> 0 | D9: ='SQL uuid all'!G7 -> 1 | E9: ='SQL uuid all'!H7 -> 0 | F9: ='SQL uuid all'!I7 -> 1 | G9: ='SQL uuid all'!J7 -> 1
B10: ='SQL uuid all'!D8 -> {a0eebc99-9c0b4ef8-bb6d6bb9-bd380a11} | C10: ='SQL uuid all'!F8 -> 0 | D10: ='SQL uuid all'!G8 -> 1 | E10: ='SQL uuid all'!H8 -> 0 | F10: ='SQL uuid all'!I8 -> 1 | G10: ='SQL uuid all'!J8 -> 1
B11: ='SQL uuid all'!B11 -> uuid_generate_v1() | C11: ='SQL uuid all'!F11 -> 0 | D11: ='SQL uuid all'!G11 -> 1 | E11: ='SQL uuid all'!H11 -> 0 | F11: ='SQL uuid all'!I11 -> 0 | G11: ='SQL uuid all'!J11 -> 0
B12: ='SQL uuid all'!B12 -> uuid_generate_v1mc() | C12: ='SQL uuid all'!F12 -> 0 | D12: ='SQL uuid all'!G12 -> 1 | E12: ='SQL uuid all'!H12 -> 0 | F12: ='SQL uuid all'!I12 -> 0 | G12: ='SQL uuid all'!J12 -> 0
B13: ='SQL uuid all'!B13 -> uuid_generate_v3(namespace uuid, name text) | C13: ='SQL uuid all'!F13 -> 0 | D13: ='SQL uuid all'!G13 -> 1 | E13: ='SQL uuid all'!H13 -> 0 | F13: ='SQL uuid all'!I13 -> 0 | G13: ='SQL uuid all'!J13 -> 0
B14: ='SQL uuid all'!B14 -> uuid_generate_v4() | C14: ='SQL uuid all'!F14 -> 0 | D14: ='SQL uuid all'!G14 -> 1 | E14: ='SQL uuid all'!H14 -> 0 | F14: ='SQL uuid all'!I14 -> 0 | G14: ='SQL uuid all'!J14 -> 0
B15: ='SQL uuid all'!B15 -> uuid_generate_v5(namespace uuid, name text) | C15: ='SQL uuid all'!F15 -> 0 | D15: ='SQL uuid all'!G15 -> 1 | E15: ='SQL uuid all'!H15 -> 0 | F15: ='SQL uuid all'!I15 -> 0 | G15: ='SQL uuid all'!J15 -> 0
B16: ='SQL uuid all'!B16 -> uuid_nil() | C16: ='SQL uuid all'!F16 -> 0 | D16: ='SQL uuid all'!G16 -> 1 | E16: ='SQL uuid all'!H16 -> 0 | F16: ='SQL uuid all'!I16 -> 0 | G16: ='SQL uuid all'!J16 -> 0
B17: ='SQL uuid all'!B17 -> uuid_ns_dns() | C17: ='SQL uuid all'!F17 -> 0 | D17: ='SQL uuid all'!G17 -> 1 | E17: ='SQL uuid all'!H17 -> 0 | F17: ='SQL uuid all'!I17 -> 0 | G17: ='SQL uuid all'!J17 -> 0
B18: ='SQL uuid all'!B18 -> uuid_ns_url() | C18: ='SQL uuid all'!F18 -> 0 | D18: ='SQL uuid all'!G18 -> 1 | E18: ='SQL uuid all'!H18 -> 0 | F18: ='SQL uuid all'!I18 -> 0 | G18: ='SQL uuid all'!J18 -> 0
B19: ='SQL uuid all'!B19 -> uuid_ns_oid() | C19: ='SQL uuid all'!F19 -> 0 | D19: ='SQL uuid all'!G19 -> 1 | E19: ='SQL uuid all'!H19 -> 0 | F19: ='SQL uuid all'!I19 -> 0 | G19: ='SQL uuid all'!J19 -> 0
B20: ='SQL uuid all'!B20 -> uuid_ns_x500() | C20: ='SQL uuid all'!F20 -> 0 | D20: ='SQL uuid all'!G20 -> 1 | E20: ='SQL uuid all'!H20 -> 0 | F20: ='SQL uuid all'!I20 -> 0 | G20: ='SQL uuid all'!J20 -> 0
B21: ='SQL uuid all'!B23 -> UUID() | C21: ='SQL uuid all'!F23 -> 0 | D21: ='SQL uuid all'!G23 -> 0 | E21: ='SQL uuid all'!H23 -> 0 | F21: ='SQL uuid all'!I23 -> 1 | G21: ='SQL uuid all'!J23 -> 0
B22: ='SQL uuid all'!B24 -> UUID_SHORT() | C22: ='SQL uuid all'!F24 -> 0 | D22: ='SQL uuid all'!G24 -> 0 | E22: ='SQL uuid all'!H24 -> 0 | F22: ='SQL uuid all'!I24 -> 1 | G22: ='SQL uuid all'!J24 -> 0
B23: ='SQL uuid all'!B25 -> UUID_TO_BIN(string_uuid [, swap_flag] ) | C23: ='SQL uuid all'!F25 -> 0 | D23: ='SQL uuid all'!G25 -> 0 | E23: ='SQL uuid all'!H25 -> 0 | F23: ='SQL uuid all'!I25 -> 1 | G23: ='SQL uuid all'!J25 -> 0
B24: ='SQL uuid all'!B26 -> BIN_TO_UUID(binary_uuid [, swap_flag] ) | C24: ='SQL uuid all'!F26 -> 0 | D24: ='SQL uuid all'!G26 -> 0 | E24: ='SQL uuid all'!H26 -> 0 | F24: ='SQL uuid all'!I26 -> 1 | G24: ='SQL uuid all'!J26 -> 0
B25: ='SQL uuid all'!B27 -> IS_UUID(string_uuid) | C25: ='SQL uuid all'!F27 -> 0 | D25: ='SQL uuid all'!G27 -> 0 | E25: ='SQL uuid all'!H27 -> 0 | F25: ='SQL uuid all'!I27 -> 1 | G25: ='SQL uuid all'!J27 -> 0
B26: ='SQL uuid all'!B29 -> SYS_GUID() | C26: ='SQL uuid all'!F29 -> 0 | D26: ='SQL uuid all'!G29 -> 0 | E26: ='SQL uuid all'!H29 -> 1 | F26: ='SQL uuid all'!I29 -> 0 | G26: ='SQL uuid all'!J29 -> 0
B27: ='SQL uuid all'!B31 -> uuid() | C27: ='SQL uuid all'!F31 -> 0 | D27: ='SQL uuid all'!G31 -> 0 | E27: ='SQL uuid all'!H31 -> 0 | F27: ='SQL uuid all'!I31 -> 0 | G27: ='SQL uuid all'!J31 -> 1
B28: ='SQL uuid all'!B32 -> uuid_str( blob_uuid ) | C28: ='SQL uuid all'!F32 -> 0 | D28: ='SQL uuid all'!G32 -> 0 | E28: ='SQL uuid all'!H32 -> 0 | F28: ='SQL uuid all'!I32 -> 0 | G28: ='SQL uuid all'!J32 -> 1
B29: ='SQL uuid all'!B33 -> uuid_blob( uuid_str ) | C29: ='SQL uuid all'!F33 -> 0 | D29: ='SQL uuid all'!G33 -> 0 | E29: ='SQL uuid all'!H33 -> 0 | F29: ='SQL uuid all'!I33 -> 0 | G29: ='SQL uuid all'!J33 -> 1

Sheet TNT uuid
B2: Type/value | C2: https://www.postgresql.org/docs/9.1/datatype-uuid.html | E2: ISO SQL | F2: PostgreSQL | G2: Oracle | H2: MySQL | I2: SQLite | J2: Tarantool
B3: uuid | F3: 1
B4: 'a0eebc99-9c0b-4ef8-bb6d-6bb9bd380a11' | F4: 1 | H4: 1 | I4: 1 | J4: 1
B5: {a0eebc99-9c0b-4ef8-bb6d-6bb9bd380a11} | F5: 1 | H5: 1 | I5: 1 | J5: 1
B6: a0eebc999c0b4ef8bb6d6bb9bd380a11 | F6: 1 | H6: 1 | I6: 1 | J6: 1
B7: a0ee-bc99-9c0b-4ef8-bb6d-6bb9-bd38-0a11 | F7: 1 | H7: 1 | I7: 1 | J7: 1
B8: {a0eebc99-9c0b4ef8-bb6d6bb9-bd380a11} | F8: 1 | H8: 1 | I8: 1 | J8: 1
C10: https://www.postgresql.org/docs/9.1/uuid-ossp.html
B11: uuid_generate_v1() | F11: 1
B12: uuid_generate_v1mc() | F12: 1
B13: uuid_generate_v3(namespace uuid, name text) | F13: 1
B14: uuid_generate_v4() | F14: 1
B15: uuid_generate_v5(namespace uuid, name text) | F15: 1
B16: uuid_nil() | F16: 1
B17: uuid_ns_dns() | F17: 1
B18: uuid_ns_url() | F18: 1
B19: uuid_ns_oid() | F19: 1
B20: uuid_ns_x500() | F20: 1
F21: 1
C22: https://dev.mysql.com/doc/refman/8.0/en/miscellaneous-functions.html#function_uuid
B23: UUID() | C23: 128-bit | D23: SELECT UUID(); -> '6ccd780c-baba-1026-9564-5b8c656024db' | H23: 1 | J23: 1
B24: UUID_SHORT() | C24: 64-bit | H24: 1
B25: UUID_TO_BIN(string_uuid [, swap_flag] ) | C25: return VARBINARY(16) | H25: 1
B26: BIN_TO_UUID(binary_uuid [, swap_flag] ) | C26: varbinary > string | H26: 1
B27: IS_UUID(string_uuid) | H27: 1
B29: SYS_GUID() | C29: невалидный uuid! | G29: 1
C30: https://sqlite.org/src/file/ext/misc/uuid.c
B31: uuid() | C31: generate a version 4 UUID as a string | H31: 1 | I31: 1 | J31: 1
B32: uuid_str( blob_uuid ) | C32: convert a UUID X into a well-formed UUID string | I32: 1
B33: uuid_blob( uuid_str ) | C33: convert a UUID X into a 16-byte blob | I33: 1

Sheet TNT uuid(shorter)
C3: ='TNT uuid'!F2 -> PostgreSQL | D3: ='TNT uuid'!I2 -> SQLite | E3: ='TNT uuid'!J2 -> Tarantool
B4: ='TNT uuid'!B3 -> uuid | C4: ='TNT uuid'!F3 -> 1 | D4: ='TNT uuid'!I3 -> 0 | E4: ='TNT uuid'!J3 -> 0
B5: ='TNT uuid'!B4 -> 'a0eebc99-9c0b-4ef8-bb6d-6bb9bd380a11' | C5: ='TNT uuid'!F4 -> 1 | D5: ='TNT uuid'!I4 -> 1 | E5: ='TNT uuid'!J4 -> 1
B6: ='TNT uuid'!B5 -> {a0eebc99-9c0b-4ef8-bb6d-6bb9bd380a11} | C6: ='TNT uuid'!F5 -> 1 | D6: ='TNT uuid'!I5 -> 1 | E6: ='TNT uuid'!J5 -> 1
B7: ='TNT uuid'!B6 -> a0eebc999c0b4ef8bb6d6bb9bd380a11 | C7: ='TNT uuid'!F6 -> 1 | D7: ='TNT uuid'!I6 -> 1 | E7: ='TNT uuid'!J6 -> 1
B8: ='TNT uuid'!B7 -> a0ee-bc99-9c0b-4ef8-bb6d-6bb9-bd38-0a11 | C8: ='TNT uuid'!F7 -> 1 | D8: ='TNT uuid'!I7 -> 1 | E8: ='TNT uuid'!J7 -> 1
B9: ='TNT uuid'!B8 -> {a0eebc99-9c0b4ef8-bb6d6bb9-bd380a11} | C9: ='TNT uuid'!F8 -> 1 | D9: ='TNT uuid'!I8 -> 1 | E9: ='TNT uuid'!J8 -> 1
B10: ='TNT uuid'!B11 -> uuid_generate_v1() | C10: ='TNT uuid'!F11 -> 1 | D10: ='TNT uuid'!I11 -> 0 | E10: ='TNT uuid'!J11 -> 0
B11: ='TNT uuid'!B12 -> uuid_generate_v1mc() | C11: ='TNT uuid'!F12 -> 1 | D11: ='TNT uuid'!I12 -> 0 | E11: ='TNT uuid'!J12 -> 0
B12: ='TNT uuid'!B13 -> uuid_generate_v3(namespace uuid, name text) | C12: ='TNT uuid'!F13 -> 1 | D12: ='TNT uuid'!I13 -> 0 | E12: ='TNT uuid'!J13 -> 0
B13: ='TNT uuid'!B14 -> uuid_generate_v4() | C13: ='TNT uuid'!F14 -> 1 | D13: ='TNT uuid'!I14 -> 0 | E13: ='TNT uuid'!J14 -> 0
B14: ='TNT uuid'!B15 -> uuid_generate_v5(namespace uuid, name text) | C14: ='TNT uuid'!F15 -> 1 | D14: ='TNT uuid'!I15 -> 0 | E14: ='TNT uuid'!J15 -> 0
B15: ='TNT uuid'!B16 -> uuid_nil() | C15: ='TNT uuid'!F16 -> 1 | D15: ='TNT uuid'!I16 -> 0 | E15: ='TNT uuid'!J16 -> 0
B16: ='TNT uuid'!B17 -> uuid_ns_dns() | C16: ='TNT uuid'!F17 -> 1 | D16: ='TNT uuid'!I17 -> 0 | E16: ='TNT uuid'!J17 -> 0
B17: ='TNT uuid'!B18 -> uuid_ns_url() | C17: ='TNT uuid'!F18 -> 1 | D17: ='TNT uuid'!I18 -> 0 | E17: ='TNT uuid'!J18 -> 0
B18: ='TNT uuid'!B19 -> uuid_ns_oid() | C18: ='TNT uuid'!F19 -> 1 | D18: ='TNT uuid'!I19 -> 0 | E18: ='TNT uuid'!J19 -> 0
B19: ='TNT uuid'!B20 -> uuid_ns_x500() | C19: ='TNT uuid'!F20 -> 1 | D19: ='TNT uuid'!I20 -> 0 | E19: ='TNT uuid'!J20 -> 0
B20: ='TNT uuid'!B31 -> uuid() | C20: ='TNT uuid'!F31 -> 0 | D20: ='TNT uuid'!I31 -> 1 | E20: ='TNT uuid'!J31 -> 1
B21: ='TNT uuid'!B32 -> uuid_str( blob_uuid ) | C21: ='TNT uuid'!F32 -> 0 | D21: ='TNT uuid'!I32 -> 1 | E21: ='TNT uuid'!J32 -> 0
B22: ='TNT uuid'!B33 -> uuid_blob( uuid_str ) | C22: ='TNT uuid'!F33 -> 0 | D22: ='TNT uuid'!I33 -> 1 | E22: ='TNT uuid'!J33 -> 0

Sheet JSON
C3: https://modern-sql.com/blog/2017-06/whats-new-in-sql-2016 | F3: ISO SQL:2016 | G3: PostgreSQL | H3: Oracle | I3: MariaDB | J3: MySQL | K3: SQLServer | L3: SQLite
B4: <expr> is [not] json predicate | D4: jcol CLOB CHECK (jcol IS JSON) | F4: 1 | H4: 1
B5: on [error | empty] clauses | D5: json_value(json, '$.id' null on error) | F5: 1 | H5: 1
B7: json_object([key] <expr> value <expression> [,…]) | F7: 1 | H7: 1
B8: json_array([<expr>[,…]]) | F8: 1 | H8: 1 | I8: 1 | J8: 1 | L8: 1
B9: json_array(<query>) | F9: 1 | H9: 1 | I9: 1 | J9: 1 | L9: 1
B10: json_arrayagg(<expr> [order by …]) | F10: 1 | H10: 1
B11: json_objectagg([key] <expr> value <expression>) | F11: 1 | H11: 1 | I11: 1
B13: json_exists(<json>, <path>) | F13: 1 | H13: 1
B14: json_value(<json>, <path> [returning <type>]) | F14: 1 | H14: 1 | I14: 1 | J14: 1 | K14: 1
B15: json_query(<json>, <path> …) | F15: 1 | H15: 1 | I15: 1 | K15: 1
B16: json_table(<json>, <path> columns …) | F16: 1 | H16: 1 | J16: 1
B18: $.name | F18: 1 | G18: 1 | H18: 1 | I18: 1 | J18: 1 | K18: 1 | L18: 1
B19: $[0] | F19: 1 | G19: 1 | H19: 1 | I19: 1 | J19: 1 | K19: 1 | L19: 1
B20: filter expression ?(.. ) | F20: 1 | G20: 1 | H20: 1
B21: item methods ..() | F21: 1 | G21: 1 | H21: 1
B22: default mode (lax) | F22: 1 | G22: 1 | H22: 1 | I22: 1 | J22: 1 | K22: 1 | L22: 1
B23: keyword lax | F23: 1 | G23: 1 | H23: 1 | I23: 1 | K23: 1
B24: string mode | F24: 1 | G24: 1 | K24: 1
B25: named variables | F25: 1 | G25: 1 | H25: 1

Sheet JSON (2)
C3: ISO SQL:2016 | D3: PostgreSQL | E3: Oracle | F3: MariaDB | G3: MySQL | H3: SQLServer | I3: SQLite
B4: <expr> is [not] json predicate | C4: 1 | E4: 1
B5: on [error | empty] clauses | C5: 1 | E5: 1
B7: json_object([key] <expr> value <expression> [,…]) | C7: 1 | E7: 1
B8: json_array([<expr>[,…]]) | C8: 1 | E8: 1 | F8: 1 | G8: 1 | I8: 1
B9: json_array(<query>) | C9: 1 | E9: 1 | F9: 1 | G9: 1 | I9: 1
B10: json_arrayagg(<expr> [order by …]) | C10: 1 | E10: 1
B11: json_objectagg([key] <expr> value <expression>) | C11: 1 | E11: 1 | F11: 1
B13: json_exists(<json>, <path>) | C13: 1 | E13: 1
B14: json_value(<json>, <path> [returning <type>]) | C14: 1 | E14: 1 | F14: 1 | G14: 1 | H14: 1
B15: json_query(<json>, <path> …) | C15: 1 | E15: 1 | F15: 1 | H15: 1
B16: json_table(<json>, <path> columns …) | C16: 1 | E16: 1 | G16: 1
B18: $.name | C18: 1 | D18: 1 | E18: 1 | F18: 1 | G18: 1 | H18: 1 | I18: 1
B19: $[0] | C19: 1 | D19: 1 | E19: 1 | F19: 1 | G19: 1 | H19: 1 | I19: 1
B20: filter expression ?(.. ) | C20: 1 | D20: 1 | E20: 1
B21: item methods ..() | C21: 1 | D21: 1 | E21: 1
B22: default mode (lax) | C22: 1 | D22: 1 | E22: 1 | F22: 1 | G22: 1 | H22: 1 | I22: 1
B23: keyword lax | C23: 1 | D23: 1 | E23: 1 | F23: 1 | H23: 1
B24: string mode | C24: 1 | D24: 1 | H24: 1
B25: named variables | C25: 1 | D25: 1 | E25: 1

Sheet explicit
C2: any | D2: unsigned | E2: string | F2: double | G2: integer | H2: boolean | I2: varbinary | J2: number | K2: array | L2: map | M2: scalar
B3: any
B4: unsigned | D4: Y | E4: Y | F4: Y | G4: Y | H4: Y | J4: Y | M4: Y
B5: string | D5: S | E5: Y | F5: S | G5: S | H5: S | I5: Y | J5: S | M5: Y
B6: double | D6: S | E6: Y | F6: Y | G6: S | H6: Y | J6: Y | M6: Y
B7: integer | D7: S | E7: Y | F7: Y | G7: Y | H7: Y | J7: Y | M7: Y
B8: boolean | D8: Y | E8: Y | F8: N | G8: Y | H8: Y | J8: Y | M8: Y
B9: varbinary | D9: S | E9: Y | F9: N | G9: S | H9: N | I9: Y | J9: S | M9: Y
B10: number | D10: S | E10: Y | F10: Y | G10: S | H10: S | J10: Y | M10: Y
B11: array | D11: N | E11: Y | F11: N | G11: N | H11: N | M11: N
B12: map | D12: N | E12: Y | F12: N | G12: N | H12: N | M12: N
B13: scalar | D13: S | E13: Y | F13: S | G13: S | H13: S | J13: S | M13: Y
C15: 0 - allowed
C16: =-1 - _xludf.error -> #NAME?
C17: 1 - sometimes

Sheet ARRAY
C1: https://www.postgresql.org/docs/current/arrays.html | K1: https://dev.mysql.com/worklog/task/?id=2081
C2: https://www.ibm.com/support/knowledgecenter/SSEPEK_11.0.0/apsg/src/tpc/db2z_arrays.html | F2: ISO SQL:2016 | G2: Db2 | H2: PostgreSQL | I2: Oracle | J2: MariaDB | K2: MySQL | L2: SQLServer | M2: SQLite | N2: Tarantool
B3: array columns[] | D3: CREATE TYPE INTARRAY AS INTEGER ARRAY[100]; | F3: 1 | G3: 1 | H3: 1 | I3: 1 | N3: 1
B4: '{ val1 delim val2 delim ... }' | H4: 1
B5: accessing values[] | D5: SELECT name FROM sal_emp WHERE pay_by_quarter[1] <> pay_by_quarter[2]; | F5: 1 | H5: 1 | N5: 1
B6: slices[:] | H6: 1
C7: https://modern-sql.com/feature/listagg
B8: ARRAY(query) | D8: ARRAY(SELECT …) | F8: 1 | H8: 1 | N8: 1
B9: ARRAY_AGG(expression) | D9: SELECT ARRAY_AGG(T.VAL) INTO ARRAY2 FROM UNNEST(ESALARIES) AS T(VAL); | F9: 1 | G9: 1 | H9: 1 | N9: 1
B10: ARRAY_DELETE | G10: 1 | I10: 1
B11: ARRAY_FIRST | G11: 1
B12: ARRAY_LAST | G12: 1
B13: ARRAY_NEXT | G13: 1
B14: ARRAY_PRIOR | G14: 1
B15: cardinality ( anyarray ) → integer | F15: 1 | G15: 1 | H15: 1 | N15: 1
B16: MAX_CARDINALITY | G16: 1
B17: TRIM_ARRAY( array_expression, numeric-expression) | D17: TRIM_ARRAY(SPECIALNUMBERS,CARDINALITY(SPECIALNUMBERS)-10) | F17: 1 | G17: 1 | N17: 1
C18: https://www.ibm.com/support/knowledgecenter/SSEPEK_11.0.0/sqlref/src/tpc/db2z_bif_trimarray.html
B20: array_append ( anyarray, anyelement ) → anyarray | H20: 1
B21: array_cat ( anyarray, anyarray ) → anyarray | H21: 1
B22: array_dims ( anyarray ) → text | H22: 1
B23: array_fill ( anyelement, integer[] [, integer[] ] ) → anyarray | H23: 1
B24: array_length ( anyarray, integer ) → integer | H24: 1
B25: array_lower ( anyarray, integer ) → integer | H25: 1
B26: array_ndims ( anyarray ) → integer | H26: 1
B27: array_position ( anyarray, anyelement [, integer ] ) → integer | H27: 1
B28: array_positions ( anyarray, anyelement ) → integer[] | H28: 1
B29: array_prepend ( anyelement, anyarray ) → anyarray | H29: 1
B30: array_remove ( anyarray, anyelement ) → anyarray | H30: 1
B31: array_replace ( anyarray, anyelement, anyelement ) → anyarray | H31: 1
... B43: anyarray || anyelement → anyarray | H43: 1
C44: https://www.postgresql.org/docs/current/functions-array.html

Sheet TNT Array
C3: =ARRAY!F2 -> ISO SQL:2016 | D3: =ARRAY!H2 -> PostgreSQL | E3: =ARRAY!N2 -> Tarantool
B4: =ARRAY!B3 -> array columns[] | C4: =ARRAY!F3 -> 1 | D4: =ARRAY!H3 -> 1 | E4: =ARRAY!N3 -> 1
B5: =ARRAY!B4 -> '{ val1 delim val2 delim ... }' | C5: =ARRAY!F4 -> 0 | D5: =ARRAY!H4 -> 1 | E5: =ARRAY!N4 -> 0
B6: =ARRAY!B5 -> accessing values[] | C6: =ARRAY!F5 -> 1 | D6: =ARRAY!H5 -> 1 | E6: =ARRAY!N5 -> 1
B7: =ARRAY!B6 -> slices[:] | C7: =ARRAY!F6 -> 0 | D7: =ARRAY!H6 -> 1 | E7: =ARRAY!N6 -> 0
B8: =ARRAY!B8 -> ARRAY(query) | C8: =ARRAY!F8 -> 1 | D8: =ARRAY!H8 -> 1 | E8: =ARRAY!N8 -> 1
B9: =ARRAY!B9 -> ARRAY_AGG(expression) | C9: =ARRAY!F9 -> 1 | D9: =ARRAY!H9 -> 1 | E9: =ARRAY!N9 -> 1
B10: =ARRAY!B10 -> ARRAY_DELETE | C10: =ARRAY!F10 -> 0 | D10: =ARRAY!H10 -> 0 | E10: =ARRAY!N10 -> 0
B11: =ARRAY!B11 -> ARRAY_FIRST | C11: =ARRAY!F11 -> 0 | D11: =ARRAY!H11 -> 0 | E11: =ARRAY!N11 -> 0
B12: =ARRAY!B12 -> ARRAY_LAST | C12: =ARRAY!F12 -> 0 | D12: =ARRAY!H12 -> 0 | E12: =ARRAY!N12 -> 0
B13: =ARRAY!B13 -> ARRAY_NEXT | C13: =ARRAY!F13 -> 0 | D13: =ARRAY!H13 -> 0 | E13: =ARRAY!N13 -> 0
B14: =ARRAY!B14 -> ARRAY_PRIOR | C14: =ARRAY!F14 -> 0 | D14: =ARRAY!H14 -> 0 | E14: =ARRAY!N14 -> 0
B15: =ARRAY!B15 -> cardinality ( anyarray ) → integer | C15: =ARRAY!F15 -> 1 | D15: =ARRAY!H15 -> 1 | E15: =ARRAY!N15 -> 1
B16: =ARRAY!B16 -> MAX_CARDINALITY | C16: =ARRAY!F16 -> 0 | D16: =ARRAY!H16 -> 0 | E16: =ARRAY!N16 -> 0
B17: =ARRAY!B17 -> TRIM_ARRAY( array_expression, numeric-expression) | C17: =ARRAY!F17 -> 1 | D17: =ARRAY!H17 -> 0 | E17: =ARRAY!N17 -> 1
B18: =ARRAY!B20 -> array_append ( anyarray, anyelement ) → anyarray | C18: =ARRAY!F20 -> 0 | D18: =ARRAY!H20 -> 1 | E18: =ARRAY!N20 -> 0
B19: =ARRAY!B21 -> array_cat ( anyarray, anyarray ) → anyarray | C19: =ARRAY!F21 -> 0 | D19: =ARRAY!H21 -> 1 | E19: =ARRAY!N21 -> 0
B20: =ARRAY!B22 -> array_dims ( anyarray ) → text | C20: =ARRAY!F22 -> 0 | D20: =ARRAY!H22 -> 1 | E20: =ARRAY!N22 -> 0
B21: =ARRAY!B23 -> array_fill ( anyelement, integer[] [, integer[] ] ) → anyarray | C21: =ARRAY!F23 -> 0 | D21: =ARRAY!H23 -> 1 | E21: =ARRAY!N23 -> 0
B22: =ARRAY!B24 -> array_length ( anyarray, integer ) → integer | C22: =ARRAY!F24 -> 0 | D22: =ARRAY!H24 -> 1 | E22: =ARRAY!N24 -> 0
B23: =ARRAY!B25 -> array_lower ( anyarray, integer ) → integer | C23: =ARRAY!F25 -> 0 | D23: =ARRAY!H25 -> 1 | E23: =ARRAY!N25 -> 0
B24: =ARRAY!B26 -> array_ndims ( anyarray ) → integer | C24: =ARRAY!F26 -> 0 | D24: =ARRAY!H26 -> 1 | E24: =ARRAY!N26 -> 0
B25: =ARRAY!B27 -> array_position ( anyarray, anyelement [, integer ] ) → integer | C25: =ARRAY!F27 -> 0 | D25: =ARRAY!H27 -> 1 | E25: =ARRAY!N27 -> 0
B26: =ARRAY!B28 -> array_positions ( anyarray, anyelement ) → integer[] | C26: =ARRAY!F28 -> 0 | D26: =ARRAY!H28 -> 1 | E26: =ARRAY!N28 -> 0
B27: =ARRAY!B29 -> array_prepend ( anyelement, anyarray ) → anyarray | C27: =ARRAY!F29 -> 0 | D27: =ARRAY!H29 -> 1 | E27: =ARRAY!N29 -> 0
B28: =ARRAY!B30 -> array_remove ( anyarray, anyelement ) → anyarray | C28: =ARRAY!F30 -> 0 | D28: =ARRAY!H30 -> 1 | E28: =ARRAY!N30 -> 0
B29: =ARRAY!B31 -> array_replace ( anyarray, anyelement, anyelement ) → anyarray | C29: =ARRAY!F31 -> 0 | D29: =ARRAY!H31 -> 1 | E29: =ARRAY!N31 -> 0
... B34: =ARRAY!B36 -> unnest ( anyarray, anyarray [, ... ] ) → setof anyelement, anyelement [, ... ] | C34: =ARRAY!F36 -> 0 | D34: =ARRAY!H36 -> 1 | E34: =ARRAY!N36 -> 0
B35: =ARRAY!B38 -> anyarray @> anyarray → boolean | C35: =ARRAY!F38 -> 0 | D35: =ARRAY!H38 -> 1 | E35: =ARRAY!N38 -> 0
B36: =ARRAY!B39 -> anyarray <@ anyarray → boolean | C36: =ARRAY!F39 -> 0 | D36: =ARRAY!H39 -> 1 | E36: =ARRAY!N39 -> 0
B37: =ARRAY!B40 -> anyarray && anyarray → boolean | C37: =ARRAY!F40 -> 0 | D37: =ARRAY!H40 -> 1 | E37: =ARRAY!N40 -> 0
B38: =ARRAY!B41 -> anyarray || anyarray → anyarray | C38: =ARRAY!F41 -> 0 | D38: =ARRAY!H41 -> 1 | E38: =ARRAY!N41 -> 0
B39: =ARRAY!B42 -> anyelement || anyarray → anyarray | C39: =ARRAY!F42 -> 0 | D39: =ARRAY!H42 -> 1 | E39: =ARRAY!N42 -> 0
B40: =ARRAY!B43 -> anyarray || anyelement → anyarray | C40: =ARRAY!F43 -> 0 | D40: =ARRAY!H43 -> 1 | E40: =ARRAY!N43 -> 0

Sheet ARRAY (2)
C2: ISO SQL:2016 | D2: DB2 | E2: PostgreSQL | F2: Oracle | G2: MariaDB | H2: MySQL | I2: SQLServer
B3: array columns[] | C3: 1 | D3: 1 | E3: 1 | F3: 1
B4: '{ val1 delim val2 delim ... }' | E4: 1
B5: accessing values[] | C5: 1 | E5: 1
B6: slices[:] | E6: 1
B7: ARRAY_AGG(expression) | C7: 1 | D7: 1 | E7: 1
B8: ARRAY_DELETE | D8: 1 | F8: 1
B9: ARRAY_FIRST | D9: 1
B10: ARRAY_LAST | D10: 1
B11: ARRAY_NEXT | D11: 1
B12: ARRAY_PRIOR | D12: 1
B13: cardinality ( anyarray ) → integer | C13: 1 | D13: 1 | E13: 1
B14: MAX_CARDINALITY | D14: 1
B15: TRIM_ARRAY( array_expression, numeric-expression) | C15: 1 | D15: 1
B16: array_append ( anyarray, anyelement ) → anyarray | E16: 1
B17: array_cat ( anyarray, anyarray ) → anyarray | E17: 1
B18: array_dims ( anyarray ) → text | E18: 1
B19: array_fill ( anyelement, integer[] [, integer[] ] ) → anyarray | E19: 1
B20: array_length ( anyarray, integer ) → integer | E20: 1
B21: array_lower ( anyarray, integer ) → integer | E21: 1
B22: array_ndims ( anyarray ) → integer | E22: 1
B23: array_position ( anyarray, anyelement [, integer ] ) → integer | E23: 1
B24: array_positions ( anyarray, anyelement ) → integer[] | E24: 1
B25: array_prepend ( anyelement, anyarray ) → anyarray | E25: 1
B26: array_remove ( anyarray, anyelement ) → anyarray | E26: 1
B27: array_replace ( anyarray, anyelement, anyelement ) → anyarray | E27: 1
... B38: anyarray || anyelement → anyarray | E38: 1

Sheet Oracle implicit
B4: DataType | C4: CHAR | D4: VARCHAR2 | E4: NCHAR | F4: NVARCHAR2 | G4: DATE | H4: DATETIME/INTERVAL | I4: NUMBER | J4: BINARY_FLOAT | K4: BINARY_DOUBLE | L4: LONG | M4: RAW | N4: ROWID | O4: CLOB | P4: BLOB | Q4: NCLOB
B5: CHAR | C5: -- | D5: X | E5: X | F5: X | G5: X | H5: X | I5: X | J5: X | K5: X | L5: X | M5: X | N5: X | O5: X | P5: X | Q5: X
B6: VARCHAR2 | C6: X | D6: -- | E6: X | F6: X | G6: X | H6: X | I6: X | J6: X | K6: X | L6: X | M6: X | N6: X | O6: X | P6: -- | Q6: X
B7: NCHAR | C7: X | D7: X | E7: -- | F7: X | G7: X | H7: X | I7: X | J7: X | K7: X | L7: X | M7: X | N7: X | O7: X | P7: -- | Q7: X
B8: NVARCHAR2 | C8: X | D8: X | E8: X | F8: -- | G8: X | H8: X | I8: X | J8: X | K8: X | L8: X | M8: X | N8: X | O8: X | P8: -- | Q8: X
B9: DATE | C9: X | D9: X | E9: X | F9: X | G9: -- | H9: -- | I9: -- | J9: -- | K9: -- | L9: -- | M9: -- | N9: -- | O9: -- | P9: -- | Q9: --
B10: DATETIME/ INTERVAL | C10: X | D10: X | E10: X | F10: X | G10: -- | H10: -- | I10: -- | J10: -- | K10: -- | L10: X | M10: -- | N10: -- | O10: -- | P10: -- | Q10: --
B11: NUMBER | C11: X | D11: X | E11: X | F11: X | G11: -- | H11: -- | I11: -- | J11: X | K11: X | L11: -- | M11: -- | N11: -- | O11: -- | P11: -- | Q11: --
B12: BINARY_FLOAT | C12: X | D12: X | E12: X | F12: X | G12: -- | H12: -- | I12: X | J12: -- | K12: X | L12: -- | M12: -- | N12: -- | O12: -- | P12: -- | Q12: --
B13: BINARY_DOUBLE | C13: X | D13: X | E13: X | F13: X | G13: -- | H13: -- | I13: X | J13: X | K13: -- | L13: -- | M13: -- | N13: -- | O13: -- | P13: -- | Q13: --
B14: LONG | C14: X | D14: X | E14: X | F14: X | G14: -- | H14: XFoot 1 | I14: -- | J14: -- | K14: -- | L14: -- | M14: X | N14: -- | O14: X | P14: -- | Q14: X
B15: RAW | C15: X | D15: X | E15: X | F15: X | G15: -- | H15: -- | I15: -- | J15: -- | K15: -- | L15: X | M15: -- | N15: -- | O15: -- | P15: X | Q15: --
... B20: JSON | C20: -- | D20: X | E20: -- | F20: -- | G20: -- | H20: -- | I20: -- | J20: -- | K20: -- | L20: -- | M20: -- | N20: -- | O20: X | P20: X | Q20: --
C23: CHAR | D23: VARCHAR2 | E23: NCHAR | F23: NVARCHAR2 | G23: DATE | H23: DATETIME/INTERVAL | I23: NUMBER | J23: BINARY_FLOAT | K23: BINARY_DOUBLE | L23: LONG | M23: RAW | N23: ROWID | O23: CLOB | P23: BLOB | Q23: NCLOB
B24: CHAR | C24: =IF(C5="--",1," ") -> 1 | D24: =IF(D5="--",1," ") | E24: =IF(E5="--",1," ") | F24: =IF(F5="--",1," ") | G24: =IF(G5="--",1," ") | H24: =IF(H5="--",1," ") | I24: =IF(I5="--",1," ") | J24: =IF(J5="--",1," ") | ... Q24: =IF(Q5="--",1," ")
B25: VARCHAR2 | C25: =IF(C6="--",1," ") | D25: =IF(D6="--",1," ") -> 1 | E25: =IF(E6="--",1," ") | F25: =IF(F6="--",1," ") | G25: =IF(G6="--",1," ") | H25: =IF(H6="--",1," ") | I25: =IF(I6="--",1," ") | J25: =IF(J6="--",1," ") | ... Q25: =IF(Q6="--",1," ")
B26: NCHAR | C26: =IF(C7="--",1," ") | D26: =IF(D7="--",1," ") | E26: =IF(E7="--",1," ") -> 1 | F26: =IF(F7="--",1," ") | G26: =IF(G7="--",1," ") | H26: =IF(H7="--",1," ") | I26: =IF(I7="--",1," ") | J26: =IF(J7="--",1," ") | ... Q26: =IF(Q7="--",1," ")
B27: NVARCHAR2 | C27: =IF(C8="--",1," ") | D27: =IF(D8="--",1," ") | E27: =IF(E8="--",1," ") | F27: =IF(F8="--",1," ") -> 1 | G27: =IF(G8="--",1," ") | H27: =IF(H8="--",1," ") | I27: =IF(I8="--",1," ") | J27: =IF(J8="--",1," ") | ... Q27: =IF(Q8="--",1," ")
B28: DATE | C28: =IF(C9="--",1," ") | D28: =IF(D9="--",1," ") | E28: =IF(E9="--",1," ") | F28: =IF(F9="--",1," ") | G28: =IF(G9="--",1," ") -> 1 | H28: =IF(H9="--",1," ") -> 1 | I28: =IF(I9="--",1," ") -> 1 | J28: =IF(J9="--",1," ") -> 1 | ... Q28: =IF(Q9="--",1," ") -> 1
B29: DATETIME/ INTERVAL | C29: =IF(C10="--",1," ") | D29: =IF(D10="--",1," ") | E29: =IF(E10="--",1," ") | F29: =IF(F10="--",1," ") | G29: =IF(G10="--",1," ") -> 1 | H29: =IF(H10="--",1," ") -> 1 | I29: =IF(I10="--",1," ") -> 1 | J29: =IF(J10="--",1," ") -> 1 | ... Q29: =IF(Q10="--",1," ") -> 1
B30: NUMBER | C30: =IF(C11="--",1," ") | D30: =IF(D11="--",1," ") | E30: =IF(E11="--",1," ") | F30: =IF(F11="--",1," ") | G30: =IF(G11="--",1," ") -> 1 | H30: =IF(H11="--",1," ") -> 1 | I30: =IF(I11="--",1," ") -> 1 | J30: =IF(J11="--",1," ") | ... Q30: =IF(Q11="--",1," ") -> 1
B31: BINARY_FLOAT | C31: =IF(C12="--",1," ") | D31: =IF(D12="--",1," ") | E31: =IF(E12="--",1," ") | F31: =IF(F12="--",1," ") | G31: =IF(G12="--",1," ") -> 1 | H31: =IF(H12="--",1," ") -> 1 | I31: =IF(I12="--",1," ") | J31: =IF(J12="--",1," ") -> 1 | ... Q31: =IF(Q12="--",1," ") -> 1
B32: BINARY_DOUBLE | C32: =IF(C13="--",1," ") | D32: =IF(D13="--",1," ") | E32: =IF(E13="--",1," ") | F32: =IF(F13="--",1," ") | G32: =IF(G13="--",1," ") -> 1 | H32: =IF(H13="--",1," ") -> 1 | I32: =IF(I13="--",1," ") | J32: =IF(J13="--",1," ") | ... Q32: =IF(Q13="--",1," ") -> 1
B33: LONG | C33: =IF(C14="--",1," ") | D33: =IF(D14="--",1," ") | E33: =IF(E14="--",1," ") | F33: =IF(F14="--",1," ") | G33: =IF(G14="--",1," ") -> 1 | H33: -1 | I33: =IF(I14="--",1," ") -> 1 | J33: =IF(J14="--",1," ") -> 1 | K33: =IF(K14="--",1," ") -> 1 | L33: =IF(L14="--",1," ") -> 1 | M33: =IF(M14="--",1," ") | N33: =IF(N14="--",1," ") -> 1 | O33: =IF(O14="--",1," ") | P33: =IF(P14="--",1," ") -> 1 | Q33: =IF(Q14="--",1," ")
B34: RAW | C34: =IF(C15="--",1," ") | D34: =IF(D15="--",1," ") | E34: =IF(E15="--",1," ") | F34: =IF(F15="--",1," ") | G34: =IF(G15="--",1," ") -> 1 | H34: =IF(H15="--",1," ") -> 1 | I34: =IF(I15="--",1," ") -> 1 | J34: =IF(J15="--",1," ") -> 1 | ... Q34: =IF(Q15="--",1," ") -> 1
B35: ROWID | C35: =IF(C16="--",1," ") | D35: =IF(D16="--",1," ") | E35: =IF(E16="--",1," ") | F35: =IF(F16="--",1," ") | G35: =IF(G16="--",1," ") -> 1 | H35: =IF(H16="--",1," ") -> 1 | I35: =IF(I16="--",1," ") -> 1 | J35: =IF(J16="--",1," ") -> 1 | ... Q35: =IF(Q16="--",1," ") -> 1
B36: CLOB | C36: =IF(C17="--",1," ") | D36: =IF(D17="--",1," ") | E36: =IF(E17="--",1," ") | F36: =IF(F17="--",1," ") | G36: =IF(G17="--",1," ") -> 1 | H36: =IF(H17="--",1," ") -> 1 | I36: =IF(I17="--",1," ") -> 1 | J36: =IF(J17="--",1," ") -> 1 | ... Q36: =IF(Q17="--",1," ")
B37: BLOB | C37: =IF(C18="--",1," ") -> 1 | D37: =IF(D18="--",1," ") -> 1 | E37: =IF(E18="--",1," ") -> 1 | F37: =IF(F18="--",1," ") -> 1 | G37: =IF(G18="--",1," ") -> 1 | H37: =IF(H18="--",1," ") -> 1 | I37: =IF(I18="--",1," ") -> 1 | J37: =IF(J18="--",1," ") -> 1 | ... Q37: =IF(Q18="--",1," ") -> 1
B38: NCLOB | C38: =IF(C19="--",1," ") | D38: =IF(D19="--",1," ") | E38: =IF(E19="--",1," ") | F38: =IF(F19="--",1," ") | G38: =IF(G19="--",1," ") -> 1 | H38: =IF(H19="--",1," ") -> 1 | I38: =IF(I19="--",1," ") -> 1 | J38: =IF(J19="--",1," ") -> 1 | ... Q38: =IF(Q19="--",1," ") -> 1
B39: JSON | C39: =IF(C20="--",1," ") -> 1 | D39: =IF(D20="--",1," ") | E39: =IF(E20="--",1," ") -> 1 | F39: =IF(F20="--",1," ") -> 1 | G39: =IF(G20="--",1," ") -> 1 | H39: =IF(H20="--",1," ") -> 1 | I39: =IF(I20="--",1," ") -> 1 | J39: =IF(J20="--",1," ") -> 1 | ... Q39: =IF(Q20="--",1," ") -> 1

Sheet Oracle Explicit
C6: CHAR, VARCHAR2, NCHAR, NVARCHAR2 | D6: NUMBER | E6: Datetime / Interval | F6: RAW | G6: ROWID | H6: LONG, LONG RAW | I6: CLOB, NCLOB, BLOB | J6: BINARY_FLOAT | K6: BINARY_DOUBLE
B7: CHAR, VARCHAR2, NCHAR, NVARCHAR2 | C7: TO_CHAR (char.) | D7: TO_NUMBER | E7: TO_DATE | F7: HEXTORAW | G7: CHARTO­=ROWID | I7: TO_CLOB | J7: TO_BINARY_FLOAT | K7: TO_BINARY_DOUBLE
C8: TO_NCHAR (char.) | E8: TO_TIMESTAMP | I8: TO_NCLOB
E9: TO_TIMESTAMP_TZ
E10: TO_YMINTERVAL
E11: TO_DSINTERVAL
B12: NUMBER | C12: TO_CHAR (number) | E12: TO_DATE | I12: -- | J12: TO_BINARY_FLOAT | K12: TO_BINARY_DOUBLE
C13: TO_NCHAR (number) | E13: NUMTOYM- INTERVAL
E14: NUMTODS- INTERVAL
B15: Datetime/ Interval | C15: TO_CHAR (date)
C16: TO_NCHAR (datetime)
B17: RAW | C17: RAWTOHEX | I17: TO_BLOB
C18: RAWTONHEX
B19: ROWID | C19: ROWIDTOCHAR
B20: LONG / LONG RAW | C20: -- | I20: TO_LOB
B21: CLOB, NCLOB, BLOB | C21: TO_CHAR | I21: TO_CLOB
C22: TO_NCHAR | I22: TO_NCLOB
B23: CLOB, NCLOB, BLOB | C23: TO_CHAR | I23: TO_CLOB
C24: TO_NCHAR | I24: TO_NCLOB
B25: BINARY_FLOAT | C25: TO_CHAR (char.) | D25: TO_NUMBER | J25: TO_BINARY_FLOAT | K25: TO_BINARY_DOUBLE
C26: TO_NCHAR (char.)
B27: BINARY_DOUBLE | C27: TO_CHAR (char.) | D27: TO_NUMBER | J27: TO_BINARY_FLOAT | K27: TO_BINARY_DOUBLE
C28: TO_NCHAR (char.)
C38: CHAR, VARCHAR2, NCHAR, NVARCHAR2 | D38: NUMBER | E38: Datetime / Interval | F38: RAW | G38: ROWID | H38: LONG, LONG RAW | I38: CLOB, NCLOB, BLOB | J38: BINARY_FLOAT | K38: BINARY_DOUBLE
B39: CHAR, VARCHAR2, NCHAR, NVARCHAR2 | C39: TO_CHAR (char.) | D39: TO_NUMBER | E39: TO_DATE | F39: HEXTORAW | G39: CHARTO­=ROWID | I39: TO_CLOB | J39: TO_BINARY_FLOAT | K39: TO_BINARY_DOUBLE
C40: TO_NCHAR (char.) | E40: TO_TIMESTAMP | I40: TO_NCLOB
E41: TO_TIMESTAMP_TZ
E42: TO_YMINTERVAL
E43: TO_DSINTERVAL
B44: NUMBER | C44: TO_CHAR (number) | E44: TO_DATE | I44: -- | J44: TO_BINARY_FLOAT | K44: TO_BINARY_DOUBLE
C45: TO_NCHAR (number) | E45: NUMTOYM- INTERVAL
E46: NUMTODS- INTERVAL
B47: Datetime/ Interval | C47: TO_CHAR (date)
C48: TO_NCHAR (datetime)
B49: RAW | C49: RAWTOHEX | I49: TO_BLOB
C50: RAWTONHEX
B51: ROWID | C51: ROWIDTOCHAR
B52: LONG / LONG RAW | C52: -- | I52: TO_LOB
B53: CLOB, NCLOB, BLOB | C53: TO_CHAR | I53: TO_CLOB
C54: TO_NCHAR | I54: TO_NCLOB
B55: CLOB, NCLOB, BLOB | C55: TO_CHAR | I55: TO_CLOB
C56: TO_NCHAR | I56: TO_NCLOB
B57: BINARY_FLOAT | C57: TO_CHAR (char.) | D57: TO_NUMBER | J57: TO_BINARY_FLOAT | K57: TO_BINARY_DOUBLE
C58: TO_NCHAR (char.)
B59: BINARY_DOUBLE | C59: TO_CHAR (char.) | D59: TO_NUMBER | J59: TO_BINARY_FLOAT | K59: TO_BINARY_DOUBLE
C60: TO_NCHAR (char.)

Sheet MySQL implicit types
C2: integer | D2: float | E2: decimal | F2: string | G2: date | H2: time | I2: datetime | J2: timestamp | K2: boolean | L2: binary
B3: integer | C3: 1 | D3: 1 | E3: 1 | I3: 1 | J3: 1 | L3: 1
B4: float | D4: 1
B5: decimal | D5: 1 | E5: 1
B6: string | D6: 1 | F6: 1 | G6: 1 | H6: 1 | I6: 1 | J6: 1 | T6: =C2 -> integer | U6: =D2 -> float | V6: =E2 -> decimal | W6: =F2 -> string | X6: =G2 -> date | Y6: =H2 -> time | Z6: =I2 -> datetime | AA6: =J2 -> timestamp | ... AC6: =L2 -> binary
B7: date | G7: 1 | H7: 1 | I7: 1 | J7: 1 | S7: =B3 -> integer | T7: =C3 -> 1 | U7: =D3 -> 1 | V7: =E3 -> 1 | W7: =F3 -> 0 | X7: =G3 -> 0 | Y7: =H3 -> 0 | Z7: =I3 -> 1 | ... AC7: =L3 -> 1
B8: time | C8: 1 | D8: 1 | E8: 1 | G8: 1 | H8: 1 | I8: 1 | J8: 1 | S8: =B4 -> float | T8: =C4 -> 0 | U8: =D4 -> 1 | V8: =E4 -> 0 | W8: =F4 -> 0 | X8: =G4 -> 0 | Y8: =H4 -> 0 | Z8: =I4 -> 0 | ... AC8: =L4 -> 0
B9: datetime | C9: 1 | D9: 1 | E9: 1 | G9: 1 | H9: 1 | I9: 1 | S9: =B5 -> decimal | T9: =C5 -> 0 | U9: =D5 -> 1 | V9: =E5 -> 1 | W9: =F5 -> 0 | X9: =G5 -> 0 | Y9: =H5 -> 0 | Z9: =I5 -> 0 | ... AC9: =L5 -> 0
B10: timestamp | G10: 1 | H10: 1 | J10: 1 | S10: =B6 -> string | T10: =C6 -> 0 | U10: =D6 -> 1 | V10: =E6 -> 0 | W10: =F6 -> 1 | X10: =G6 -> 1 | Y10: =H6 -> 1 | Z10: =I6 -> 1 | ... AC10: =L6 -> 0
B11: boolean | K11: 1 | S11: =B7 -> date | T11: =C7 -> 0 | U11: =D7 -> 0 | V11: =E7 -> 0 | W11: =F7 -> 0 | X11: =G7 -> 1 | Y11: =H7 -> 1 | Z11: =I7 -> 1 | ... AC11: =L7 -> 0
B12: binary | L12: 1 | S12: =B8 -> time | T12: =C8 -> 1 | U12: =D8 -> 1 | V12: =E8 -> 1 | W12: =F8 -> 0 | X12: =G8 -> 1 | Y12: =H8 -> 1 | Z12: =I8 -> 1 | ... AC12: =L8 -> 0
S13: =B9 -> datetime | T13: =C9 -> 1 | U13: =D9 -> 1 | V13: =E9 -> 1 | W13: =F9 -> 0 | X13: =G9 -> 1 | Y13: =H9 -> 1 | Z13: =I9 -> 1 | ... AC13: =L9 -> 0
S14: =B10 -> timestamp | T14: =C10 -> 0 | U14: =D10 -> 0 | V14: =E10 -> 0 | W14: =F10 -> 0 | X14: =G10 -> 1 | Y14: =H10 -> 1 | Z14: =I10 -> 0 | ... AC14: =L10 -> 0
S15: =B11 -> boolean | T15: =C11 -> 0 | U15: =D11 -> 0 | V15: =E11 -> 0 | W15: =F11 -> 0 | X15: =G11 -> 0 | Y15: =H11 -> 0 | Z15: =I11 -> 0 | ... AC15: =L11 -> 0
S16: =B12 -> binary | T16: =C12 -> 0 | U16: =D12 -> 0 | V16: =E12 -> 0 | W16: =F12 -> 0 | X16: =G12 -> 0 | Y16: =H12 -> 0 | Z16: =I12 -> 0 | ... AC16: =L12 -> 1
B23: https://dev.mysql.com/doc/refman/8.0/en/type-conversion.html
B24: https://dev.mysql.com/doc/refman/8.0/en/date-and-time-type-conversion.html
